BEGIN:VCALENDAR
VERSION:2.0
PRODID:-//波士頓華人查經班 - ECPv5.16.4.1//NONSGML v1.0//EN
CALSCALE:GREGORIAN
METHOD:PUBLISH
X-WR-CALNAME:波士頓華人查經班
X-ORIGINAL-URL:https://bcbsg.org
X-WR-CALDESC:Events for 波士頓華人查經班
REFRESH-INTERVAL;VALUE=DURATION:PT1H
X-Robots-Tag:noindex
X-PUBLISHED-TTL:PT1H
BEGIN:VTIMEZONE
TZID:America/New_York
BEGIN:DAYLIGHT
TZOFFSETFROM:-0500
TZOFFSETTO:-0400
TZNAME:EDT
DTSTART:20260308T070000
END:DAYLIGHT
BEGIN:STANDARD
TZOFFSETFROM:-0400
TZOFFSETTO:-0500
TZNAME:EST
DTSTART:20261101T060000
END:STANDARD
END:VTIMEZONE
BEGIN:VEVENT
DTSTART;TZID=America/New_York:20260424T193000
DTEND;TZID=America/New_York:20260424T223000
DTSTAMP:20260423T105016
CREATED:20260102T212736Z
LAST-MODIFIED:20260102T212736Z
UID:28018-1777059000-1777069800@bcbsg.org
SUMMARY:Bible Study - in person & online
DESCRIPTION:週五晚上7:30\n學習希伯來書10:11-14 \n信徒組實體聚會，福音組hybrid聚會。 \n歡迎加入我們！ \n“我們不致消滅，是出於耶和華諸般的慈愛，是因他的憐憫不至斷絕。每早晨這都是新的，你的誠實極其廣大。我心裡說：「耶和華是我的份，因此我要仰望他。」”（耶利米哀歌‬ ‭3:22-24‬）
URL:https://bcbsg.org/event/bible-study-in-person-online-59/
CATEGORIES:Bible Study
END:VEVENT
BEGIN:VEVENT
DTSTART;TZID=America/New_York:20260501T193000
DTEND;TZID=America/New_York:20260501T223000
DTSTAMP:20260423T105016
CREATED:20260102T213700Z
LAST-MODIFIED:20260102T213806Z
UID:28034-1777663800-1777674600@bcbsg.org
SUMMARY:Small Group Night
DESCRIPTION:本晚無聚會。請聯絡小組長參加小組活動。
URL:https://bcbsg.org/event/small-group-night-22/
CATEGORIES:Bible Study
END:VEVENT
BEGIN:VEVENT
DTSTART;TZID=America/New_York:20260508T193000
DTEND;TZID=America/New_York:20260508T223000
DTSTAMP:20260423T105016
CREATED:20260102T212832Z
LAST-MODIFIED:20260102T212832Z
UID:28020-1778268600-1778279400@bcbsg.org
SUMMARY:Bible Study - in person & online
DESCRIPTION:週五晚上7:30\n學習希伯來書10:15-18 \n信徒組實體聚會，福音組hybrid聚會。 \n歡迎加入我們！ \n“我們不致消滅，是出於耶和華諸般的慈愛，是因他的憐憫不至斷絕。每早晨這都是新的，你的誠實極其廣大。我心裡說：「耶和華是我的份，因此我要仰望他。」”（耶利米哀歌‬ ‭3:22-24‬）
URL:https://bcbsg.org/event/bible-study-in-person-online-60/
CATEGORIES:Bible Study
END:VEVENT
BEGIN:VEVENT
DTSTART;TZID=America/New_York:20260515T193000
DTEND;TZID=America/New_York:20260515T223000
DTSTAMP:20260423T105016
CREATED:20260102T212933Z
LAST-MODIFIED:20260102T212933Z
UID:28022-1778873400-1778884200@bcbsg.org
SUMMARY:Bible Study - in person & online
DESCRIPTION:週五晚上7:30\n學習希伯來書10:19-21 \n信徒組實體聚會，福音組hybrid聚會。 \n歡迎加入我們！ \n“我們不致消滅，是出於耶和華諸般的慈愛，是因他的憐憫不至斷絕。每早晨這都是新的，你的誠實極其廣大。我心裡說：「耶和華是我的份，因此我要仰望他。」”（耶利米哀歌‬ ‭3:22-24‬）
URL:https://bcbsg.org/event/bible-study-in-person-online-61/
CATEGORIES:Bible Study
END:VEVENT
BEGIN:VEVENT
DTSTART;TZID=America/New_York:20260522T193000
DTEND;TZID=America/New_York:20260522T223000
DTSTAMP:20260423T105016
CREATED:20260102T213056Z
LAST-MODIFIED:20260102T213056Z
UID:28024-1779478200-1779489000@bcbsg.org
SUMMARY:Bible Study - in person & online
DESCRIPTION:週五晚上7:30\n學習希伯來書10:22-25(I) \n信徒組實體聚會，福音組hybrid聚會。 \n歡迎加入我們！ \n“我們不致消滅，是出於耶和華諸般的慈愛，是因他的憐憫不至斷絕。每早晨這都是新的，你的誠實極其廣大。我心裡說：「耶和華是我的份，因此我要仰望他。」”（耶利米哀歌‬ ‭3:22-24‬）
URL:https://bcbsg.org/event/bible-study-in-person-online-62/
CATEGORIES:Bible Study
END:VEVENT
BEGIN:VEVENT
DTSTART;TZID=America/New_York:20260529T073000
DTEND;TZID=America/New_York:20260529T223000
DTSTAMP:20260423T105016
CREATED:20260102T213903Z
LAST-MODIFIED:20260102T213903Z
UID:28036-1780039800-1780093800@bcbsg.org
SUMMARY:Small Group Night
DESCRIPTION:本晚無聚會。請聯絡小組長參加小組活動。
URL:https://bcbsg.org/event/small-group-night-23/
CATEGORIES:Bible Study
END:VEVENT
BEGIN:VEVENT
DTSTART;TZID=America/New_York:20260605T193000
DTEND;TZID=America/New_York:20260605T223000
DTSTAMP:20260423T105016
CREATED:20260102T213150Z
LAST-MODIFIED:20260102T213150Z
UID:28026-1780687800-1780698600@bcbsg.org
SUMMARY:Bible Study - in person & online
DESCRIPTION:週五晚上7:30\n學習希伯來書10:22-25(II) \n信徒組實體聚會，福音組hybrid聚會。 \n歡迎加入我們！ \n“我們不致消滅，是出於耶和華諸般的慈愛，是因他的憐憫不至斷絕。每早晨這都是新的，你的誠實極其廣大。我心裡說：「耶和華是我的份，因此我要仰望他。」”（耶利米哀歌‬ ‭3:22-24‬）
URL:https://bcbsg.org/event/bible-study-in-person-online-63/
CATEGORIES:Bible Study
END:VEVENT
END:VCALENDAR