BEGIN:VCALENDAR
VERSION:2.0
PRODID:-//波士頓華人查經班 - ECPv5.16.4.1//NONSGML v1.0//EN
CALSCALE:GREGORIAN
METHOD:PUBLISH
X-ORIGINAL-URL:https://bcbsg.org
X-WR-CALDESC:Events for 波士頓華人查經班
REFRESH-INTERVAL;VALUE=DURATION:PT1H
X-Robots-Tag:noindex
X-PUBLISHED-TTL:PT1H
BEGIN:VTIMEZONE
TZID:America/New_York
BEGIN:DAYLIGHT
TZOFFSETFROM:-0500
TZOFFSETTO:-0400
TZNAME:EDT
DTSTART:20230312T070000
END:DAYLIGHT
BEGIN:STANDARD
TZOFFSETFROM:-0400
TZOFFSETTO:-0500
TZNAME:EST
DTSTART:20231105T060000
END:STANDARD
BEGIN:DAYLIGHT
TZOFFSETFROM:-0500
TZOFFSETTO:-0400
TZNAME:EDT
DTSTART:20240310T070000
END:DAYLIGHT
BEGIN:STANDARD
TZOFFSETFROM:-0400
TZOFFSETTO:-0500
TZNAME:EST
DTSTART:20241103T060000
END:STANDARD
END:VTIMEZONE
BEGIN:VEVENT
DTSTART;TZID=America/New_York:20240705T193000
DTEND;TZID=America/New_York:20240705T223000
DTSTAMP:20260424T035332
CREATED:20240605T160435Z
LAST-MODIFIED:20240605T160435Z
UID:27731-1720207800-1720218600@bcbsg.org
SUMMARY:Summer Book Study - in person & online
DESCRIPTION:週五晚上7:30\n信徒組實體聚會，討論重松謙(Ken Shigematsu)的《不忙碌的門徒》(God in my everything: how an ancient rhythm helps busy people enjoy God) \n福音組hybrid聚會，討論學習福音視頻 \n歡迎加入我們！ \n“我們不致消滅，是出於耶和華諸般的慈愛，是因他的憐憫不至斷絕。每早晨這都是新的，你的誠實極其廣大。我心裡說：「耶和華是我的份，因此我要仰望他。」”（耶利米哀歌‬ ‭3:22-24‬）
URL:https://bcbsg.org/event/summer-book-study-in-person-online-3/
CATEGORIES:Bible Study
END:VEVENT
BEGIN:VEVENT
DTSTART;TZID=America/New_York:20240628T193000
DTEND;TZID=America/New_York:20240628T223000
DTSTAMP:20260424T035332
CREATED:20240605T180258Z
LAST-MODIFIED:20240605T180258Z
UID:27744-1719603000-1719613800@bcbsg.org
SUMMARY:Small Group Night
DESCRIPTION:本晚無聚會。請聯絡小組長參加小組活動。
URL:https://bcbsg.org/event/small-group-night-7/
CATEGORIES:Bible Study
END:VEVENT
BEGIN:VEVENT
DTSTART;TZID=America/New_York:20240621T193000
DTEND;TZID=America/New_York:20240621T223000
DTSTAMP:20260424T035332
CREATED:20240605T160259Z
LAST-MODIFIED:20240605T160259Z
UID:27729-1718998200-1719009000@bcbsg.org
SUMMARY:Summer Book Study - in person & online
DESCRIPTION:週五晚上7:30\n信徒組實體聚會，討論重松謙(Ken Shigematsu)的《不忙碌的門徒》(God in my everything: how an ancient rhythm helps busy people enjoy God) \n福音組hybrid聚會，討論學習福音視頻 \n歡迎加入我們！ \n“我們不致消滅，是出於耶和華諸般的慈愛，是因他的憐憫不至斷絕。每早晨這都是新的，你的誠實極其廣大。我心裡說：「耶和華是我的份，因此我要仰望他。」”（耶利米哀歌‬ ‭3:22-24‬）
URL:https://bcbsg.org/event/summer-book-study-in-person-online-2/
CATEGORIES:Bible Study
END:VEVENT
BEGIN:VEVENT
DTSTART;TZID=America/New_York:20240614T193000
DTEND;TZID=America/New_York:20240614T223000
DTSTAMP:20260424T035332
CREATED:20240708T034055Z
LAST-MODIFIED:20240708T034055Z
UID:27775-1718393400-1718404200@bcbsg.org
SUMMARY:Summer Book Study - in person & online
DESCRIPTION:週五晚上7:30\n信徒組實體聚會，討論重松謙(Ken Shigematsu)的《不忙碌的門徒》(God in my everything: how an ancient rhythm helps busy people enjoy God) \n福音組hybrid聚會，討論學習福音視頻 \n歡迎加入我們！ \n“我們不致消滅，是出於耶和華諸般的慈愛，是因他的憐憫不至斷絕。每早晨這都是新的，你的誠實極其廣大。我心裡說：「耶和華是我的份，因此我要仰望他。」”（耶利米哀歌‬ ‭3:22-24‬）
URL:https://bcbsg.org/event/summer-book-study-in-person-online-11/
CATEGORIES:Bible Study
END:VEVENT
BEGIN:VEVENT
DTSTART;TZID=America/New_York:20240609T140000
DTEND;TZID=America/New_York:20240609T173000
DTSTAMP:20260424T035332
CREATED:20240606T012905Z
LAST-MODIFIED:20240606T012905Z
UID:27752-1717941600-1717954200@bcbsg.org
SUMMARY:Monthly Prayer Meeting
DESCRIPTION:Shuai will lead this prayer meetingock; width: 0px; overflow: hidden; line-height: 0;” class=”mce_SELRES_start”>
URL:https://bcbsg.org/event/monthly-prayer-meeting-5/
CATEGORIES:Monthly Prayer Meeting
END:VEVENT
BEGIN:VEVENT
DTSTART;TZID=America/New_York:20240607T193000
DTEND;TZID=America/New_York:20240607T223000
DTSTAMP:20260424T035332
CREATED:20240605T155341Z
LAST-MODIFIED:20240605T160154Z
UID:27725-1717788600-1717799400@bcbsg.org
SUMMARY:Summer Book Study - in person & online
DESCRIPTION:週五晚上7:30\n信徒組實體聚會，討論重松謙(Ken Shigematsu)的《不忙碌的門徒》(God in my everything: how an ancient rhythm helps busy people enjoy God) \n福音組hybrid聚會，討論學習福音視頻 \n歡迎加入我們！ \n“我們不致消滅，是出於耶和華諸般的慈愛，是因他的憐憫不至斷絕。每早晨這都是新的，你的誠實極其廣大。我心裡說：「耶和華是我的份，因此我要仰望他。」”（耶利米哀歌‬ ‭3:22-24‬）
URL:https://bcbsg.org/event/summer-book-study-in-person-online/
CATEGORIES:Bible Study
END:VEVENT
BEGIN:VEVENT
DTSTART;TZID=America/New_York:20240531T193000
DTEND;TZID=America/New_York:20240531T223000
DTSTAMP:20260424T035332
CREATED:20240108T053505Z
LAST-MODIFIED:20240108T053505Z
UID:27682-1717183800-1717194600@bcbsg.org
SUMMARY:Small Group Night
DESCRIPTION:本晚無聚會。請聯絡小組長參加小組活動。
URL:https://bcbsg.org/event/small-group-night-6/
CATEGORIES:Bible Study
END:VEVENT
BEGIN:VEVENT
DTSTART;TZID=America/New_York:20240524T193000
DTEND;TZID=America/New_York:20240524T223000
DTSTAMP:20260424T035332
CREATED:20240217T061953Z
LAST-MODIFIED:20240217T061953Z
UID:27715-1716579000-1716589800@bcbsg.org
SUMMARY:Bible Study (05/24) - in person & online
DESCRIPTION:週五晚上7:30\n查考希伯來書(2:17-18) \n信徒組實體聚會，福音組hybrid聚會。 \n歡迎加入我們！ \n“我們不致消滅，是出於耶和華諸般的慈愛，是因他的憐憫不至斷絕。每早晨這都是新的，你的誠實極其廣大。我心裡說：「耶和華是我的份，因此我要仰望他。」”（耶利米哀歌‬ ‭3:22-24‬）
URL:https://bcbsg.org/event/bible-study-05-24-in-person-online/
CATEGORIES:Bible Study
END:VEVENT
BEGIN:VEVENT
DTSTART;TZID=America/New_York:20240517T193000
DTEND;TZID=America/New_York:20240517T223000
DTSTAMP:20260424T035332
CREATED:20240217T061830Z
LAST-MODIFIED:20240217T061830Z
UID:27713-1715974200-1715985000@bcbsg.org
SUMMARY:Bible Study (05/17) - in person & online
DESCRIPTION:週五晚上7:30\n查考希伯來書(2:14-16) \n信徒組實體聚會，福音組hybrid聚會。 \n歡迎加入我們！ \n“我們不致消滅，是出於耶和華諸般的慈愛，是因他的憐憫不至斷絕。每早晨這都是新的，你的誠實極其廣大。我心裡說：「耶和華是我的份，因此我要仰望他。」”（耶利米哀歌‬ ‭3:22-24‬）
URL:https://bcbsg.org/event/bible-study-05-17-in-person-online/
CATEGORIES:Bible Study
END:VEVENT
BEGIN:VEVENT
DTSTART;TZID=America/New_York:20240510T193000
DTEND;TZID=America/New_York:20240510T223000
DTSTAMP:20260424T035332
CREATED:20240217T061708Z
LAST-MODIFIED:20240217T061708Z
UID:27711-1715369400-1715380200@bcbsg.org
SUMMARY:Bible Study (05/10) - in person & online
DESCRIPTION:週五晚上7:30\n查考希伯來書(2:11-13) \n信徒組實體聚會，福音組hybrid聚會。 \n歡迎加入我們！ \n“我們不致消滅，是出於耶和華諸般的慈愛，是因他的憐憫不至斷絕。每早晨這都是新的，你的誠實極其廣大。我心裡說：「耶和華是我的份，因此我要仰望他。」”（耶利米哀歌‬ ‭3:22-24‬）
URL:https://bcbsg.org/event/bible-study-05-10-in-person-online/
CATEGORIES:Bible Study
END:VEVENT
BEGIN:VEVENT
DTSTART;TZID=America/New_York:20240503T193000
DTEND;TZID=America/New_York:20240503T223000
DTSTAMP:20260424T035332
CREATED:20240217T061542Z
LAST-MODIFIED:20240217T061542Z
UID:27709-1714764600-1714775400@bcbsg.org
SUMMARY:Bible Study (05/03) - in person & online
DESCRIPTION:週五晚上7:30\n查考希伯來書(2:10) \n信徒組實體聚會，福音組hybrid聚會。 \n歡迎加入我們！ \n“我們不致消滅，是出於耶和華諸般的慈愛，是因他的憐憫不至斷絕。每早晨這都是新的，你的誠實極其廣大。我心裡說：「耶和華是我的份，因此我要仰望他。」”（耶利米哀歌‬ ‭3:22-24‬）
URL:https://bcbsg.org/event/bible-study-05-03-in-person-online/
CATEGORIES:Bible Study
END:VEVENT
BEGIN:VEVENT
DTSTART;TZID=America/New_York:20240426T193000
DTEND;TZID=America/New_York:20240426T223000
DTSTAMP:20260424T035332
CREATED:20240108T053502Z
LAST-MODIFIED:20240108T053502Z
UID:27683-1714159800-1714170600@bcbsg.org
SUMMARY:Small Group Night
DESCRIPTION:本晚無聚會。請聯絡小組長參加小組活動。
URL:https://bcbsg.org/event/small-group-night-5/
CATEGORIES:Bible Study
END:VEVENT
BEGIN:VEVENT
DTSTART;TZID=America/New_York:20240419T193000
DTEND;TZID=America/New_York:20240419T223000
DTSTAMP:20260424T035332
CREATED:20240217T061434Z
LAST-MODIFIED:20240217T061434Z
UID:27707-1713555000-1713565800@bcbsg.org
SUMMARY:Bible Study (04/19) - in person & online
DESCRIPTION:週五晚上7:30\n查考希伯來書(2:5-9) \n信徒組實體聚會，福音組hybrid聚會。 \n歡迎加入我們！ \n“我們不致消滅，是出於耶和華諸般的慈愛，是因他的憐憫不至斷絕。每早晨這都是新的，你的誠實極其廣大。我心裡說：「耶和華是我的份，因此我要仰望他。」”（耶利米哀歌‬ ‭3:22-24‬）
URL:https://bcbsg.org/event/bible-study-04-19-in-person-online/
CATEGORIES:Bible Study
END:VEVENT
BEGIN:VEVENT
DTSTART;TZID=America/New_York:20240412T193000
DTEND;TZID=America/New_York:20240412T223000
DTSTAMP:20260424T035332
CREATED:20240217T061325Z
LAST-MODIFIED:20240217T061325Z
UID:27705-1712950200-1712961000@bcbsg.org
SUMMARY:Bible Study (04/12) - in person & online
DESCRIPTION:週五晚上7:30\n查考希伯來書(2:1-4) \n信徒組實體聚會，福音組hybrid聚會。 \n歡迎加入我們！ \n“我們不致消滅，是出於耶和華諸般的慈愛，是因他的憐憫不至斷絕。每早晨這都是新的，你的誠實極其廣大。我心裡說：「耶和華是我的份，因此我要仰望他。」”（耶利米哀歌‬ ‭3:22-24‬）
URL:https://bcbsg.org/event/bible-study-04-12-in-person-online/
CATEGORIES:Bible Study
END:VEVENT
BEGIN:VEVENT
DTSTART;TZID=America/New_York:20240405T193000
DTEND;TZID=America/New_York:20240405T223000
DTSTAMP:20260424T035332
CREATED:20240217T061144Z
LAST-MODIFIED:20240217T061144Z
UID:27703-1712345400-1712356200@bcbsg.org
SUMMARY:Bible Study (04/05) - in person & online
DESCRIPTION:週五晚上7:30\n查考希伯來書(1:13-14) \n信徒組實體聚會，福音組hybrid聚會。 \n歡迎加入我們！ \n“我們不致消滅，是出於耶和華諸般的慈愛，是因他的憐憫不至斷絕。每早晨這都是新的，你的誠實極其廣大。我心裡說：「耶和華是我的份，因此我要仰望他。」”（耶利米哀歌‬ ‭3:22-24‬）
URL:https://bcbsg.org/event/bible-study-04-05-in-person-online/
CATEGORIES:Bible Study
END:VEVENT
BEGIN:VEVENT
DTSTART;TZID=America/New_York:20240329T193000
DTEND;TZID=America/New_York:20240329T223000
DTSTAMP:20260424T035332
CREATED:20240108T053759Z
LAST-MODIFIED:20240326T222123Z
UID:27686-1711740600-1711751400@bcbsg.org
SUMMARY:復活節特別活動 (03/29)
DESCRIPTION:週五晚上7:30\n我們將舉行復活節特別活動 \n歡迎加入我們！ \n“我們不致消滅，是出於耶和華諸般的慈愛，是因他的憐憫不至斷絕。每早晨這都是新的，你的誠實極其廣大。我心裡說：「耶和華是我的份，因此我要仰望他。」”（耶利米哀歌‬ ‭3:22-24‬）
URL:https://bcbsg.org/event/%e5%be%a9%e6%b4%bb%e7%af%80%e7%89%b9%e5%88%a5%e6%b4%bb%e5%8b%95-03-29/
CATEGORIES:Bible Study
ATTACH;FMTTYPE=image/jpeg:https://bcbsg.org/wp-content/uploads/2024/03/EasterPoster24_V2jpg-scaled.jpeg
END:VEVENT
BEGIN:VEVENT
DTSTART;TZID=America/New_York:20240322T193000
DTEND;TZID=America/New_York:20240322T223000
DTSTAMP:20260424T035332
CREATED:20240217T061048Z
LAST-MODIFIED:20240217T061048Z
UID:27701-1711135800-1711146600@bcbsg.org
SUMMARY:Bible Study (03/22) - in person & online
DESCRIPTION:週五晚上7:30\n查考希伯來書(1:7-12) \n信徒組實體聚會，福音組hybrid聚會。 \n歡迎加入我們！ \n“我們不致消滅，是出於耶和華諸般的慈愛，是因他的憐憫不至斷絕。每早晨這都是新的，你的誠實極其廣大。我心裡說：「耶和華是我的份，因此我要仰望他。」”（耶利米哀歌‬ ‭3:22-24‬）
URL:https://bcbsg.org/event/bible-study-03-22-in-person-online/
CATEGORIES:Bible Study
END:VEVENT
BEGIN:VEVENT
DTSTART;TZID=America/New_York:20240315T193000
DTEND;TZID=America/New_York:20240315T223000
DTSTAMP:20260424T035332
CREATED:20240217T060941Z
LAST-MODIFIED:20240217T060941Z
UID:27699-1710531000-1710541800@bcbsg.org
SUMMARY:Bible Study (03/15) - in person & online
DESCRIPTION:週五晚上7:30\n查考希伯來書(1:5-6) \n信徒組實體聚會，福音組hybrid聚會。 \n歡迎加入我們！ \n“我們不致消滅，是出於耶和華諸般的慈愛，是因他的憐憫不至斷絕。每早晨這都是新的，你的誠實極其廣大。我心裡說：「耶和華是我的份，因此我要仰望他。」”（耶利米哀歌‬ ‭3:22-24‬）
URL:https://bcbsg.org/event/bible-study-03-15-in-person-online/
CATEGORIES:Bible Study
END:VEVENT
BEGIN:VEVENT
DTSTART;TZID=America/New_York:20240308T193000
DTEND;TZID=America/New_York:20240308T223000
DTSTAMP:20260424T035332
CREATED:20240217T060835Z
LAST-MODIFIED:20240217T060835Z
UID:27697-1709926200-1709937000@bcbsg.org
SUMMARY:Bible Study (03/08) - in person & online
DESCRIPTION:週五晚上7:30\n查考希伯來書(1:3b-4) \n信徒組實體聚會，福音組hybrid聚會。 \n歡迎加入我們！ \n“我們不致消滅，是出於耶和華諸般的慈愛，是因他的憐憫不至斷絕。每早晨這都是新的，你的誠實極其廣大。我心裡說：「耶和華是我的份，因此我要仰望他。」”（耶利米哀歌‬ ‭3:22-24‬）
URL:https://bcbsg.org/event/bible-study-03-08-in-person-online/
CATEGORIES:Bible Study
END:VEVENT
BEGIN:VEVENT
DTSTART;TZID=America/New_York:20240301T193000
DTEND;TZID=America/New_York:20240301T223000
DTSTAMP:20260424T035332
CREATED:20240217T060732Z
LAST-MODIFIED:20240217T060732Z
UID:27695-1709321400-1709332200@bcbsg.org
SUMMARY:Bible Study (03/01) - in person & online
DESCRIPTION:週五晚上7:30\n查考希伯來書(1:2b-3a) \n信徒組實體聚會，福音組hybrid聚會。 \n歡迎加入我們！ \n“我們不致消滅，是出於耶和華諸般的慈愛，是因他的憐憫不至斷絕。每早晨這都是新的，你的誠實極其廣大。我心裡說：「耶和華是我的份，因此我要仰望他。」”（耶利米哀歌‬ ‭3:22-24‬）
URL:https://bcbsg.org/event/bible-study-03-01-in-person-online/
CATEGORIES:Bible Study
END:VEVENT
BEGIN:VEVENT
DTSTART;TZID=America/New_York:20240223T193000
DTEND;TZID=America/New_York:20240223T223000
DTSTAMP:20260424T035332
CREATED:20240216T204624Z
LAST-MODIFIED:20240216T204738Z
UID:27690-1708716600-1708727400@bcbsg.org
SUMMARY:Bible Study (02/23) - in person & online
DESCRIPTION:週五晚上7:30\n查考希伯來書(1:1-2a) \n信徒組實體聚會，福音組hybrid聚會。 \n歡迎加入我們！ \n“我們不致消滅，是出於耶和華諸般的慈愛，是因他的憐憫不至斷絕。每早晨這都是新的，你的誠實極其廣大。我心裡說：「耶和華是我的份，因此我要仰望他。」”（耶利米哀歌‬ ‭3:22-24‬）
URL:https://bcbsg.org/event/bible-study-02-23-in-person-online/
CATEGORIES:Bible Study
END:VEVENT
BEGIN:VEVENT
DTSTART;TZID=America/New_York:20240216T193000
DTEND;TZID=America/New_York:20240216T223000
DTSTAMP:20260424T035332
CREATED:20240108T053946Z
LAST-MODIFIED:20240108T053946Z
UID:27688-1708111800-1708122600@bcbsg.org
SUMMARY:Bible Study (02/16) - in person & online
DESCRIPTION:週五晚上7:30\n希伯來書簡介 \n信徒組實體聚會，福音組hybrid聚會。 \n歡迎加入我們！ \n“我們不致消滅，是出於耶和華諸般的慈愛，是因他的憐憫不至斷絕。每早晨這都是新的，你的誠實極其廣大。我心裡說：「耶和華是我的份，因此我要仰望他。」”（耶利米哀歌‬ ‭3:22-24‬）
URL:https://bcbsg.org/event/bible-study-02-16-in-person-online/
CATEGORIES:Bible Study
END:VEVENT
BEGIN:VEVENT
DTSTART;TZID=America/New_York:20240209T193000
DTEND;TZID=America/New_York:20240209T223000
DTSTAMP:20260424T035332
CREATED:20240108T053318Z
LAST-MODIFIED:20240108T053318Z
UID:27680-1707507000-1707517800@bcbsg.org
SUMMARY:Small Group Night
DESCRIPTION:本晚無聚會。請聯絡小組長參加小組活動。
URL:https://bcbsg.org/event/small-group-night-4/
CATEGORIES:Bible Study
END:VEVENT
BEGIN:VEVENT
DTSTART;TZID=America/New_York:20240202T193000
DTEND;TZID=America/New_York:20240202T223000
DTSTAMP:20260424T035332
CREATED:20240108T053127Z
LAST-MODIFIED:20240108T053127Z
UID:27676-1706902200-1706913000@bcbsg.org
SUMMARY:Bible Study (02/02) - in person & online
DESCRIPTION:週五晚上7:30\n復習使徒行傳(21:1-28:31) \n信徒組實體聚會，福音組hybrid聚會。 \n歡迎加入我們！ \n“我們不致消滅，是出於耶和華諸般的慈愛，是因他的憐憫不至斷絕。每早晨這都是新的，你的誠實極其廣大。我心裡說：「耶和華是我的份，因此我要仰望他。」”（耶利米哀歌‬ ‭3:22-24‬）
URL:https://bcbsg.org/event/bible-study-02-02-in-person-online/
CATEGORIES:Bible Study
END:VEVENT
BEGIN:VEVENT
DTSTART;TZID=America/New_York:20240126T193000
DTEND;TZID=America/New_York:20240126T223000
DTSTAMP:20260424T035332
CREATED:20240108T053016Z
LAST-MODIFIED:20240108T053016Z
UID:27674-1706297400-1706308200@bcbsg.org
SUMMARY:Bible Study (01/25) - in person & online
DESCRIPTION:週五晚上7:30\n復習使徒行傳(9:1-20:38) \n信徒組實體聚會，福音組hybrid聚會。 \n歡迎加入我們！ \n“我們不致消滅，是出於耶和華諸般的慈愛，是因他的憐憫不至斷絕。每早晨這都是新的，你的誠實極其廣大。我心裡說：「耶和華是我的份，因此我要仰望他。」”（耶利米哀歌‬ ‭3:22-24‬）
URL:https://bcbsg.org/event/bible-study-01-25-in-person-online/
CATEGORIES:Bible Study
END:VEVENT
BEGIN:VEVENT
DTSTART;TZID=America/New_York:20240119T193000
DTEND;TZID=America/New_York:20240119T223000
DTSTAMP:20260424T035332
CREATED:20240108T053216Z
LAST-MODIFIED:20240108T053216Z
UID:27678-1705692600-1705703400@bcbsg.org
SUMMARY:Small Group Night
DESCRIPTION:本晚無聚會。請聯絡小組長參加小組活動。
URL:https://bcbsg.org/event/small-group-night-3/
CATEGORIES:Bible Study
END:VEVENT
BEGIN:VEVENT
DTSTART;TZID=America/New_York:20240114T140000
DTEND;TZID=America/New_York:20240114T170000
DTSTAMP:20260424T035332
CREATED:20230914T014451Z
LAST-MODIFIED:20240108T052533Z
UID:27638-1705240800-1705251600@bcbsg.org
SUMMARY:Monthly Prayer Meeting
DESCRIPTION:Han-Ting will lead this prayer meetingock; width: 0px; overflow: hidden; line-height: 0;” class=”mce_SELRES_start”>
URL:https://bcbsg.org/event/monthly-prayer-meeting/
CATEGORIES:Monthly Prayer Meeting
END:VEVENT
BEGIN:VEVENT
DTSTART;TZID=America/New_York:20240112T193000
DTEND;TZID=America/New_York:20240112T223000
DTSTAMP:20260424T035332
CREATED:20240108T052830Z
LAST-MODIFIED:20240108T052830Z
UID:27670-1705087800-1705098600@bcbsg.org
SUMMARY:Bible Study (01/12) - in person & online
DESCRIPTION:週五晚上7:30\n復習使徒行傳(1:1-8:25) \n信徒組實體聚會，福音組hybrid聚會。 \n歡迎加入我們！ \n“我們不致消滅，是出於耶和華諸般的慈愛，是因他的憐憫不至斷絕。每早晨這都是新的，你的誠實極其廣大。我心裡說：「耶和華是我的份，因此我要仰望他。」”（耶利米哀歌‬ ‭3:22-24‬）
URL:https://bcbsg.org/event/bible-study-01-12-in-person-online/
CATEGORIES:Bible Study
END:VEVENT
BEGIN:VEVENT
DTSTART;TZID=America/New_York:20240105T193000
DTEND;TZID=America/New_York:20240105T223000
DTSTAMP:20260424T035332
CREATED:20230914T013708Z
LAST-MODIFIED:20230914T013708Z
UID:27633-1704483000-1704493800@bcbsg.org
SUMMARY:Bible Study (01/05) - in person & online
DESCRIPTION:週五晚上7:30\n查考使徒行傳(28:1-22) \n信徒組實體聚會，福音組hybrid聚會。 \n歡迎加入我們！ \n“我們不致消滅，是出於耶和華諸般的慈愛，是因他的憐憫不至斷絕。每早晨這都是新的，你的誠實極其廣大。我心裡說：「耶和華是我的份，因此我要仰望他。」”（耶利米哀歌‬ ‭3:22-24‬）
URL:https://bcbsg.org/event/bible-study-01-05-in-person-online/
CATEGORIES:Bible Study
END:VEVENT
BEGIN:VEVENT
DTSTART;TZID=America/New_York:20231229T193000
DTEND;TZID=America/New_York:20231229T223000
DTSTAMP:20260424T035332
CREATED:20230914T015221Z
LAST-MODIFIED:20230914T015256Z
UID:27650-1703878200-1703889000@bcbsg.org
SUMMARY:Winter Recess
DESCRIPTION:Winter Recess. No Bible study this week.\nHappy New Year!
URL:https://bcbsg.org/event/winter-recess/
CATEGORIES:Bible Study
END:VEVENT
END:VCALENDAR