BEGIN:VCALENDAR
VERSION:2.0
PRODID:-//波士頓華人查經班 - ECPv5.16.4.1//NONSGML v1.0//EN
CALSCALE:GREGORIAN
METHOD:PUBLISH
X-ORIGINAL-URL:https://bcbsg.org
X-WR-CALDESC:Events for 波士頓華人查經班
REFRESH-INTERVAL;VALUE=DURATION:PT1H
X-Robots-Tag:noindex
X-PUBLISHED-TTL:PT1H
BEGIN:VTIMEZONE
TZID:America/New_York
BEGIN:DAYLIGHT
TZOFFSETFROM:-0500
TZOFFSETTO:-0400
TZNAME:EDT
DTSTART:20230312T070000
END:DAYLIGHT
BEGIN:STANDARD
TZOFFSETFROM:-0400
TZOFFSETTO:-0500
TZNAME:EST
DTSTART:20231105T060000
END:STANDARD
END:VTIMEZONE
BEGIN:VEVENT
DTSTART;TZID=America/New_York:20231222T193000
DTEND;TZID=America/New_York:20231222T223000
DTSTAMP:20260424T085637
CREATED:20230914T015357Z
LAST-MODIFIED:20231217T044300Z
UID:27652-1703273400-1703284200@bcbsg.org
SUMMARY:聖誕節特別活動
DESCRIPTION:週五晚上7:30\n我們將舉行聖誕節特別活動 \n歡迎加入我們！ \n“我們不致消滅，是出於耶和華諸般的慈愛；是因他的憐憫不致斷絕。每早晨，這都是新的；你的誠實極其廣大！我心裏說：耶和華是我的分，因此，我要仰望他。” (‭耶利米哀歌‬ ‭3:22-24‬)
URL:https://bcbsg.org/event/%e8%81%96%e8%aa%95%e7%af%80%e7%89%b9%e5%88%a5%e6%b4%bb%e5%8b%95/
CATEGORIES:Bible Study
ATTACH;FMTTYPE=image/jpeg:https://bcbsg.org/wp-content/uploads/2023/09/BCBSG-Christmas-Party-2023.jpg
END:VEVENT
BEGIN:VEVENT
DTSTART;TZID=America/New_York:20231215T193000
DTEND;TZID=America/New_York:20231215T223000
DTSTAMP:20260424T085637
CREATED:20230914T013615Z
LAST-MODIFIED:20230914T013615Z
UID:27631-1702668600-1702679400@bcbsg.org
SUMMARY:Bible Study (12/15) - in person & online
DESCRIPTION:週五晚上7:30\n查考使徒行傳(28:1-22) \n信徒組實體聚會，福音組hybrid聚會。 \n歡迎加入我們！ \n“我們不致消滅，是出於耶和華諸般的慈愛，是因他的憐憫不至斷絕。每早晨這都是新的，你的誠實極其廣大。我心裡說：「耶和華是我的份，因此我要仰望他。」”（耶利米哀歌‬ ‭3:22-24‬）
URL:https://bcbsg.org/event/bible-study-12-15-in-person-online/
CATEGORIES:Bible Study
END:VEVENT
BEGIN:VEVENT
DTSTART;TZID=America/New_York:20231208T193000
DTEND;TZID=America/New_York:20231208T223000
DTSTAMP:20260424T085637
CREATED:20230914T013451Z
LAST-MODIFIED:20230914T013451Z
UID:27628-1702063800-1702074600@bcbsg.org
SUMMARY:Bible Study (12/08) - in person & online
DESCRIPTION:週五晚上7:30\n查考使徒行傳(27:27-44) \n信徒組實體聚會，福音組hybrid聚會。 \n歡迎加入我們！ \n“我們不致消滅，是出於耶和華諸般的慈愛，是因他的憐憫不至斷絕。每早晨這都是新的，你的誠實極其廣大。我心裡說：「耶和華是我的份，因此我要仰望他。」”（耶利米哀歌‬ ‭3:22-24‬）
URL:https://bcbsg.org/event/bible-study-12-08-in-person-online/
CATEGORIES:Bible Study
END:VEVENT
BEGIN:VEVENT
DTSTART;TZID=America/New_York:20231203T133000
DTEND;TZID=America/New_York:20231203T170000
DTSTAMP:20260424T085637
CREATED:20230914T014819Z
LAST-MODIFIED:20230914T014819Z
UID:27645-1701610200-1701622800@bcbsg.org
SUMMARY:Monthly Prayer Meeting
DESCRIPTION:Emily will lead this prayer meetingock; width: 0px; overflow: hidden; line-height: 0;” class=”mce_SELRES_start”>
URL:https://bcbsg.org/event/monthly-prayer-meeting-4/
CATEGORIES:Monthly Prayer Meeting
END:VEVENT
BEGIN:VEVENT
DTSTART;TZID=America/New_York:20231201T193000
DTEND;TZID=America/New_York:20231201T223000
DTSTAMP:20260424T085637
CREATED:20230914T013353Z
LAST-MODIFIED:20230914T013512Z
UID:27626-1701459000-1701469800@bcbsg.org
SUMMARY:Bible Study (12/01) - in person & online
DESCRIPTION:週五晚上7:30\n查考使徒行傳(27:1-26) \n信徒組實體聚會，福音組hybrid聚會。 \n歡迎加入我們！ \n“我們不致消滅，是出於耶和華諸般的慈愛，是因他的憐憫不至斷絕。每早晨這都是新的，你的誠實極其廣大。我心裡說：「耶和華是我的份，因此我要仰望他。」”（耶利米哀歌‬ ‭3:22-24‬）
URL:https://bcbsg.org/event/bible-study-12-01-in-person-online/
CATEGORIES:Bible Study
END:VEVENT
BEGIN:VEVENT
DTSTART;TZID=America/New_York:20231124T193000
DTEND;TZID=America/New_York:20231124T223000
DTSTAMP:20260424T085637
CREATED:20230914T014039Z
LAST-MODIFIED:20230914T014954Z
UID:27636-1700854200-1700865000@bcbsg.org
SUMMARY:Small Group Night
DESCRIPTION:本晚無聚會。請聯絡小組長參加小組活動。
URL:https://bcbsg.org/event/small-group-night-11-24/
CATEGORIES:Bible Study
END:VEVENT
BEGIN:VEVENT
DTSTART;TZID=America/New_York:20231117T193000
DTEND;TZID=America/New_York:20231117T223000
DTSTAMP:20260424T085637
CREATED:20230914T013251Z
LAST-MODIFIED:20230914T013251Z
UID:27624-1700249400-1700260200@bcbsg.org
SUMMARY:Bible Study (11/17) - in person & online
DESCRIPTION:週五晚上7:30\n查考使徒行傳(26:19-32) \n信徒組實體聚會，福音組hybrid聚會。 \n歡迎加入我們！ \n“我們不致消滅，是出於耶和華諸般的慈愛，是因他的憐憫不至斷絕。每早晨這都是新的，你的誠實極其廣大。我心裡說：「耶和華是我的份，因此我要仰望他。」”（耶利米哀歌‬ ‭3:22-24‬）
URL:https://bcbsg.org/event/bible-study-11-17-in-person-online/
CATEGORIES:Bible Study
END:VEVENT
BEGIN:VEVENT
DTSTART;TZID=America/New_York:20231110T193000
DTEND;TZID=America/New_York:20231110T223000
DTSTAMP:20260424T085637
CREATED:20230914T013148Z
LAST-MODIFIED:20230914T013148Z
UID:27622-1699644600-1699655400@bcbsg.org
SUMMARY:Bible Study (11/10) - in person & online
DESCRIPTION:週五晚上7:30\n查考使徒行傳(26:12-18) \n信徒組實體聚會，福音組hybrid聚會。 \n歡迎加入我們！ \n“我們不致消滅，是出於耶和華諸般的慈愛，是因他的憐憫不至斷絕。每早晨這都是新的，你的誠實極其廣大。我心裡說：「耶和華是我的份，因此我要仰望他。」”（耶利米哀歌‬ ‭3:22-24‬）
URL:https://bcbsg.org/event/bible-study-11-10-in-person-online/
CATEGORIES:Bible Study
END:VEVENT
BEGIN:VEVENT
DTSTART;TZID=America/New_York:20231105T133000
DTEND;TZID=America/New_York:20231105T170000
DTSTAMP:20260424T085637
CREATED:20230914T014648Z
LAST-MODIFIED:20230914T014728Z
UID:27642-1699191000-1699203600@bcbsg.org
SUMMARY:Monthly Prayer Meeting
DESCRIPTION:Mengjia will lead this prayer meetingock; width: 0px; overflow: hidden; line-height: 0;” class=”mce_SELRES_start”>
URL:https://bcbsg.org/event/monthly-prayer-meeting-3/
CATEGORIES:Monthly Prayer Meeting
END:VEVENT
BEGIN:VEVENT
DTSTART;TZID=America/New_York:20231103T193000
DTEND;TZID=America/New_York:20231103T223000
DTSTAMP:20260424T085637
CREATED:20230914T013045Z
LAST-MODIFIED:20230914T013045Z
UID:27620-1699039800-1699050600@bcbsg.org
SUMMARY:Bible Study (11/03) - in person & online
DESCRIPTION:週五晚上7:30\n查考使徒行傳(26:1-11) \n信徒組實體聚會，福音組hybrid聚會。 \n歡迎加入我們！ \n“我們不致消滅，是出於耶和華諸般的慈愛，是因他的憐憫不至斷絕。每早晨這都是新的，你的誠實極其廣大。我心裡說：「耶和華是我的份，因此我要仰望他。」”（耶利米哀歌‬ ‭3:22-24‬）
URL:https://bcbsg.org/event/bible-study-11-03-in-person-online/
CATEGORIES:Bible Study
END:VEVENT
BEGIN:VEVENT
DTSTART;TZID=America/New_York:20231027T193000
DTEND;TZID=America/New_York:20231027T223000
DTSTAMP:20260424T085637
CREATED:20230914T012945Z
LAST-MODIFIED:20230914T012945Z
UID:27618-1698435000-1698445800@bcbsg.org
SUMMARY:Bible Study (10/27) - in person & online
DESCRIPTION:週五晚上7:30\n查考使徒行傳(25:13-27) \n信徒組實體聚會，福音組hybrid聚會。 \n歡迎加入我們！ \n“我們不致消滅，是出於耶和華諸般的慈愛，是因他的憐憫不至斷絕。每早晨這都是新的，你的誠實極其廣大。我心裡說：「耶和華是我的份，因此我要仰望他。」”（耶利米哀歌‬ ‭3:22-24‬）
URL:https://bcbsg.org/event/bible-study-10-27-in-person-online/
CATEGORIES:Bible Study
END:VEVENT
BEGIN:VEVENT
DTSTART;TZID=America/New_York:20231021T193000
DTEND;TZID=America/New_York:20231021T223000
DTSTAMP:20260424T085637
CREATED:20230914T015046Z
LAST-MODIFIED:20230914T015046Z
UID:27648-1697916600-1697927400@bcbsg.org
SUMMARY:Small Group Night
DESCRIPTION:本晚無聚會。請聯絡小組長參加小組活動。
URL:https://bcbsg.org/event/small-group-night-2/
CATEGORIES:Bible Study
END:VEVENT
BEGIN:VEVENT
DTSTART;TZID=America/New_York:20231013T193000
DTEND;TZID=America/New_York:20231013T223000
DTSTAMP:20260424T085637
CREATED:20230914T012837Z
LAST-MODIFIED:20230914T012837Z
UID:27616-1697225400-1697236200@bcbsg.org
SUMMARY:Bible Study (10/13) - in person & online
DESCRIPTION:週五晚上7:30\n查考使徒行傳(25:1-12) \n信徒組實體聚會，福音組hybrid聚會。 \n歡迎加入我們！ \n“我們不致消滅，是出於耶和華諸般的慈愛，是因他的憐憫不至斷絕。每早晨這都是新的，你的誠實極其廣大。我心裡說：「耶和華是我的份，因此我要仰望他。」”（耶利米哀歌‬ ‭3:22-24‬）
URL:https://bcbsg.org/event/bible-study-10-13-in-person-online/
CATEGORIES:Bible Study
END:VEVENT
BEGIN:VEVENT
DTSTART;TZID=America/New_York:20231006T193000
DTEND;TZID=America/New_York:20231006T223000
DTSTAMP:20260424T085637
CREATED:20230914T012723Z
LAST-MODIFIED:20230914T012723Z
UID:27614-1696620600-1696631400@bcbsg.org
SUMMARY:Bible Study (10/06) - in person & online
DESCRIPTION:週五晚上7:30\n查考使徒行傳(24:17-27) \n信徒組實體聚會，福音組hybrid聚會。 \n歡迎加入我們！ \n“我們不致消滅，是出於耶和華諸般的慈愛，是因他的憐憫不至斷絕。每早晨這都是新的，你的誠實極其廣大。我心裡說：「耶和華是我的份，因此我要仰望他。」”（耶利米哀歌‬ ‭3:22-24‬）
URL:https://bcbsg.org/event/bible-study-10-06-in-person-online/
CATEGORIES:Bible Study
END:VEVENT
BEGIN:VEVENT
DTSTART;TZID=America/New_York:20231001T133000
DTEND;TZID=America/New_York:20231001T170000
DTSTAMP:20260424T085637
CREATED:20230914T014543Z
LAST-MODIFIED:20230914T014543Z
UID:27640-1696167000-1696179600@bcbsg.org
SUMMARY:Monthly Prayer Meeting
DESCRIPTION:Jenny will lead this prayer meetingock; width: 0px; overflow: hidden; line-height: 0;” class=”mce_SELRES_start”>
URL:https://bcbsg.org/event/monthly-prayer-meeting-2/
CATEGORIES:Monthly Prayer Meeting
END:VEVENT
BEGIN:VEVENT
DTSTART;TZID=America/New_York:20230929T193000
DTEND;TZID=America/New_York:20230929T223000
DTSTAMP:20260424T085637
CREATED:20230914T012539Z
LAST-MODIFIED:20230914T012539Z
UID:27612-1696015800-1696026600@bcbsg.org
SUMMARY:Bible Study (09/29) - in person & online
DESCRIPTION:週五晚上7:30\n查考使徒行傳(24:1-16) \n信徒組實體聚會，福音組hybrid聚會。 \n歡迎加入我們！ \n“我們不致消滅，是出於耶和華諸般的慈愛，是因他的憐憫不至斷絕。每早晨這都是新的，你的誠實極其廣大。我心裡說：「耶和華是我的份，因此我要仰望他。」”（耶利米哀歌‬ ‭3:22-24‬）
URL:https://bcbsg.org/event/bible-study-09-29-in-person-online/
CATEGORIES:Bible Study
END:VEVENT
BEGIN:VEVENT
DTSTART;TZID=America/New_York:20230922T193000
DTEND;TZID=America/New_York:20230922T223000
DTSTAMP:20260424T085637
CREATED:20230908T035742Z
LAST-MODIFIED:20230914T013928Z
UID:27602-1695411000-1695421800@bcbsg.org
SUMMARY:Bible Study (09/22) - in person & online
DESCRIPTION:週五晚上7:30\n查考使徒行傳(23:12-35) \n信徒組實體聚會，福音組hybrid聚會。 \n歡迎加入我們！ \n“我們不致消滅，是出於耶和華諸般的慈愛，是因他的憐憫不至斷絕。每早晨這都是新的，你的誠實極其廣大。我心裡說：「耶和華是我的份，因此我要仰望他。」”（耶利米哀歌‬ ‭3:22-24‬）
URL:https://bcbsg.org/event/bible-study-09-15-in-person-online-2/
CATEGORIES:Bible Study
END:VEVENT
BEGIN:VEVENT
DTSTART;TZID=America/New_York:20230915T193000
DTEND;TZID=America/New_York:20230915T223000
DTSTAMP:20260424T085637
CREATED:20230902T050904Z
LAST-MODIFIED:20230908T035816Z
UID:27599-1694806200-1694817000@bcbsg.org
SUMMARY:Bible Study (09/15) - in person & online
DESCRIPTION:週五晚上7:30\n復習使徒行傳 \n信徒組實體聚會，福音組hybrid聚會。 \n歡迎加入我們！ \n“我們不致消滅，是出於耶和華諸般的慈愛，是因他的憐憫不至斷絕。每早晨這都是新的，你的誠實極其廣大。我心裡說：「耶和華是我的份，因此我要仰望他。」”（耶利米哀歌‬ ‭3:22-24‬）
URL:https://bcbsg.org/event/bible-study-09-15-in-person-online/
CATEGORIES:Bible Study
END:VEVENT
BEGIN:VEVENT
DTSTART;TZID=America/New_York:20230909T160000
DTEND;TZID=America/New_York:20230909T210000
DTSTAMP:20260424T085637
CREATED:20230614T031958Z
LAST-MODIFIED:20230902T045548Z
UID:27558-1694275200-1694293200@bcbsg.org
SUMMARY:迎新活動 Welcoming Party (09/09)
DESCRIPTION:我們將於本週六舉辦迎新活動\, 歡迎大家屆時參加！
URL:https://bcbsg.org/event/%e8%bf%8e%e6%96%b0%e6%b4%bb%e5%8b%95-welcoming-party-09-08/
CATEGORIES:Bible Study
ATTACH;FMTTYPE=image/jpeg:https://bcbsg.org/wp-content/uploads/2023/09/Welcoming-Party-Flyer2023.jpg
END:VEVENT
BEGIN:VEVENT
DTSTART;TZID=America/New_York:20230903T133000
DTEND;TZID=America/New_York:20230903T170000
DTSTAMP:20260424T085637
CREATED:20230614T032328Z
LAST-MODIFIED:20230614T032328Z
UID:27564-1693747800-1693760400@bcbsg.org
SUMMARY:Monthly Prayer Meeting (09/03)
DESCRIPTION:Shuai will lead this prayer meetingock; width: 0px; overflow: hidden; line-height: 0;” class=”mce_SELRES_start”>
URL:https://bcbsg.org/event/monthly-prayer-meeting-09-03/
CATEGORIES:Monthly Prayer Meeting
END:VEVENT
BEGIN:VEVENT
DTSTART;TZID=America/New_York:20230901T193000
DTEND;TZID=America/New_York:20230901T223000
DTSTAMP:20260424T085637
CREATED:20230614T035004Z
LAST-MODIFIED:20230614T035004Z
UID:27591-1693596600-1693607400@bcbsg.org
SUMMARY:Summer Book Study (09/01) - in person & online
DESCRIPTION:週五晚上7:30\n信徒組實體聚會，討論書籍巴刻的《生命的重整》(Hot Tub Religion) \n福音組hybrid聚會，討論學習耶穌的故事 \n歡迎加入我們！ \n“我們不致消滅，是出於耶和華諸般的慈愛，是因他的憐憫不至斷絕。每早晨這都是新的，你的誠實極其廣大。我心裡說：「耶和華是我的份，因此我要仰望他。」”（耶利米哀歌‬ ‭3:22-24‬）
URL:https://bcbsg.org/event/summer-book-study-09-01-in-person-online/
CATEGORIES:Bible Study
END:VEVENT
BEGIN:VEVENT
DTSTART;TZID=America/New_York:20230825T193000
DTEND;TZID=America/New_York:20230825T223000
DTSTAMP:20260424T085637
CREATED:20230614T034927Z
LAST-MODIFIED:20230614T034927Z
UID:27589-1692991800-1693002600@bcbsg.org
SUMMARY:Summer Book Study (08/25) - in person & online
DESCRIPTION:週五晚上7:30\n信徒組實體聚會，討論書籍巴刻的《生命的重整》(Hot Tub Religion) \n福音組hybrid聚會，討論學習耶穌的故事 \n歡迎加入我們！ \n“我們不致消滅，是出於耶和華諸般的慈愛，是因他的憐憫不至斷絕。每早晨這都是新的，你的誠實極其廣大。我心裡說：「耶和華是我的份，因此我要仰望他。」”（耶利米哀歌‬ ‭3:22-24‬）
URL:https://bcbsg.org/event/summer-book-study-08-25-in-person-online/
CATEGORIES:Bible Study
END:VEVENT
BEGIN:VEVENT
DTSTART;TZID=America/New_York:20230818T193000
DTEND;TZID=America/New_York:20230818T223000
DTSTAMP:20260424T085637
CREATED:20230614T031827Z
LAST-MODIFIED:20230614T032013Z
UID:27556-1692387000-1692397800@bcbsg.org
SUMMARY:Small Group Night (08/18)
DESCRIPTION:本晚無聚會。請聯絡小組長參加小組活動。
URL:https://bcbsg.org/event/small-group-night-08-18/
CATEGORIES:Bible Study
END:VEVENT
BEGIN:VEVENT
DTSTART;TZID=America/New_York:20230811T193000
DTEND;TZID=America/New_York:20230811T223000
DTSTAMP:20260424T085637
CREATED:20230614T034844Z
LAST-MODIFIED:20230614T034844Z
UID:27587-1691782200-1691793000@bcbsg.org
SUMMARY:Summer Book Study (08/11) - in person & online
DESCRIPTION:週五晚上7:30\n信徒組實體聚會，討論書籍巴刻的《生命的重整》(Hot Tub Religion) \n福音組hybrid聚會，討論學習耶穌的故事 \n歡迎加入我們！ \n“我們不致消滅，是出於耶和華諸般的慈愛，是因他的憐憫不至斷絕。每早晨這都是新的，你的誠實極其廣大。我心裡說：「耶和華是我的份，因此我要仰望他。」”（耶利米哀歌‬ ‭3:22-24‬）
URL:https://bcbsg.org/event/summer-book-study-08-11-in-person-online/
CATEGORIES:Bible Study
END:VEVENT
BEGIN:VEVENT
DTSTART;TZID=America/New_York:20230806T133000
DTEND;TZID=America/New_York:20230806T170000
DTSTAMP:20260424T085637
CREATED:20230614T032233Z
LAST-MODIFIED:20230614T032233Z
UID:27562-1691328600-1691341200@bcbsg.org
SUMMARY:Monthly Prayer Meeting (08/06)
DESCRIPTION:Han-Ting will lead this prayer meetingock; width: 0px; overflow: hidden; line-height: 0;” class=”mce_SELRES_start”>
URL:https://bcbsg.org/event/monthly-prayer-meeting-08-06/
CATEGORIES:Monthly Prayer Meeting
END:VEVENT
BEGIN:VEVENT
DTSTART;TZID=America/New_York:20230804T193000
DTEND;TZID=America/New_York:20230804T223000
DTSTAMP:20260424T085637
CREATED:20230614T034807Z
LAST-MODIFIED:20230614T034807Z
UID:27585-1691177400-1691188200@bcbsg.org
SUMMARY:Summer Book Study (08/04) - in person & online
DESCRIPTION:週五晚上7:30\n信徒組實體聚會，討論書籍巴刻的《生命的重整》(Hot Tub Religion) \n福音組hybrid聚會，討論學習耶穌的故事 \n歡迎加入我們！ \n“我們不致消滅，是出於耶和華諸般的慈愛，是因他的憐憫不至斷絕。每早晨這都是新的，你的誠實極其廣大。我心裡說：「耶和華是我的份，因此我要仰望他。」”（耶利米哀歌‬ ‭3:22-24‬）
URL:https://bcbsg.org/event/summer-book-study-08-04-in-person-online/
CATEGORIES:Bible Study
END:VEVENT
BEGIN:VEVENT
DTSTART;TZID=America/New_York:20230728T193000
DTEND;TZID=America/New_York:20230728T223000
DTSTAMP:20260424T085637
CREATED:20230614T034725Z
LAST-MODIFIED:20230614T034725Z
UID:27583-1690572600-1690583400@bcbsg.org
SUMMARY:Summer Book Study (07/28) - in person & online
DESCRIPTION:週五晚上7:30\n信徒組實體聚會，討論書籍巴刻的《生命的重整》(Hot Tub Religion) \n福音組hybrid聚會，討論學習耶穌的故事 \n歡迎加入我們！ \n“我們不致消滅，是出於耶和華諸般的慈愛，是因他的憐憫不至斷絕。每早晨這都是新的，你的誠實極其廣大。我心裡說：「耶和華是我的份，因此我要仰望他。」”（耶利米哀歌‬ ‭3:22-24‬）
URL:https://bcbsg.org/event/summer-book-study-07-28-in-person-online/
CATEGORIES:Bible Study
END:VEVENT
BEGIN:VEVENT
DTSTART;TZID=America/New_York:20230721T193000
DTEND;TZID=America/New_York:20230721T223000
DTSTAMP:20260424T085637
CREATED:20230614T031701Z
LAST-MODIFIED:20230614T031701Z
UID:27554-1689967800-1689978600@bcbsg.org
SUMMARY:Small Group Night (07/21)
DESCRIPTION:本晚無聚會。請聯絡小組長參加小組活動。
URL:https://bcbsg.org/event/small-group-night-07-21/
CATEGORIES:Bible Study
END:VEVENT
BEGIN:VEVENT
DTSTART;TZID=America/New_York:20230714T193000
DTEND;TZID=America/New_York:20230714T223000
DTSTAMP:20260424T085637
CREATED:20230614T034638Z
LAST-MODIFIED:20230614T034638Z
UID:27581-1689363000-1689373800@bcbsg.org
SUMMARY:Summer Book Study (07/14) - in person & online
DESCRIPTION:週五晚上7:30\n信徒組實體聚會，討論書籍巴刻的《生命的重整》(Hot Tub Religion) \n福音組hybrid聚會，討論學習耶穌的故事 \n歡迎加入我們！ \n“我們不致消滅，是出於耶和華諸般的慈愛，是因他的憐憫不至斷絕。每早晨這都是新的，你的誠實極其廣大。我心裡說：「耶和華是我的份，因此我要仰望他。」”（耶利米哀歌‬ ‭3:22-24‬）
URL:https://bcbsg.org/event/summer-book-study-07-14-in-person-online/
CATEGORIES:Bible Study
END:VEVENT
BEGIN:VEVENT
DTSTART;TZID=America/New_York:20230707T193000
DTEND;TZID=America/New_York:20230707T223000
DTSTAMP:20260424T085637
CREATED:20230614T034550Z
LAST-MODIFIED:20230614T034550Z
UID:27579-1688758200-1688769000@bcbsg.org
SUMMARY:Summer Book Study (07/07) - in person & online
DESCRIPTION:週五晚上7:30\n信徒組實體聚會，討論書籍巴刻的《生命的重整》(Hot Tub Religion) \n福音組hybrid聚會，討論學習耶穌的故事 \n歡迎加入我們！ \n“我們不致消滅，是出於耶和華諸般的慈愛，是因他的憐憫不至斷絕。每早晨這都是新的，你的誠實極其廣大。我心裡說：「耶和華是我的份，因此我要仰望他。」”（耶利米哀歌‬ ‭3:22-24‬）
URL:https://bcbsg.org/event/summer-book-study-07-07-in-person-online/
CATEGORIES:Bible Study
END:VEVENT
END:VCALENDAR