BEGIN:VCALENDAR
VERSION:2.0
PRODID:-//波士頓華人查經班 - ECPv5.16.4.1//NONSGML v1.0//EN
CALSCALE:GREGORIAN
METHOD:PUBLISH
X-ORIGINAL-URL:https://bcbsg.org
X-WR-CALDESC:Events for 波士頓華人查經班
REFRESH-INTERVAL;VALUE=DURATION:PT1H
X-Robots-Tag:noindex
X-PUBLISHED-TTL:PT1H
BEGIN:VTIMEZONE
TZID:America/New_York
BEGIN:DAYLIGHT
TZOFFSETFROM:-0500
TZOFFSETTO:-0400
TZNAME:EDT
DTSTART:20230312T070000
END:DAYLIGHT
BEGIN:STANDARD
TZOFFSETFROM:-0400
TZOFFSETTO:-0500
TZNAME:EST
DTSTART:20231105T060000
END:STANDARD
END:VTIMEZONE
BEGIN:VEVENT
DTSTART;TZID=America/New_York:20230702T133000
DTEND;TZID=America/New_York:20230702T170000
DTSTAMP:20260424T134222
CREATED:20230614T032136Z
LAST-MODIFIED:20230614T032136Z
UID:27560-1688304600-1688317200@bcbsg.org
SUMMARY:Monthly Prayer Meeting (07/02)
DESCRIPTION:Emily will lead this prayer meetingock; width: 0px; overflow: hidden; line-height: 0;” class=”mce_SELRES_start”>
URL:https://bcbsg.org/event/monthly-prayer-meeting-07-02/
CATEGORIES:Monthly Prayer Meeting
END:VEVENT
BEGIN:VEVENT
DTSTART;TZID=America/New_York:20230630T193000
DTEND;TZID=America/New_York:20230630T223000
DTSTAMP:20260424T134222
CREATED:20230614T034451Z
LAST-MODIFIED:20230614T034451Z
UID:27577-1688153400-1688164200@bcbsg.org
SUMMARY:Summer Book Study (06/30) - in person & online
DESCRIPTION:週五晚上7:30\n信徒組實體聚會，討論書籍巴刻的《生命的重整》(Hot Tub Religion) \n福音組hybrid聚會，討論學習耶穌的故事 \n歡迎加入我們！ \n“我們不致消滅，是出於耶和華諸般的慈愛，是因他的憐憫不至斷絕。每早晨這都是新的，你的誠實極其廣大。我心裡說：「耶和華是我的份，因此我要仰望他。」”（耶利米哀歌‬ ‭3:22-24‬）
URL:https://bcbsg.org/event/summer-book-study-06-30-in-person-online/
CATEGORIES:Bible Study
END:VEVENT
BEGIN:VEVENT
DTSTART;TZID=America/New_York:20230623T193000
DTEND;TZID=America/New_York:20230623T193000
DTSTAMP:20260424T134222
CREATED:20230614T034400Z
LAST-MODIFIED:20230614T034400Z
UID:27575-1687548600-1687548600@bcbsg.org
SUMMARY:Summer Book Study (06/23) - in person & online
DESCRIPTION:週五晚上7:30\n信徒組實體聚會，討論書籍巴刻的《生命的重整》(Hot Tub Religion) \n福音組hybrid聚會，討論學習耶穌的故事 \n歡迎加入我們！ \n“我們不致消滅，是出於耶和華諸般的慈愛，是因他的憐憫不至斷絕。每早晨這都是新的，你的誠實極其廣大。我心裡說：「耶和華是我的份，因此我要仰望他。」”（耶利米哀歌‬ ‭3:22-24‬）
URL:https://bcbsg.org/event/summer-book-study-06-23-in-person-online/
CATEGORIES:Bible Study
END:VEVENT
BEGIN:VEVENT
DTSTART;TZID=America/New_York:20230616T193000
DTEND;TZID=America/New_York:20230616T223000
DTSTAMP:20260424T134222
CREATED:20230614T024526Z
LAST-MODIFIED:20230614T034227Z
UID:27550-1686943800-1686954600@bcbsg.org
SUMMARY:Summer Book Study (06/16) - in person & online
DESCRIPTION:週五晚上7:30\n信徒組實體聚會，討論書籍巴刻的《生命的重整》(Hot Tub Religion) \n福音組hybrid聚會，討論學習耶穌的故事 \n歡迎加入我們！ \n“我們不致消滅，是出於耶和華諸般的慈愛，是因他的憐憫不至斷絕。每早晨這都是新的，你的誠實極其廣大。我心裡說：「耶和華是我的份，因此我要仰望他。」”（耶利米哀歌‬ ‭3:22-24‬）
URL:https://bcbsg.org/event/summer-book-study-06-16-in-person-online/
CATEGORIES:Bible Study
END:VEVENT
BEGIN:VEVENT
DTSTART;TZID=America/New_York:20230609T193000
DTEND;TZID=America/New_York:20230609T223000
DTSTAMP:20260424T134222
CREATED:20230604T024103Z
LAST-MODIFIED:20230604T024103Z
UID:27548-1686339000-1686349800@bcbsg.org
SUMMARY:Small Group Night (06/09)
DESCRIPTION:本晚無聚會。請聯絡小組長參加小組活動。
URL:https://bcbsg.org/event/small-group-night-06-09/
CATEGORIES:Bible Study
END:VEVENT
BEGIN:VEVENT
DTSTART;TZID=America/New_York:20230604T133000
DTEND;TZID=America/New_York:20230604T170000
DTSTAMP:20260424T134222
CREATED:20230602T130211Z
LAST-MODIFIED:20230602T130211Z
UID:27541-1685885400-1685898000@bcbsg.org
SUMMARY:Monthly Prayer Meeting (06/04)
DESCRIPTION:Mengjia will lead this prayer meetingock; width: 0px; overflow: hidden; line-height: 0;” class=”mce_SELRES_start”>
URL:https://bcbsg.org/event/monthly-prayer-meeting-06-04/
CATEGORIES:Monthly Prayer Meeting
END:VEVENT
BEGIN:VEVENT
DTSTART;TZID=America/New_York:20230602T193000
DTEND;TZID=America/New_York:20230602T223000
DTSTAMP:20260424T134222
CREATED:20230123T054031Z
LAST-MODIFIED:20230521T043531Z
UID:27505-1685734200-1685745000@bcbsg.org
SUMMARY:Bible Study (06/02) - in person & online
DESCRIPTION:週五晚上7:30\n查考使徒行傳(22:30-23:11) Part 2 \n信徒組實體聚會，福音組hybrid聚會。 \n歡迎加入我們！ \n“我們不致消滅，是出於耶和華諸般的慈愛，是因他的憐憫不至斷絕。每早晨這都是新的，你的誠實極其廣大。我心裡說：「耶和華是我的份，因此我要仰望他。」”（耶利米哀歌‬ ‭3:22-24‬）
URL:https://bcbsg.org/event/bible-study-05-26-in-person-online/
CATEGORIES:Bible Study
END:VEVENT
BEGIN:VEVENT
DTSTART;TZID=America/New_York:20230526T193000
DTEND;TZID=America/New_York:20230526T223000
DTSTAMP:20260424T134222
CREATED:20230521T043635Z
LAST-MODIFIED:20230521T043635Z
UID:27533-1685129400-1685140200@bcbsg.org
SUMMARY:Bible Study (05/26) - in person & online
DESCRIPTION:週五晚上7:30\n查考使徒行傳(22:30-23:11) Part 1 \n信徒組實體聚會，福音組hybrid聚會。 \n歡迎加入我們！ \n“我們不致消滅，是出於耶和華諸般的慈愛，是因他的憐憫不至斷絕。每早晨這都是新的，你的誠實極其廣大。我心裡說：「耶和華是我的份，因此我要仰望他。」”（耶利米哀歌‬ ‭3:22-24‬）
URL:https://bcbsg.org/event/bible-study-05-26-in-person-online-2/
CATEGORIES:Bible Study
END:VEVENT
BEGIN:VEVENT
DTSTART;TZID=America/New_York:20230519T193000
DTEND;TZID=America/New_York:20230519T223000
DTSTAMP:20260424T134222
CREATED:20230123T053919Z
LAST-MODIFIED:20230123T053919Z
UID:27502-1684524600-1684535400@bcbsg.org
SUMMARY:Bible Study (05/19) - in person & online
DESCRIPTION:週五晚上7:30\n查考使徒行傳(22:17-29) \n信徒組實體聚會，福音組hybrid聚會。 \n歡迎加入我們！ \n“我們不致消滅，是出於耶和華諸般的慈愛，是因他的憐憫不至斷絕。每早晨這都是新的，你的誠實極其廣大。我心裡說：「耶和華是我的份，因此我要仰望他。」”（耶利米哀歌‬ ‭3:22-24‬）
URL:https://bcbsg.org/event/bible-study-05-19-in-person-online/
CATEGORIES:Bible Study
END:VEVENT
BEGIN:VEVENT
DTSTART;TZID=America/New_York:20230512T193000
DTEND;TZID=America/New_York:20230512T223000
DTSTAMP:20260424T134222
CREATED:20230123T052457Z
LAST-MODIFIED:20230316T022124Z
UID:27479-1683919800-1683930600@bcbsg.org
SUMMARY:Small Group Night (05/12)
DESCRIPTION:本晚無聚會。請聯絡小組長參加小組活動。
URL:https://bcbsg.org/event/small-group-night-05-12/
CATEGORIES:Bible Study
END:VEVENT
BEGIN:VEVENT
DTSTART;TZID=America/New_York:20230507T133000
DTEND;TZID=America/New_York:20230507T170000
DTSTAMP:20260424T134222
CREATED:20230123T054812Z
LAST-MODIFIED:20230123T055012Z
UID:27516-1683466200-1683478800@bcbsg.org
SUMMARY:Monthly Prayer Meeting (05/07)
DESCRIPTION:Jenny will lead this prayer meetingock; width: 0px; overflow: hidden; line-height: 0;” class=”mce_SELRES_start”>
URL:https://bcbsg.org/event/monthly-prayer-meeting-05-07/
CATEGORIES:Monthly Prayer Meeting
END:VEVENT
BEGIN:VEVENT
DTSTART;TZID=America/New_York:20230505T193000
DTEND;TZID=America/New_York:20230505T223000
DTSTAMP:20260424T134222
CREATED:20230123T053804Z
LAST-MODIFIED:20230123T053933Z
UID:27500-1683315000-1683325800@bcbsg.org
SUMMARY:Bible Study (05/05) - in person & online
DESCRIPTION:週五晚上7:30\n查考使徒行傳(22:6-16) \n信徒組實體聚會，福音組hybrid聚會。 \n歡迎加入我們！ \n“我們不致消滅，是出於耶和華諸般的慈愛，是因他的憐憫不至斷絕。每早晨這都是新的，你的誠實極其廣大。我心裡說：「耶和華是我的份，因此我要仰望他。」”（耶利米哀歌‬ ‭3:22-24‬）
URL:https://bcbsg.org/event/bible-study-05-05-in-person-online/
CATEGORIES:Bible Study
END:VEVENT
BEGIN:VEVENT
DTSTART;TZID=America/New_York:20230428T193000
DTEND;TZID=America/New_York:20230428T223000
DTSTAMP:20260424T134222
CREATED:20230123T053703Z
LAST-MODIFIED:20230123T053703Z
UID:27498-1682710200-1682721000@bcbsg.org
SUMMARY:Bible Study (04/28) - in person & online
DESCRIPTION:週五晚上7:30\n查考使徒行傳(21:37-22:5) \n信徒組實體聚會，福音組hybrid聚會。 \n歡迎加入我們！ \n“我們不致消滅，是出於耶和華諸般的慈愛，是因他的憐憫不至斷絕。每早晨這都是新的，你的誠實極其廣大。我心裡說：「耶和華是我的份，因此我要仰望他。」”（耶利米哀歌‬ ‭3:22-24‬）
URL:https://bcbsg.org/event/bible-study-04-28-in-person-online/
CATEGORIES:Bible Study
END:VEVENT
BEGIN:VEVENT
DTSTART;TZID=America/New_York:20230421T193000
DTEND;TZID=America/New_York:20230421T223000
DTSTAMP:20260424T134222
CREATED:20230123T053604Z
LAST-MODIFIED:20230123T053604Z
UID:27496-1682105400-1682116200@bcbsg.org
SUMMARY:Bible Study (04/21) - in person & online
DESCRIPTION:週五晚上7:30\n查考使徒行傳(21:27-36) \n信徒組實體聚會，福音組hybrid聚會。 \n歡迎加入我們！ \n“我們不致消滅，是出於耶和華諸般的慈愛，是因他的憐憫不至斷絕。每早晨這都是新的，你的誠實極其廣大。我心裡說：「耶和華是我的份，因此我要仰望他。」”（耶利米哀歌‬ ‭3:22-24‬）
URL:https://bcbsg.org/event/bible-study-04-21-in-person-online/
CATEGORIES:Bible Study
END:VEVENT
BEGIN:VEVENT
DTSTART;TZID=America/New_York:20230414T193000
DTEND;TZID=America/New_York:20230414T223000
DTSTAMP:20260424T134222
CREATED:20230123T053451Z
LAST-MODIFIED:20230123T053451Z
UID:27494-1681500600-1681511400@bcbsg.org
SUMMARY:Bible Study (04/14) - in person & online
DESCRIPTION:週五晚上7:30\n查考使徒行傳(21:15-26) \n信徒組實體聚會，福音組hybrid聚會。 \n歡迎加入我們！ \n“我們不致消滅，是出於耶和華諸般的慈愛，是因他的憐憫不至斷絕。每早晨這都是新的，你的誠實極其廣大。我心裡說：「耶和華是我的份，因此我要仰望他。」”（耶利米哀歌‬ ‭3:22-24‬）
URL:https://bcbsg.org/event/bible-study-04-14-in-person-online/
CATEGORIES:Bible Study
END:VEVENT
BEGIN:VEVENT
DTSTART;TZID=America/New_York:20230407T193000
DTEND;TZID=America/New_York:20230407T223000
DTSTAMP:20260424T134222
CREATED:20230123T052713Z
LAST-MODIFIED:20230331T002209Z
UID:27481-1680895800-1680906600@bcbsg.org
SUMMARY:復活節特別活動 (04/07)
DESCRIPTION:週五晚上7:30\n我們將舉行復活節特別活動 \n歡迎加入我們！ \n“我們不致消滅，是出於耶和華諸般的慈愛，是因他的憐憫不至斷絕。每早晨這都是新的，你的誠實極其廣大。我心裡說：「耶和華是我的份，因此我要仰望他。」”（耶利米哀歌‬ ‭3:22-24‬）
URL:https://bcbsg.org/event/%e5%be%a9%e6%b4%bb%e7%af%80%e7%89%b9%e5%88%a5%e6%b4%bb%e5%8b%95-04-17/
CATEGORIES:Bible Study
ATTACH;FMTTYPE=image/jpeg:https://bcbsg.org/wp-content/uploads/2023/03/Easter_Flyer_BCBSG_2023_Final.jpg
END:VEVENT
BEGIN:VEVENT
DTSTART;TZID=America/New_York:20230402T133000
DTEND;TZID=America/New_York:20230402T170000
DTSTAMP:20260424T134222
CREATED:20230123T054725Z
LAST-MODIFIED:20230123T054725Z
UID:27514-1680442200-1680454800@bcbsg.org
SUMMARY:Monthly Prayer Meeting (04/02)
DESCRIPTION:Yongfei will lead this prayer meetingock; width: 0px; overflow: hidden; line-height: 0;” class=”mce_SELRES_start”>
URL:https://bcbsg.org/event/monthly-prayer-meeting-04-02/
CATEGORIES:Monthly Prayer Meeting
END:VEVENT
BEGIN:VEVENT
DTSTART;TZID=America/New_York:20230331T193000
DTEND;TZID=America/New_York:20230331T223000
DTSTAMP:20260424T134222
CREATED:20230123T053347Z
LAST-MODIFIED:20230521T043407Z
UID:27492-1680291000-1680301800@bcbsg.org
SUMMARY:Bible Study (03/31) - in person & online
DESCRIPTION:週五晚上7:30\n查考使徒行傳(21:1-14) \n信徒組實體聚會，福音組hybrid聚會。 \n歡迎加入我們！ \n“我們不致消滅，是出於耶和華諸般的慈愛，是因他的憐憫不至斷絕。每早晨這都是新的，你的誠實極其廣大。我心裡說：「耶和華是我的份，因此我要仰望他。」”（耶利米哀歌‬ ‭3:22-24‬）
URL:https://bcbsg.org/event/bible-study-03-31-in-person-online/
CATEGORIES:Bible Study
END:VEVENT
BEGIN:VEVENT
DTSTART;TZID=America/New_York:20230324T193000
DTEND;TZID=America/New_York:20230324T223000
DTSTAMP:20260424T134222
CREATED:20230123T053245Z
LAST-MODIFIED:20230123T054255Z
UID:27490-1679686200-1679697000@bcbsg.org
SUMMARY:Bible Study (03/24) - in person & online
DESCRIPTION:週五晚上7:30\n查考使徒行傳(20:28-38) \n信徒組實體聚會，福音組hybrid聚會。 \n歡迎加入我們！ \n“我們不致消滅，是出於耶和華諸般的慈愛，是因他的憐憫不至斷絕。每早晨這都是新的，你的誠實極其廣大。我心裡說：「耶和華是我的份，因此我要仰望他。」”（耶利米哀歌‬ ‭3:22-24‬）
URL:https://bcbsg.org/event/bible-study-03-24-in-person-online/
CATEGORIES:Bible Study
END:VEVENT
BEGIN:VEVENT
DTSTART;TZID=America/New_York:20230317T193000
DTEND;TZID=America/New_York:20230317T223000
DTSTAMP:20260424T134222
CREATED:20230123T052343Z
LAST-MODIFIED:20230316T022050Z
UID:27477-1679081400-1679092200@bcbsg.org
SUMMARY:Small Group Night (03/17)
DESCRIPTION:本晚無聚會。請聯絡小組長參加小組活動。
URL:https://bcbsg.org/event/small-group-night-03-17/
CATEGORIES:Bible Study
END:VEVENT
BEGIN:VEVENT
DTSTART;TZID=America/New_York:20230310T193000
DTEND;TZID=America/New_York:20230310T223000
DTSTAMP:20260424T134222
CREATED:20230123T053148Z
LAST-MODIFIED:20230123T053148Z
UID:27488-1678476600-1678487400@bcbsg.org
SUMMARY:Bible Study (03/10) - in person & online
DESCRIPTION:週五晚上7:30\n查考使徒行傳(20:17-27) \n信徒組實體聚會，福音組hybrid聚會。 \n歡迎加入我們！ \n“我們不致消滅，是出於耶和華諸般的慈愛，是因他的憐憫不至斷絕。每早晨這都是新的，你的誠實極其廣大。我心裡說：「耶和華是我的份，因此我要仰望他。」”（耶利米哀歌‬ ‭3:22-24‬）
URL:https://bcbsg.org/event/bible-study-03-10-in-person-online/
CATEGORIES:Bible Study
END:VEVENT
BEGIN:VEVENT
DTSTART;TZID=America/New_York:20230305T133000
DTEND;TZID=America/New_York:20230305T170000
DTSTAMP:20260424T134222
CREATED:20230123T054628Z
LAST-MODIFIED:20230123T054628Z
UID:27512-1678023000-1678035600@bcbsg.org
SUMMARY:Monthly Prayer Meeting (03/05)
DESCRIPTION:Han-Ting will lead this prayer meetingock; width: 0px; overflow: hidden; line-height: 0;” class=”mce_SELRES_start”>
URL:https://bcbsg.org/event/monthly-prayer-meeting-03-05/
CATEGORIES:Monthly Prayer Meeting
END:VEVENT
BEGIN:VEVENT
DTSTART;TZID=America/New_York:20230303T193000
DTEND;TZID=America/New_York:20230303T223000
DTSTAMP:20260424T134222
CREATED:20230123T053039Z
LAST-MODIFIED:20230123T053039Z
UID:27486-1677871800-1677882600@bcbsg.org
SUMMARY:Bible Study (03/03) - in person & online
DESCRIPTION:週五晚上7:30\n查考使徒行傳(20:7-16) \n信徒組實體聚會，福音組hybrid聚會。 \n歡迎加入我們！ \n“我們不致消滅，是出於耶和華諸般的慈愛，是因他的憐憫不至斷絕。每早晨這都是新的，你的誠實極其廣大。我心裡說：「耶和華是我的份，因此我要仰望他。」”（耶利米哀歌‬ ‭3:22-24‬）
URL:https://bcbsg.org/event/bible-study-03-03-in-person-online/
CATEGORIES:Bible Study
END:VEVENT
BEGIN:VEVENT
DTSTART;TZID=America/New_York:20230224T193000
DTEND;TZID=America/New_York:20230224T223000
DTSTAMP:20260424T134222
CREATED:20230123T052942Z
LAST-MODIFIED:20230123T052942Z
UID:27484-1677267000-1677277800@bcbsg.org
SUMMARY:Bible Study (02/24) - in person & online
DESCRIPTION:週五晚上7:30\n查考使徒行傳(20:1-6) \n信徒組實體聚會，福音組hybrid聚會。 \n歡迎加入我們！ \n“我們不致消滅，是出於耶和華諸般的慈愛，是因他的憐憫不至斷絕。每早晨這都是新的，你的誠實極其廣大。我心裡說：「耶和華是我的份，因此我要仰望他。」”（耶利米哀歌‬ ‭3:22-24‬）
URL:https://bcbsg.org/event/bible-study-02-24-in-person-online/
CATEGORIES:Bible Study
END:VEVENT
BEGIN:VEVENT
DTSTART;TZID=America/New_York:20230217T193000
DTEND;TZID=America/New_York:20230217T223000
DTSTAMP:20260424T134222
CREATED:20230123T052232Z
LAST-MODIFIED:20230123T052232Z
UID:27475-1676662200-1676673000@bcbsg.org
SUMMARY:Small Group Night (02/17)
DESCRIPTION:本晚無聚會。周六小組活動，請聯絡小組長參加活動。
URL:https://bcbsg.org/event/small-group-night-02-17/
CATEGORIES:Bible Study
END:VEVENT
BEGIN:VEVENT
DTSTART;TZID=America/New_York:20230210T193000
DTEND;TZID=America/New_York:20230210T223000
DTSTAMP:20260424T134222
CREATED:20230123T052121Z
LAST-MODIFIED:20230123T052121Z
UID:27473-1676057400-1676068200@bcbsg.org
SUMMARY:Bible Study (02/10) - in person & online
DESCRIPTION:週五晚上7:30\n查考使徒行傳(19:30-41) \n信徒組實體聚會，福音組hybrid聚會。 \n歡迎加入我們！ \n“我們不致消滅，是出於耶和華諸般的慈愛，是因他的憐憫不至斷絕。每早晨這都是新的，你的誠實極其廣大。我心裡說：「耶和華是我的份，因此我要仰望他。」”（耶利米哀歌‬ ‭3:22-24‬）
URL:https://bcbsg.org/event/bible-study-02-10-in-person-online/
CATEGORIES:Bible Study
END:VEVENT
BEGIN:VEVENT
DTSTART;TZID=America/New_York:20230205T133000
DTEND;TZID=America/New_York:20230205T170000
DTSTAMP:20260424T134222
CREATED:20230123T054540Z
LAST-MODIFIED:20230123T054540Z
UID:27510-1675603800-1675616400@bcbsg.org
SUMMARY:Monthly Prayer Meeting (02/05)
DESCRIPTION:Emily will lead this prayer meetingock; width: 0px; overflow: hidden; line-height: 0;” class=”mce_SELRES_start”>
URL:https://bcbsg.org/event/monthly-prayer-meeting-02-05/
CATEGORIES:Monthly Prayer Meeting
END:VEVENT
BEGIN:VEVENT
DTSTART;TZID=America/New_York:20230203T193000
DTEND;TZID=America/New_York:20230203T223000
DTSTAMP:20260424T134222
CREATED:20230113T022333Z
LAST-MODIFIED:20230113T022333Z
UID:27463-1675452600-1675463400@bcbsg.org
SUMMARY:Bible Study (02/03) - in person & online
DESCRIPTION:週五晚上7:30\n查考使徒行傳(19:21-29) \n信徒組實體聚會，福音組hybrid聚會。 \n歡迎加入我們！ \n“我們不致消滅，是出於耶和華諸般的慈愛，是因他的憐憫不至斷絕。每早晨這都是新的，你的誠實極其廣大。我心裡說：「耶和華是我的份，因此我要仰望他。」”（耶利米哀歌‬ ‭3:22-24‬）
URL:https://bcbsg.org/event/bible-study-02-03-in-person-online/
CATEGORIES:Bible Study
END:VEVENT
BEGIN:VEVENT
DTSTART;TZID=America/New_York:20230127T193000
DTEND;TZID=America/New_York:20230127T223000
DTSTAMP:20260424T134222
CREATED:20230113T022508Z
LAST-MODIFIED:20230123T054133Z
UID:27464-1674847800-1674858600@bcbsg.org
SUMMARY:Bible Study (01/27) - in person & online
DESCRIPTION:週五晚上7:30\n查考使徒行傳(19:8-20) \n信徒組實體聚會，福音組hybrid聚會。 \n歡迎加入我們！ \n“我們不致消滅，是出於耶和華諸般的慈愛，是因他的憐憫不至斷絕。每早晨這都是新的，你的誠實極其廣大。我心裡說：「耶和華是我的份，因此我要仰望他。」”（耶利米哀歌‬ ‭3:22-24‬）
URL:https://bcbsg.org/event/bible-study-01-13-in-person-online-2/
CATEGORIES:Bible Study
END:VEVENT
BEGIN:VEVENT
DTSTART;TZID=America/New_York:20230120T193000
DTEND;TZID=America/New_York:20230120T223000
DTSTAMP:20260424T134222
CREATED:20230113T022751Z
LAST-MODIFIED:20230113T023035Z
UID:27467-1674243000-1674253800@bcbsg.org
SUMMARY:Small Group Night (01/20)
DESCRIPTION:本晚無聚會。周六小組活動，請聯絡小組長參加活動。
URL:https://bcbsg.org/event/small-group-night-01-20/
CATEGORIES:Bible Study
END:VEVENT
END:VCALENDAR