BEGIN:VCALENDAR
VERSION:2.0
PRODID:-//波士頓華人查經班 - ECPv5.16.4.1//NONSGML v1.0//EN
CALSCALE:GREGORIAN
METHOD:PUBLISH
X-WR-CALNAME:波士頓華人查經班
X-ORIGINAL-URL:https://bcbsg.org
X-WR-CALDESC:Events for 波士頓華人查經班
REFRESH-INTERVAL;VALUE=DURATION:PT1H
X-Robots-Tag:noindex
X-PUBLISHED-TTL:PT1H
BEGIN:VTIMEZONE
TZID:America/New_York
BEGIN:DAYLIGHT
TZOFFSETFROM:-0500
TZOFFSETTO:-0400
TZNAME:EDT
DTSTART:20250309T070000
END:DAYLIGHT
BEGIN:STANDARD
TZOFFSETFROM:-0400
TZOFFSETTO:-0500
TZNAME:EST
DTSTART:20251102T060000
END:STANDARD
BEGIN:DAYLIGHT
TZOFFSETFROM:-0500
TZOFFSETTO:-0400
TZNAME:EDT
DTSTART:20260308T070000
END:DAYLIGHT
BEGIN:STANDARD
TZOFFSETFROM:-0400
TZOFFSETTO:-0500
TZNAME:EST
DTSTART:20261101T060000
END:STANDARD
END:VTIMEZONE
BEGIN:VEVENT
DTSTART;TZID=America/New_York:20260206T193000
DTEND;TZID=America/New_York:20260206T223000
DTSTAMP:20260423T140059
CREATED:20260102T211816Z
LAST-MODIFIED:20260102T212145Z
UID:28004-1770406200-1770417000@bcbsg.org
SUMMARY:Bible Study - in person & online
DESCRIPTION:週五晚上7:30\n學習希伯來書9:6-10 \n信徒組實體聚會，福音組hybrid聚會。 \n歡迎加入我們！ \n“我們不致消滅，是出於耶和華諸般的慈愛，是因他的憐憫不至斷絕。每早晨這都是新的，你的誠實極其廣大。我心裡說：「耶和華是我的份，因此我要仰望他。」”（耶利米哀歌‬ ‭3:22-24‬）
URL:https://bcbsg.org/event/bible-study-in-person-online-53/
CATEGORIES:Bible Study
END:VEVENT
BEGIN:VEVENT
DTSTART;TZID=America/New_York:20260130T193000
DTEND;TZID=America/New_York:20260130T223000
DTSTAMP:20260423T140059
CREATED:20260102T211315Z
LAST-MODIFIED:20260102T211315Z
UID:27993-1769801400-1769812200@bcbsg.org
SUMMARY:Bible Study - in person & online
DESCRIPTION:週五晚上7:30\n學習希伯來書9:1-5 \n信徒組實體聚會，福音組hybrid聚會。 \n歡迎加入我們！ \n“我們不致消滅，是出於耶和華諸般的慈愛，是因他的憐憫不至斷絕。每早晨這都是新的，你的誠實極其廣大。我心裡說：「耶和華是我的份，因此我要仰望他。」”（耶利米哀歌‬ ‭3:22-24‬）
URL:https://bcbsg.org/event/bible-study-in-person-online-51/
CATEGORIES:Bible Study
END:VEVENT
BEGIN:VEVENT
DTSTART;TZID=America/New_York:20260123T193000
DTEND;TZID=America/New_York:20260123T223000
DTSTAMP:20260423T140059
CREATED:20260102T211613Z
LAST-MODIFIED:20260102T213517Z
UID:27999-1769196600-1769207400@bcbsg.org
SUMMARY:Small Group Night
DESCRIPTION:本晚無聚會。請聯絡小組長參加小組活動。
URL:https://bcbsg.org/event/27999/
CATEGORIES:Bible Study
END:VEVENT
BEGIN:VEVENT
DTSTART;TZID=America/New_York:20260116T193000
DTEND;TZID=America/New_York:20260116T223000
DTSTAMP:20260423T140059
CREATED:20251103T060709Z
LAST-MODIFIED:20260102T211143Z
UID:27979-1768591800-1768602600@bcbsg.org
SUMMARY:Bible Study - in person & online
DESCRIPTION:週五晚上7:30\n學習希伯來書8:7-13(II) \n信徒組實體聚會，福音組hybrid聚會。 \n歡迎加入我們！ \n“我們不致消滅，是出於耶和華諸般的慈愛，是因他的憐憫不至斷絕。每早晨這都是新的，你的誠實極其廣大。我心裡說：「耶和華是我的份，因此我要仰望他。」”（耶利米哀歌‬ ‭3:22-24‬）
URL:https://bcbsg.org/event/bible-study-in-person-online-49/
CATEGORIES:Bible Study
END:VEVENT
BEGIN:VEVENT
DTSTART;TZID=America/New_York:20260109T193000
DTEND;TZID=America/New_York:20260109T223000
DTSTAMP:20260423T140059
CREATED:20260102T211203Z
LAST-MODIFIED:20260102T211203Z
UID:27991-1767987000-1767997800@bcbsg.org
SUMMARY:Bible Study - in person & online
DESCRIPTION:週五晚上7:30\n學習希伯來書8:7-13(I) \n信徒組實體聚會，福音組hybrid聚會。 \n歡迎加入我們！ \n“我們不致消滅，是出於耶和華諸般的慈愛，是因他的憐憫不至斷絕。每早晨這都是新的，你的誠實極其廣大。我心裡說：「耶和華是我的份，因此我要仰望他。」”（耶利米哀歌‬ ‭3:22-24‬）
URL:https://bcbsg.org/event/bible-study-in-person-online-50/
CATEGORIES:Bible Study
END:VEVENT
BEGIN:VEVENT
DTSTART;TZID=America/New_York:20260102T193000
DTEND;TZID=America/New_York:20260102T223000
DTSTAMP:20260423T140059
CREATED:20251103T060531Z
LAST-MODIFIED:20260102T210851Z
UID:27977-1767382200-1767393000@bcbsg.org
SUMMARY:Bible Study - in person & online
DESCRIPTION:週五晚上7:30\n學習希伯來書8:1-6(II) \n信徒組實體聚會，福音組hybrid聚會。 \n歡迎加入我們！ \n“我們不致消滅，是出於耶和華諸般的慈愛，是因他的憐憫不至斷絕。每早晨這都是新的，你的誠實極其廣大。我心裡說：「耶和華是我的份，因此我要仰望他。」”（耶利米哀歌‬ ‭3:22-24‬）
URL:https://bcbsg.org/event/bible-study-in-person-online-48/
CATEGORIES:Bible Study
END:VEVENT
BEGIN:VEVENT
DTSTART;TZID=America/New_York:20251226T193000
DTEND;TZID=America/New_York:20251226T223000
DTSTAMP:20260423T140059
CREATED:20251103T061222Z
LAST-MODIFIED:20251103T061222Z
UID:27981-1766777400-1766788200@bcbsg.org
SUMMARY:Winter Recess
DESCRIPTION:Winter Recess. No Bible study this week.\nHappy New Year!
URL:https://bcbsg.org/event/winter-recess-3/
CATEGORIES:Bible Study
END:VEVENT
BEGIN:VEVENT
DTSTART;TZID=America/New_York:20251219T193000
DTEND;TZID=America/New_York:20251219T223000
DTSTAMP:20260423T140059
CREATED:20251103T061504Z
LAST-MODIFIED:20251209T014703Z
UID:27983-1766172600-1766183400@bcbsg.org
SUMMARY:Christmas Program
DESCRIPTION:週五晚上7:30\n我們將舉行聖誕節特別活動 \n歡迎加入我們！ \n“我們不致消滅，是出於耶和華諸般的慈愛；是因他的憐憫不致斷絕。每早晨，這都是新的；你的誠實極其廣大！我心裏說：耶和華是我的分，因此，我要仰望他。” (‭耶利米哀歌‬ ‭3:22-24‬)
URL:https://bcbsg.org/event/christmas-program-2/
CATEGORIES:Bible Study
ATTACH;FMTTYPE=image/jpeg:https://bcbsg.org/wp-content/uploads/2025/12/2025-Christmas.jpg
END:VEVENT
BEGIN:VEVENT
DTSTART;TZID=America/New_York:20251212T193000
DTEND;TZID=America/New_York:20251212T223000
DTSTAMP:20260423T140059
CREATED:20251103T060340Z
LAST-MODIFIED:20251103T060340Z
UID:27975-1765567800-1765578600@bcbsg.org
SUMMARY:Bible Study - in person & online
DESCRIPTION:週五晚上7:30\n學習希伯來書8:1-6 \n信徒組實體聚會，福音組hybrid聚會。 \n歡迎加入我們！ \n“我們不致消滅，是出於耶和華諸般的慈愛，是因他的憐憫不至斷絕。每早晨這都是新的，你的誠實極其廣大。我心裡說：「耶和華是我的份，因此我要仰望他。」”（耶利米哀歌‬ ‭3:22-24‬）
URL:https://bcbsg.org/event/bible-study-in-person-online-47/
CATEGORIES:Bible Study
END:VEVENT
BEGIN:VEVENT
DTSTART;TZID=America/New_York:20251205T193000
DTEND;TZID=America/New_York:20251205T223000
DTSTAMP:20260423T140059
CREATED:20251103T060036Z
LAST-MODIFIED:20251103T060036Z
UID:27973-1764963000-1764973800@bcbsg.org
SUMMARY:Bible Study - in person & online
DESCRIPTION:週五晚上7:30\n學習希伯來書7:27-28 \n信徒組實體聚會，福音組hybrid聚會。 \n歡迎加入我們！ \n“我們不致消滅，是出於耶和華諸般的慈愛，是因他的憐憫不至斷絕。每早晨這都是新的，你的誠實極其廣大。我心裡說：「耶和華是我的份，因此我要仰望他。」”（耶利米哀歌‬ ‭3:22-24‬）
URL:https://bcbsg.org/event/bible-study-in-person-online-46/
CATEGORIES:Bible Study
END:VEVENT
BEGIN:VEVENT
DTSTART;TZID=America/New_York:20251128T193000
DTEND;TZID=America/New_York:20251128T223000
DTSTAMP:20260423T140059
CREATED:20251103T055744Z
LAST-MODIFIED:20251103T055744Z
UID:27971-1764358200-1764369000@bcbsg.org
SUMMARY:Small Group Night
DESCRIPTION:本晚無聚會。請聯絡小組長參加小組活動。
URL:https://bcbsg.org/event/small-group-night-20/
CATEGORIES:Bible Study
END:VEVENT
BEGIN:VEVENT
DTSTART;TZID=America/New_York:20251121T193000
DTEND;TZID=America/New_York:20251121T223000
DTSTAMP:20260423T140059
CREATED:20251103T055248Z
LAST-MODIFIED:20251103T055248Z
UID:27969-1763753400-1763764200@bcbsg.org
SUMMARY:Bible Study - in person & online
DESCRIPTION:週五晚上7:30\n學習希伯來書7:26 \n信徒組實體聚會，福音組hybrid聚會。 \n歡迎加入我們！ \n“我們不致消滅，是出於耶和華諸般的慈愛，是因他的憐憫不至斷絕。每早晨這都是新的，你的誠實極其廣大。我心裡說：「耶和華是我的份，因此我要仰望他。」”（耶利米哀歌‬ ‭3:22-24‬）
URL:https://bcbsg.org/event/bible-study-in-person-online-45/
CATEGORIES:Bible Study
END:VEVENT
BEGIN:VEVENT
DTSTART;TZID=America/New_York:20251114T193000
DTEND;TZID=America/New_York:20251114T223000
DTSTAMP:20260423T140059
CREATED:20251103T055044Z
LAST-MODIFIED:20251103T055044Z
UID:27967-1763148600-1763159400@bcbsg.org
SUMMARY:Bible Study - in person & online
DESCRIPTION:週五晚上7:30\n學習希伯來書7:20-25(II) \n信徒組實體聚會，福音組hybrid聚會。 \n歡迎加入我們！ \n“我們不致消滅，是出於耶和華諸般的慈愛，是因他的憐憫不至斷絕。每早晨這都是新的，你的誠實極其廣大。我心裡說：「耶和華是我的份，因此我要仰望他。」”（耶利米哀歌‬ ‭3:22-24‬）
URL:https://bcbsg.org/event/bible-study-in-person-online-44/
CATEGORIES:Bible Study
END:VEVENT
BEGIN:VEVENT
DTSTART;TZID=America/New_York:20251107T193000
DTEND;TZID=America/New_York:20251107T223000
DTSTAMP:20260423T140059
CREATED:20251103T054930Z
LAST-MODIFIED:20251103T054930Z
UID:27965-1762543800-1762554600@bcbsg.org
SUMMARY:Bible Study - in person & online
DESCRIPTION:週五晚上7:30\n學習希伯來書7:20-25(I) \n信徒組實體聚會，福音組hybrid聚會。 \n歡迎加入我們！ \n“我們不致消滅，是出於耶和華諸般的慈愛，是因他的憐憫不至斷絕。每早晨這都是新的，你的誠實極其廣大。我心裡說：「耶和華是我的份，因此我要仰望他。」”（耶利米哀歌‬ ‭3:22-24‬）
URL:https://bcbsg.org/event/bible-study-in-person-online-43/
CATEGORIES:Bible Study
END:VEVENT
BEGIN:VEVENT
DTSTART;TZID=America/New_York:20251031T193000
DTEND;TZID=America/New_York:20251031T223000
DTSTAMP:20260423T140059
CREATED:20251006T045237Z
LAST-MODIFIED:20251006T045237Z
UID:27963-1761939000-1761949800@bcbsg.org
SUMMARY:Small Group Night
DESCRIPTION:本晚無聚會。請聯絡小組長參加小組活動。
URL:https://bcbsg.org/event/small-group-night-19/
CATEGORIES:Bible Study
END:VEVENT
BEGIN:VEVENT
DTSTART;TZID=America/New_York:20251024T193000
DTEND;TZID=America/New_York:20251024T223000
DTSTAMP:20260423T140059
CREATED:20251006T045058Z
LAST-MODIFIED:20251006T045058Z
UID:27960-1761334200-1761345000@bcbsg.org
SUMMARY:Bible Study - in person & online
DESCRIPTION:週五晚上7:30\n學習希伯來書7:15-19 \n信徒組實體聚會，福音組hybrid聚會。 \n歡迎加入我們！ \n“我們不致消滅，是出於耶和華諸般的慈愛，是因他的憐憫不至斷絕。每早晨這都是新的，你的誠實極其廣大。我心裡說：「耶和華是我的份，因此我要仰望他。」”（耶利米哀歌‬ ‭3:22-24‬）
URL:https://bcbsg.org/event/bible-study-in-person-online-42/
CATEGORIES:Bible Study
END:VEVENT
BEGIN:VEVENT
DTSTART;TZID=America/New_York:20251017T193000
DTEND;TZID=America/New_York:20251017T223000
DTSTAMP:20260423T140059
CREATED:20251006T044954Z
LAST-MODIFIED:20251006T044954Z
UID:27958-1760729400-1760740200@bcbsg.org
SUMMARY:Bible Study - in person & online
DESCRIPTION:週五晚上7:30\n學習希伯來書7:11-14 \n信徒組實體聚會，福音組hybrid聚會。 \n歡迎加入我們！ \n“我們不致消滅，是出於耶和華諸般的慈愛，是因他的憐憫不至斷絕。每早晨這都是新的，你的誠實極其廣大。我心裡說：「耶和華是我的份，因此我要仰望他。」”（耶利米哀歌‬ ‭3:22-24‬）
URL:https://bcbsg.org/event/bible-study-in-person-online-41/
CATEGORIES:Bible Study
END:VEVENT
BEGIN:VEVENT
DTSTART;TZID=America/New_York:20251010T193000
DTEND;TZID=America/New_York:20251010T223000
DTSTAMP:20260423T140059
CREATED:20251006T044802Z
LAST-MODIFIED:20251006T044802Z
UID:27955-1760124600-1760135400@bcbsg.org
SUMMARY:Bible Study - in person & online
DESCRIPTION:週五晚上7:30\n學習希伯來書7:4-10 \n信徒組實體聚會，福音組hybrid聚會。 \n歡迎加入我們！ \n“我們不致消滅，是出於耶和華諸般的慈愛，是因他的憐憫不至斷絕。每早晨這都是新的，你的誠實極其廣大。我心裡說：「耶和華是我的份，因此我要仰望他。」”（耶利米哀歌‬ ‭3:22-24‬）
URL:https://bcbsg.org/event/bible-study-in-person-online-40/
CATEGORIES:Bible Study
END:VEVENT
BEGIN:VEVENT
DTSTART;TZID=America/New_York:20251003T193000
DTEND;TZID=America/New_York:20251003T223000
DTSTAMP:20260423T140059
CREATED:20250928T032345Z
LAST-MODIFIED:20250928T032345Z
UID:27953-1759519800-1759530600@bcbsg.org
SUMMARY:Small Group Night
DESCRIPTION:本晚無聚會。請聯絡小組長參加小組活動。
URL:https://bcbsg.org/event/small-group-night-18/
CATEGORIES:Bible Study
END:VEVENT
BEGIN:VEVENT
DTSTART;TZID=America/New_York:20250926T193000
DTEND;TZID=America/New_York:20250926T223000
DTSTAMP:20260423T140059
CREATED:20250906T184645Z
LAST-MODIFIED:20250906T184736Z
UID:27948-1758915000-1758925800@bcbsg.org
SUMMARY:Bible Study - in person & online
DESCRIPTION:週五晚上7:30\n學習希伯來書7:1-3 \n信徒組實體聚會，福音組hybrid聚會。 \n歡迎加入我們！ \n“我們不致消滅，是出於耶和華諸般的慈愛，是因他的憐憫不至斷絕。每早晨這都是新的，你的誠實極其廣大。我心裡說：「耶和華是我的份，因此我要仰望他。」”（耶利米哀歌‬ ‭3:22-24‬）
URL:https://bcbsg.org/event/bible-study-in-person-online-39/
CATEGORIES:Bible Study
END:VEVENT
BEGIN:VEVENT
DTSTART;TZID=America/New_York:20250919T193000
DTEND;TZID=America/New_York:20250919T223000
DTSTAMP:20260423T140059
CREATED:20250906T184528Z
LAST-MODIFIED:20250906T184528Z
UID:27946-1758310200-1758321000@bcbsg.org
SUMMARY:Bible Study - in person & online
DESCRIPTION:週五晚上7:30\n學習希伯來書6:16-20 \n信徒組實體聚會，福音組hybrid聚會。 \n歡迎加入我們！ \n“我們不致消滅，是出於耶和華諸般的慈愛，是因他的憐憫不至斷絕。每早晨這都是新的，你的誠實極其廣大。我心裡說：「耶和華是我的份，因此我要仰望他。」”（耶利米哀歌‬ ‭3:22-24‬）
URL:https://bcbsg.org/event/bible-study-in-person-online-38/
CATEGORIES:Bible Study
END:VEVENT
BEGIN:VEVENT
DTSTART;TZID=America/New_York:20250912T193000
DTEND;TZID=America/New_York:20250912T223000
DTSTAMP:20260423T140059
CREATED:20250906T184346Z
LAST-MODIFIED:20250906T184346Z
UID:27944-1757705400-1757716200@bcbsg.org
SUMMARY:Bible Study - in person & online
DESCRIPTION:週五晚上7:30\n學習希伯來書6:12-15 \n信徒組實體聚會，福音組hybrid聚會。 \n歡迎加入我們！ \n“我們不致消滅，是出於耶和華諸般的慈愛，是因他的憐憫不至斷絕。每早晨這都是新的，你的誠實極其廣大。我心裡說：「耶和華是我的份，因此我要仰望他。」”（耶利米哀歌‬ ‭3:22-24‬）
URL:https://bcbsg.org/event/bible-study-in-person-online-37/
CATEGORIES:Bible Study
END:VEVENT
BEGIN:VEVENT
DTSTART;TZID=America/New_York:20250906T160000
DTEND;TZID=America/New_York:20250906T213000
DTSTAMP:20260423T140059
CREATED:20250530T005348Z
LAST-MODIFIED:20250829T042002Z
UID:27932-1757174400-1757194200@bcbsg.org
SUMMARY:迎新活動 Welcoming Party
DESCRIPTION:周五晚無聚會。我們將在周六下午4:00舉辦迎新活動\, 歡迎大家屆時參加！
URL:https://bcbsg.org/event/%e8%bf%8e%e6%96%b0%e6%b4%bb%e5%8b%95-welcoming-party-2/
CATEGORIES:Bible Study
END:VEVENT
BEGIN:VEVENT
DTSTART;TZID=America/New_York:20250829T193000
DTEND;TZID=America/New_York:20250829T223000
DTSTAMP:20260423T140059
CREATED:20250530T004814Z
LAST-MODIFIED:20250530T004814Z
UID:27924-1756495800-1756506600@bcbsg.org
SUMMARY:Bible Study - in person & online
DESCRIPTION:週五晚上7:30\n復習希伯來書 \n信徒組實體聚會，福音組hybrid聚會。 \n歡迎加入我們！ \n“我們不致消滅，是出於耶和華諸般的慈愛，是因他的憐憫不至斷絕。每早晨這都是新的，你的誠實極其廣大。我心裡說：「耶和華是我的份，因此我要仰望他。」”（耶利米哀歌‬ ‭3:22-24‬）
URL:https://bcbsg.org/event/bible-study-in-person-online-36/
CATEGORIES:Bible Study
END:VEVENT
BEGIN:VEVENT
DTSTART;TZID=America/New_York:20250822T193000
DTEND;TZID=America/New_York:20250822T223000
DTSTAMP:20260423T140059
CREATED:20250530T004704Z
LAST-MODIFIED:20250530T004704Z
UID:27922-1755891000-1755901800@bcbsg.org
SUMMARY:Bible Study - in person & online
DESCRIPTION:週五晚上7:30\n復習希伯來書 \n信徒組實體聚會，福音組hybrid聚會。 \n歡迎加入我們！ \n“我們不致消滅，是出於耶和華諸般的慈愛，是因他的憐憫不至斷絕。每早晨這都是新的，你的誠實極其廣大。我心裡說：「耶和華是我的份，因此我要仰望他。」”（耶利米哀歌‬ ‭3:22-24‬）
URL:https://bcbsg.org/event/bible-study-in-person-online-35/
CATEGORIES:Bible Study
END:VEVENT
BEGIN:VEVENT
DTSTART;TZID=America/New_York:20250815T193000
DTEND;TZID=America/New_York:20250815T223000
DTSTAMP:20260423T140059
CREATED:20250530T004616Z
LAST-MODIFIED:20250530T004616Z
UID:27920-1755286200-1755297000@bcbsg.org
SUMMARY:Bible Study - in person & online
DESCRIPTION:週五晚上7:30\n復習希伯來書 \n信徒組實體聚會，福音組hybrid聚會。 \n歡迎加入我們！ \n“我們不致消滅，是出於耶和華諸般的慈愛，是因他的憐憫不至斷絕。每早晨這都是新的，你的誠實極其廣大。我心裡說：「耶和華是我的份，因此我要仰望他。」”（耶利米哀歌‬ ‭3:22-24‬）
URL:https://bcbsg.org/event/bible-study-in-person-online-34/
CATEGORIES:Bible Study
END:VEVENT
BEGIN:VEVENT
DTSTART;TZID=America/New_York:20250808T193000
DTEND;TZID=America/New_York:20250808T223000
DTSTAMP:20260423T140059
CREATED:20250530T005133Z
LAST-MODIFIED:20250530T005133Z
UID:27930-1754681400-1754692200@bcbsg.org
SUMMARY:Small Group Night
DESCRIPTION:本晚無聚會。請聯絡小組長參加小組活動。
URL:https://bcbsg.org/event/small-group-night-17/
CATEGORIES:Bible Study
END:VEVENT
BEGIN:VEVENT
DTSTART;TZID=America/New_York:20250801T193000
DTEND;TZID=America/New_York:20250801T223000
DTSTAMP:20260423T140059
CREATED:20250530T004510Z
LAST-MODIFIED:20250530T004510Z
UID:27918-1754076600-1754087400@bcbsg.org
SUMMARY:Bible Study - in person & online
DESCRIPTION:週五晚上7:30\n復習希伯來書 \n信徒組實體聚會，福音組hybrid聚會。 \n歡迎加入我們！ \n“我們不致消滅，是出於耶和華諸般的慈愛，是因他的憐憫不至斷絕。每早晨這都是新的，你的誠實極其廣大。我心裡說：「耶和華是我的份，因此我要仰望他。」”（耶利米哀歌‬ ‭3:22-24‬）
URL:https://bcbsg.org/event/bible-study-in-person-online-33/
CATEGORIES:Bible Study
END:VEVENT
BEGIN:VEVENT
DTSTART;TZID=America/New_York:20250725T193000
DTEND;TZID=America/New_York:20250725T223000
DTSTAMP:20260423T140059
CREATED:20250530T004428Z
LAST-MODIFIED:20250530T004428Z
UID:27915-1753471800-1753482600@bcbsg.org
SUMMARY:Bible Study - in person & online
DESCRIPTION:週五晚上7:30\n復習希伯來書 \n信徒組實體聚會，福音組hybrid聚會。 \n歡迎加入我們！ \n“我們不致消滅，是出於耶和華諸般的慈愛，是因他的憐憫不至斷絕。每早晨這都是新的，你的誠實極其廣大。我心裡說：「耶和華是我的份，因此我要仰望他。」”（耶利米哀歌‬ ‭3:22-24‬）
URL:https://bcbsg.org/event/bible-study-in-person-online-32/
CATEGORIES:Bible Study
END:VEVENT
BEGIN:VEVENT
DTSTART;TZID=America/New_York:20250718T193000
DTEND;TZID=America/New_York:20250718T223000
DTSTAMP:20260423T140059
CREATED:20250530T003827Z
LAST-MODIFIED:20250530T004001Z
UID:27908-1752867000-1752877800@bcbsg.org
SUMMARY:Bible Study - in person & online
DESCRIPTION:週五晚上7:30\n復習希伯來書 \n信徒組實體聚會，福音組hybrid聚會。 \n歡迎加入我們！ \n“我們不致消滅，是出於耶和華諸般的慈愛，是因他的憐憫不至斷絕。每早晨這都是新的，你的誠實極其廣大。我心裡說：「耶和華是我的份，因此我要仰望他。」”（耶利米哀歌‬ ‭3:22-24‬）
URL:https://bcbsg.org/event/bible-study-in-person-online-31/
CATEGORIES:Bible Study
END:VEVENT
END:VCALENDAR