BEGIN:VCALENDAR
VERSION:2.0
PRODID:-//波士頓華人查經班 - ECPv5.16.4.1//NONSGML v1.0//EN
CALSCALE:GREGORIAN
METHOD:PUBLISH
X-ORIGINAL-URL:https://bcbsg.org
X-WR-CALDESC:Events for 波士頓華人查經班
REFRESH-INTERVAL;VALUE=DURATION:PT1H
X-Robots-Tag:noindex
X-PUBLISHED-TTL:PT1H
BEGIN:VTIMEZONE
TZID:America/New_York
BEGIN:DAYLIGHT
TZOFFSETFROM:-0500
TZOFFSETTO:-0400
TZNAME:EDT
DTSTART:20220313T070000
END:DAYLIGHT
BEGIN:STANDARD
TZOFFSETFROM:-0400
TZOFFSETTO:-0500
TZNAME:EST
DTSTART:20221106T060000
END:STANDARD
END:VTIMEZONE
BEGIN:VEVENT
DTSTART;TZID=America/New_York:20221118T193000
DTEND;TZID=America/New_York:20221118T223000
DTSTAMP:20260424T194454
CREATED:20220917T172914Z
LAST-MODIFIED:20221115T172747Z
UID:27401-1668799800-1668810600@bcbsg.org
SUMMARY:Bible Study (11/18) - in person & online
DESCRIPTION:週五晚上7:30\n查考使徒行傳(17:24-34)(1) \n信徒組實體聚會，福音組hybrid聚會。 \n歡迎加入我們！ \n“我們不致消滅，是出於耶和華諸般的慈愛，是因他的憐憫不至斷絕。每早晨這都是新的，你的誠實極其廣大。我心裡說：「耶和華是我的份，因此我要仰望他。」”（耶利米哀歌‬ ‭3:22-24‬）
URL:https://bcbsg.org/event/bible-study-11-18-in-person-online/
CATEGORIES:Bible Study
END:VEVENT
BEGIN:VEVENT
DTSTART;TZID=America/New_York:20221111T193000
DTEND;TZID=America/New_York:20221111T223000
DTSTAMP:20260424T194454
CREATED:20220917T172745Z
LAST-MODIFIED:20220917T172745Z
UID:27399-1668195000-1668205800@bcbsg.org
SUMMARY:Bible Study (11/11) - in person & online
DESCRIPTION:週五晚上7:30\n查考使徒行傳(17:16-23) \n信徒組實體聚會，福音組hybrid聚會。 \n歡迎加入我們！ \n“我們不致消滅，是出於耶和華諸般的慈愛，是因他的憐憫不至斷絕。每早晨這都是新的，你的誠實極其廣大。我心裡說：「耶和華是我的份，因此我要仰望他。」”（耶利米哀歌‬ ‭3:22-24‬）
URL:https://bcbsg.org/event/bible-study-11-11-in-person-online/
CATEGORIES:Bible Study
END:VEVENT
BEGIN:VEVENT
DTSTART;TZID=America/New_York:20221106T133000
DTEND;TZID=America/New_York:20221106T170000
DTSTAMP:20260424T194454
CREATED:20221008T182514Z
LAST-MODIFIED:20221008T182514Z
UID:27437-1667741400-1667754000@bcbsg.org
SUMMARY:Monthly Prayer Meeting (11/06)
DESCRIPTION:Yongfei will lead this prayer meetingock; width: 0px; overflow: hidden; line-height: 0;” class=”mce_SELRES_start”>
URL:https://bcbsg.org/event/monthly-prayer-meeting-11-06/
CATEGORIES:Monthly Prayer Meeting
END:VEVENT
BEGIN:VEVENT
DTSTART;TZID=America/New_York:20221104T193000
DTEND;TZID=America/New_York:20221104T223000
DTSTAMP:20260424T194454
CREATED:20220917T172616Z
LAST-MODIFIED:20221103T230445Z
UID:27397-1667590200-1667601000@bcbsg.org
SUMMARY:Bible Study (11/04) - online only
DESCRIPTION:週五晚上7:30\n查考使徒行傳(17:10-15) \n本次改為線上聚會，請聯絡小組長獲得Zoom鏈接。 \n歡迎加入我們！ \n“我們不致消滅，是出於耶和華諸般的慈愛，是因他的憐憫不至斷絕。每早晨這都是新的，你的誠實極其廣大。我心裡說：「耶和華是我的份，因此我要仰望他。」”（耶利米哀歌‬ ‭3:22-24‬）
URL:https://bcbsg.org/event/bible-study-11-04-in-person-online/
CATEGORIES:Bible Study
END:VEVENT
BEGIN:VEVENT
DTSTART;TZID=America/New_York:20221028T193000
DTEND;TZID=America/New_York:20221028T223000
DTSTAMP:20260424T194454
CREATED:20220917T171907Z
LAST-MODIFIED:20221027T043631Z
UID:27395-1666985400-1666996200@bcbsg.org
SUMMARY:Bible Study (10/28) - online only
DESCRIPTION:週五晚上7:30\n查考使徒行傳(17:1-9) \n本次改為線上聚會，請聯絡小組長獲得Zoom鏈接。 \n歡迎加入我們！ \n“我們不致消滅，是出於耶和華諸般的慈愛，是因他的憐憫不至斷絕。每早晨這都是新的，你的誠實極其廣大。我心裡說：「耶和華是我的份，因此我要仰望他。」”（耶利米哀歌‬ ‭3:22-24‬）
URL:https://bcbsg.org/event/bible-study-10-28-in-person-online/
CATEGORIES:Bible Study
END:VEVENT
BEGIN:VEVENT
DTSTART;TZID=America/New_York:20221021T193000
DTEND;TZID=America/New_York:20221021T223000
DTSTAMP:20260424T194454
CREATED:20220917T171317Z
LAST-MODIFIED:20221004T200632Z
UID:27389-1666380600-1666391400@bcbsg.org
SUMMARY:Bible Study (10/21) - in person & online
DESCRIPTION:週五晚上7:30\n查考使徒行傳(16:30-40) \n信徒組實體聚會，福音組hybrid聚會。 \n歡迎加入我們！ \n“我們不致消滅，是出於耶和華諸般的慈愛，是因他的憐憫不至斷絕。每早晨這都是新的，你的誠實極其廣大。我心裡說：「耶和華是我的份，因此我要仰望他。」”（耶利米哀歌‬ ‭3:22-24‬）
URL:https://bcbsg.org/event/bible-study-10-14-in-person-online/
CATEGORIES:Bible Study
END:VEVENT
BEGIN:VEVENT
DTSTART;TZID=America/New_York:20221014T193000
DTEND;TZID=America/New_York:20221014T223000
DTSTAMP:20260424T194454
CREATED:20220917T171702Z
LAST-MODIFIED:20230113T023028Z
UID:27393-1665775800-1665786600@bcbsg.org
SUMMARY:Small Group Night (10/14)
DESCRIPTION:本晚無聚會。周六小組活動賞楓，請聯絡小組長參加活動。
URL:https://bcbsg.org/event/small-group-night-10-21/
CATEGORIES:Bible Study
END:VEVENT
BEGIN:VEVENT
DTSTART;TZID=America/New_York:20221007T193000
DTEND;TZID=America/New_York:20221007T223000
DTSTAMP:20260424T194454
CREATED:20220917T171116Z
LAST-MODIFIED:20220917T172142Z
UID:27387-1665171000-1665181800@bcbsg.org
SUMMARY:Bible Study (10/07) - in person & online
DESCRIPTION:週五晚上7:30\n查考使徒行傳(16:19-29) \n信徒組實體聚會，福音組hybrid聚會。 \n歡迎加入我們！ \n“我們不致消滅，是出於耶和華諸般的慈愛，是因他的憐憫不至斷絕。每早晨這都是新的，你的誠實極其廣大。我心裡說：「耶和華是我的份，因此我要仰望他。」”（耶利米哀歌‬ ‭3:22-24‬）
URL:https://bcbsg.org/event/bible-study-10-07-in-person-online/
CATEGORIES:Bible Study
END:VEVENT
BEGIN:VEVENT
DTSTART;TZID=America/New_York:20221002T133000
DTEND;TZID=America/New_York:20221002T170000
DTSTAMP:20260424T194454
CREATED:20221008T182339Z
LAST-MODIFIED:20221008T182339Z
UID:27435-1664717400-1664730000@bcbsg.org
SUMMARY:Monthly Prayer Meeting (10/02)
DESCRIPTION:Han-Ting will lead this prayer meetingock; width: 0px; overflow: hidden; line-height: 0;” class=”mce_SELRES_start”>
URL:https://bcbsg.org/event/monthly-prayer-meeting-10-02/
CATEGORIES:Monthly Prayer Meeting
END:VEVENT
BEGIN:VEVENT
DTSTART;TZID=America/New_York:20220930T193000
DTEND;TZID=America/New_York:20220930T223000
DTSTAMP:20260424T194454
CREATED:20220917T170937Z
LAST-MODIFIED:20220917T172130Z
UID:27385-1664566200-1664577000@bcbsg.org
SUMMARY:Bible Study (09/30) - in person & online
DESCRIPTION:週五晚上7:30\n查考使徒行傳(16:11-18) \n信徒組實體聚會，福音組hybrid聚會。 \n歡迎加入我們！ \n“我們不致消滅，是出於耶和華諸般的慈愛，是因他的憐憫不至斷絕。每早晨這都是新的，你的誠實極其廣大。我心裡說：「耶和華是我的份，因此我要仰望他。」”（耶利米哀歌‬ ‭3:22-24‬）
URL:https://bcbsg.org/event/bible-study-09-30-in-person-online/
CATEGORIES:Bible Study
END:VEVENT
BEGIN:VEVENT
DTSTART;TZID=America/New_York:20220923T193000
DTEND;TZID=America/New_York:20220923T223000
DTSTAMP:20260424T194454
CREATED:20220917T031616Z
LAST-MODIFIED:20220917T172052Z
UID:27382-1663961400-1663972200@bcbsg.org
SUMMARY:Bible Study (09/23) - in person & online
DESCRIPTION:週五晚上7:30\n查考使徒行傳(16:1-10) \n信徒組實體聚會，福音組hybrid聚會。 \n歡迎加入我們！ \n“我們不致消滅，是出於耶和華諸般的慈愛，是因他的憐憫不至斷絕。每早晨這都是新的，你的誠實極其廣大。我心裡說：「耶和華是我的份，因此我要仰望他。」”（耶利米哀歌‬ ‭3:22-24‬）
URL:https://bcbsg.org/event/bible-study-09-23-in-person-online/
CATEGORIES:Bible Study
END:VEVENT
BEGIN:VEVENT
DTSTART;TZID=America/New_York:20220916T193000
DTEND;TZID=America/New_York:20220916T223000
DTSTAMP:20260424T194454
CREATED:20220615T041208Z
LAST-MODIFIED:20220912T035755Z
UID:27365-1663356600-1663367400@bcbsg.org
SUMMARY:Bible Study (09/16) - in person & online
DESCRIPTION:週五晚上7:30\n復習使徒行傳(15:1-41) \n信徒組實體聚會，福音組hybrid聚會。 \n歡迎加入我們！ \n“我們不致消滅，是出於耶和華諸般的慈愛，是因他的憐憫不至斷絕。每早晨這都是新的，你的誠實極其廣大。我心裡說：「耶和華是我的份，因此我要仰望他。」”（耶利米哀歌‬ ‭3:22-24‬）
URL:https://bcbsg.org/event/bible-study-09-16-in-person-online/
CATEGORIES:Bible Study
END:VEVENT
BEGIN:VEVENT
DTSTART;TZID=America/New_York:20220909T193000
DTEND;TZID=America/New_York:20220909T223000
DTSTAMP:20260424T194454
CREATED:20220615T040807Z
LAST-MODIFIED:20220917T171516Z
UID:27362-1662751800-1662762600@bcbsg.org
SUMMARY:迎新活動 Welcoming Party (09/09)
DESCRIPTION:我們將於本週五舉辦迎新活動\, 歡迎大家屆時參加！
URL:https://bcbsg.org/event/%e8%bf%8e%e6%96%b0%e6%b4%bb%e5%8b%95-welcoming-party%ef%bc%8809-09%ef%bc%89/
CATEGORIES:Bible Study
END:VEVENT
BEGIN:VEVENT
DTSTART;TZID=America/New_York:20220904T140000
DTEND;TZID=America/New_York:20220904T170000
DTSTAMP:20260424T194454
CREATED:20220608T020716Z
LAST-MODIFIED:20220608T020716Z
UID:27334-1662300000-1662310800@bcbsg.org
SUMMARY:Monthly Prayer Meeting (09/04)
DESCRIPTION:Emily will lead this prayer meetingock; width: 0px; overflow: hidden; line-height: 0;” class=”mce_SELRES_start”>﻿
URL:https://bcbsg.org/event/monthly-prayer-meeting-09-04/
CATEGORIES:Monthly Prayer Meeting
END:VEVENT
BEGIN:VEVENT
DTSTART;TZID=America/New_York:20220902T193000
DTEND;TZID=America/New_York:20220902T223000
DTSTAMP:20260424T194454
CREATED:20220615T040503Z
LAST-MODIFIED:20220615T040503Z
UID:27360-1662147000-1662157800@bcbsg.org
SUMMARY:Bible Study (09/02) - in person & online
DESCRIPTION:週五晚上7:30\n信徒組實體聚會，討論書籍《Growth Has No Boundaries: The Christian’s Secret to a Deeper Spiritual Life》 \n福音組hybrid聚會，討論書籍《游子吟-永恒在召唤》 \n歡迎加入我們！ \n“我們不致消滅，是出於耶和華諸般的慈愛，是因他的憐憫不至斷絕。每早晨這都是新的，你的誠實極其廣大。我心裡說：「耶和華是我的份，因此我要仰望他。」”（耶利米哀歌‬ ‭3:22-24‬）
URL:https://bcbsg.org/event/bible-study-09-02-in-person-online/
CATEGORIES:Bible Study
END:VEVENT
BEGIN:VEVENT
DTSTART;TZID=America/New_York:20220826T193000
DTEND;TZID=America/New_York:20220826T223000
DTSTAMP:20260424T194454
CREATED:20220615T040419Z
LAST-MODIFIED:20220615T040419Z
UID:27358-1661542200-1661553000@bcbsg.org
SUMMARY:Bible Study (08/26) - in person & online
DESCRIPTION:週五晚上7:30\n信徒組實體聚會，討論書籍《Growth Has No Boundaries: The Christian’s Secret to a Deeper Spiritual Life》 \n福音組hybrid聚會，討論書籍《游子吟-永恒在召唤》 \n歡迎加入我們！ \n“我們不致消滅，是出於耶和華諸般的慈愛，是因他的憐憫不至斷絕。每早晨這都是新的，你的誠實極其廣大。我心裡說：「耶和華是我的份，因此我要仰望他。」”（耶利米哀歌‬ ‭3:22-24‬）
URL:https://bcbsg.org/event/bible-study-08-26-in-person-online/
CATEGORIES:Bible Study
END:VEVENT
BEGIN:VEVENT
DTSTART;TZID=America/New_York:20220819T193000
DTEND;TZID=America/New_York:20220819T223000
DTSTAMP:20260424T194454
CREATED:20220615T040342Z
LAST-MODIFIED:20220615T040342Z
UID:27356-1660937400-1660948200@bcbsg.org
SUMMARY:Bible Study (08/19) - in person & online
DESCRIPTION:週五晚上7:30\n信徒組實體聚會，討論書籍《Growth Has No Boundaries: The Christian’s Secret to a Deeper Spiritual Life》 \n福音組hybrid聚會，討論書籍《游子吟-永恒在召唤》 \n歡迎加入我們！ \n“我們不致消滅，是出於耶和華諸般的慈愛，是因他的憐憫不至斷絕。每早晨這都是新的，你的誠實極其廣大。我心裡說：「耶和華是我的份，因此我要仰望他。」”（耶利米哀歌‬ ‭3:22-24‬）
URL:https://bcbsg.org/event/bible-study-08-19-in-person-online/
CATEGORIES:Bible Study
END:VEVENT
BEGIN:VEVENT
DTSTART;TZID=America/New_York:20220812T193000
DTEND;TZID=America/New_York:20220812T220000
DTSTAMP:20260424T194454
CREATED:20220608T020019Z
LAST-MODIFIED:20220608T020019Z
UID:27324-1660332600-1660341600@bcbsg.org
SUMMARY:Small Group Night (08/12)
DESCRIPTION:本晚小組活動，請聯絡小組長參加分組活動
URL:https://bcbsg.org/event/small-group-night-08-12/
CATEGORIES:Bible Study
END:VEVENT
BEGIN:VEVENT
DTSTART;TZID=America/New_York:20220807T140000
DTEND;TZID=America/New_York:20220807T170000
DTSTAMP:20260424T194454
CREATED:20220608T020553Z
LAST-MODIFIED:20220608T020553Z
UID:27332-1659880800-1659891600@bcbsg.org
SUMMARY:Monthly Prayer Meeting (08/07)
DESCRIPTION:Mengjia will lead this prayer meeting
URL:https://bcbsg.org/event/monthly-prayer-meeting-08-07/
CATEGORIES:Monthly Prayer Meeting
END:VEVENT
BEGIN:VEVENT
DTSTART;TZID=America/New_York:20220805T193000
DTEND;TZID=America/New_York:20220805T223000
DTSTAMP:20260424T194454
CREATED:20220615T040307Z
LAST-MODIFIED:20220615T040307Z
UID:27354-1659727800-1659738600@bcbsg.org
SUMMARY:Bible Study (08/05) - in person & online
DESCRIPTION:週五晚上7:30\n信徒組實體聚會，討論書籍《Growth Has No Boundaries: The Christian’s Secret to a Deeper Spiritual Life》 \n福音組hybrid聚會，討論書籍《游子吟-永恒在召唤》 \n歡迎加入我們！ \n“我們不致消滅，是出於耶和華諸般的慈愛，是因他的憐憫不至斷絕。每早晨這都是新的，你的誠實極其廣大。我心裡說：「耶和華是我的份，因此我要仰望他。」”（耶利米哀歌‬ ‭3:22-24‬）
URL:https://bcbsg.org/event/bible-study-08-05-in-person-online/
CATEGORIES:Bible Study
END:VEVENT
BEGIN:VEVENT
DTSTART;TZID=America/New_York:20220729T193000
DTEND;TZID=America/New_York:20220729T223000
DTSTAMP:20260424T194454
CREATED:20220615T040226Z
LAST-MODIFIED:20220615T040226Z
UID:27352-1659123000-1659133800@bcbsg.org
SUMMARY:Bible Study (07/29) - in person & online
DESCRIPTION:週五晚上7:30\n信徒組實體聚會，討論書籍《Growth Has No Boundaries: The Christian’s Secret to a Deeper Spiritual Life》 \n福音組hybrid聚會，討論書籍《游子吟-永恒在召唤》 \n歡迎加入我們！ \n“我們不致消滅，是出於耶和華諸般的慈愛，是因他的憐憫不至斷絕。每早晨這都是新的，你的誠實極其廣大。我心裡說：「耶和華是我的份，因此我要仰望他。」”（耶利米哀歌‬ ‭3:22-24‬）
URL:https://bcbsg.org/event/bible-study-07-29-in-person-online/
CATEGORIES:Bible Study
END:VEVENT
BEGIN:VEVENT
DTSTART;TZID=America/New_York:20220722T193000
DTEND;TZID=America/New_York:20220722T223000
DTSTAMP:20260424T194454
CREATED:20220615T040142Z
LAST-MODIFIED:20220615T040142Z
UID:27350-1658518200-1658529000@bcbsg.org
SUMMARY:Bible Study (07/22) - in person & online
DESCRIPTION:週五晚上7:30\n信徒組實體聚會，討論書籍《Growth Has No Boundaries: The Christian’s Secret to a Deeper Spiritual Life》 \n福音組hybrid聚會，討論書籍《游子吟-永恒在召唤》 \n歡迎加入我們！ \n“我們不致消滅，是出於耶和華諸般的慈愛，是因他的憐憫不至斷絕。每早晨這都是新的，你的誠實極其廣大。我心裡說：「耶和華是我的份，因此我要仰望他。」”（耶利米哀歌‬ ‭3:22-24‬）
URL:https://bcbsg.org/event/bible-study-07-22-in-person-online/
CATEGORIES:Bible Study
END:VEVENT
BEGIN:VEVENT
DTSTART;TZID=America/New_York:20220716T130000
DTEND;TZID=America/New_York:20220716T150000
DTSTAMP:20260424T194454
CREATED:20220608T015856Z
LAST-MODIFIED:20220622T034519Z
UID:27322-1657976400-1657983600@bcbsg.org
SUMMARY:Small Group Night (07/16)
DESCRIPTION:小組活動會在Cradles to Crayons 做義工，請聯絡小組長參加分組活動
URL:https://bcbsg.org/event/small-group-night-07-08/
CATEGORIES:Bible Study
END:VEVENT
BEGIN:VEVENT
DTSTART;TZID=America/New_York:20220708T193000
DTEND;TZID=America/New_York:20220708T223000
DTSTAMP:20260424T194454
CREATED:20220615T040050Z
LAST-MODIFIED:20220622T034544Z
UID:27348-1657308600-1657319400@bcbsg.org
SUMMARY:Bible Study (07/08) - in person & online
DESCRIPTION:週五晚上7:30\n信徒組實體聚會，討論書籍《Growth Has No Boundaries: The Christian’s Secret to a Deeper Spiritual Life》 \n福音組hybrid聚會，討論書籍《游子吟-永恒在召唤》 \n歡迎加入我們！ \n“我們不致消滅，是出於耶和華諸般的慈愛，是因他的憐憫不至斷絕。每早晨這都是新的，你的誠實極其廣大。我心裡說：「耶和華是我的份，因此我要仰望他。」”（耶利米哀歌‬ ‭3:22-24‬）
URL:https://bcbsg.org/event/bible-study-07-15-in-person-online/
CATEGORIES:Bible Study
END:VEVENT
BEGIN:VEVENT
DTSTART;TZID=America/New_York:20220703T140000
DTEND;TZID=America/New_York:20220703T170000
DTSTAMP:20260424T194454
CREATED:20220608T020419Z
LAST-MODIFIED:20220608T020447Z
UID:27329-1656856800-1656867600@bcbsg.org
SUMMARY:Monthly Prayer Meeting (07/03)
DESCRIPTION:Jenny will lead this prayer meeting
URL:https://bcbsg.org/event/monthly-prayer-meeting-07-03/
CATEGORIES:Monthly Prayer Meeting
END:VEVENT
BEGIN:VEVENT
DTSTART;TZID=America/New_York:20220701T193000
DTEND;TZID=America/New_York:20220701T223000
DTSTAMP:20260424T194454
CREATED:20220615T035936Z
LAST-MODIFIED:20220615T035936Z
UID:27346-1656703800-1656714600@bcbsg.org
SUMMARY:Bible Study (07/01) - in person & online
DESCRIPTION:週五晚上7:30\n信徒組實體聚會，討論書籍《Growth Has No Boundaries: The Christian’s Secret to a Deeper Spiritual Life》 \n福音組hybrid聚會，討論書籍《游子吟-永恒在召唤》 \n歡迎加入我們！ \n“我們不致消滅，是出於耶和華諸般的慈愛，是因他的憐憫不至斷絕。每早晨這都是新的，你的誠實極其廣大。我心裡說：「耶和華是我的份，因此我要仰望他。」”（耶利米哀歌‬ ‭3:22-24‬）
URL:https://bcbsg.org/event/bible-study-07-01-in-person-online/
CATEGORIES:Bible Study
END:VEVENT
BEGIN:VEVENT
DTSTART;TZID=America/New_York:20220624T193000
DTEND;TZID=America/New_York:20220624T223000
DTSTAMP:20260424T194454
CREATED:20220615T035807Z
LAST-MODIFIED:20220615T035807Z
UID:27344-1656099000-1656109800@bcbsg.org
SUMMARY:Bible Study (06/24) - in person & online
DESCRIPTION:週五晚上7:30\n信徒組實體聚會，討論書籍《Growth Has No Boundaries: The Christian’s Secret to a Deeper Spiritual Life》 \n福音組hybrid聚會，討論書籍《游子吟-永恒在召唤》 \n歡迎加入我們！ \n“我們不致消滅，是出於耶和華諸般的慈愛，是因他的憐憫不至斷絕。每早晨這都是新的，你的誠實極其廣大。我心裡說：「耶和華是我的份，因此我要仰望他。」”（耶利米哀歌‬ ‭3:22-24‬）
URL:https://bcbsg.org/event/bible-study-06-24-in-person-online/
CATEGORIES:Bible Study
END:VEVENT
BEGIN:VEVENT
DTSTART;TZID=America/New_York:20220617T193000
DTEND;TZID=America/New_York:20220617T223000
DTSTAMP:20260424T194454
CREATED:20220615T035340Z
LAST-MODIFIED:20220615T035451Z
UID:27340-1655494200-1655505000@bcbsg.org
SUMMARY:Bible Study (06/17) - in person & online
DESCRIPTION:週五晚上7:30\n信徒組實體聚會，討論書籍《Growth Has No Boundaries: The Christian’s Secret to a Deeper Spiritual Life》 \n福音組hybrid聚會，討論書籍《游子吟-永恒在召唤》 \n歡迎加入我們！ \n“我們不致消滅，是出於耶和華諸般的慈愛，是因他的憐憫不至斷絕。每早晨這都是新的，你的誠實極其廣大。我心裡說：「耶和華是我的份，因此我要仰望他。」”（耶利米哀歌‬ ‭3:22-24‬）
URL:https://bcbsg.org/event/bible-study-06-17-in-person-online/
CATEGORIES:Bible Study
END:VEVENT
BEGIN:VEVENT
DTSTART;TZID=America/New_York:20220610T193000
DTEND;TZID=America/New_York:20220610T220000
DTSTAMP:20260424T194454
CREATED:20220608T014820Z
LAST-MODIFIED:20220608T020915Z
UID:27320-1654889400-1654898400@bcbsg.org
SUMMARY:Small Group Night (06/10)
DESCRIPTION:本晚小組活動，請聯絡小組長參加分組活動
URL:https://bcbsg.org/event/small-group-night-06-11/
CATEGORIES:Bible Study
END:VEVENT
BEGIN:VEVENT
DTSTART;TZID=America/New_York:20220605T140000
DTEND;TZID=America/New_York:20220605T170000
DTSTAMP:20260424T194454
CREATED:20220608T020234Z
LAST-MODIFIED:20220608T020234Z
UID:27327-1654437600-1654448400@bcbsg.org
SUMMARY:Monthly Prayer Meeting (06/05)
DESCRIPTION:Yongfei will lead this prayer meeting
URL:https://bcbsg.org/event/monthly-prayer-meeting-06-05/
CATEGORIES:Monthly Prayer Meeting
END:VEVENT
END:VCALENDAR