BEGIN:VCALENDAR
VERSION:2.0
PRODID:-//波士頓華人查經班 - ECPv5.16.4.1//NONSGML v1.0//EN
CALSCALE:GREGORIAN
METHOD:PUBLISH
X-WR-CALNAME:波士頓華人查經班
X-ORIGINAL-URL:https://bcbsg.org
X-WR-CALDESC:Events for 波士頓華人查經班
REFRESH-INTERVAL;VALUE=DURATION:PT1H
X-Robots-Tag:noindex
X-PUBLISHED-TTL:PT1H
BEGIN:VTIMEZONE
TZID:America/New_York
BEGIN:DAYLIGHT
TZOFFSETFROM:-0500
TZOFFSETTO:-0400
TZNAME:EDT
DTSTART:20220313T070000
END:DAYLIGHT
BEGIN:STANDARD
TZOFFSETFROM:-0400
TZOFFSETTO:-0500
TZNAME:EST
DTSTART:20221106T060000
END:STANDARD
END:VTIMEZONE
BEGIN:VEVENT
DTSTART;TZID=America/New_York:20220805T193000
DTEND;TZID=America/New_York:20220805T223000
DTSTAMP:20260424T231444
CREATED:20220615T040307Z
LAST-MODIFIED:20220615T040307Z
UID:27354-1659727800-1659738600@bcbsg.org
SUMMARY:Bible Study (08/05) - in person & online
DESCRIPTION:週五晚上7:30\n信徒組實體聚會，討論書籍《Growth Has No Boundaries: The Christian’s Secret to a Deeper Spiritual Life》 \n福音組hybrid聚會，討論書籍《游子吟-永恒在召唤》 \n歡迎加入我們！ \n“我們不致消滅，是出於耶和華諸般的慈愛，是因他的憐憫不至斷絕。每早晨這都是新的，你的誠實極其廣大。我心裡說：「耶和華是我的份，因此我要仰望他。」”（耶利米哀歌‬ ‭3:22-24‬）
URL:https://bcbsg.org/event/bible-study-08-05-in-person-online/
CATEGORIES:Bible Study
END:VEVENT
BEGIN:VEVENT
DTSTART;TZID=America/New_York:20220729T193000
DTEND;TZID=America/New_York:20220729T223000
DTSTAMP:20260424T231444
CREATED:20220615T040226Z
LAST-MODIFIED:20220615T040226Z
UID:27352-1659123000-1659133800@bcbsg.org
SUMMARY:Bible Study (07/29) - in person & online
DESCRIPTION:週五晚上7:30\n信徒組實體聚會，討論書籍《Growth Has No Boundaries: The Christian’s Secret to a Deeper Spiritual Life》 \n福音組hybrid聚會，討論書籍《游子吟-永恒在召唤》 \n歡迎加入我們！ \n“我們不致消滅，是出於耶和華諸般的慈愛，是因他的憐憫不至斷絕。每早晨這都是新的，你的誠實極其廣大。我心裡說：「耶和華是我的份，因此我要仰望他。」”（耶利米哀歌‬ ‭3:22-24‬）
URL:https://bcbsg.org/event/bible-study-07-29-in-person-online/
CATEGORIES:Bible Study
END:VEVENT
BEGIN:VEVENT
DTSTART;TZID=America/New_York:20220722T193000
DTEND;TZID=America/New_York:20220722T223000
DTSTAMP:20260424T231444
CREATED:20220615T040142Z
LAST-MODIFIED:20220615T040142Z
UID:27350-1658518200-1658529000@bcbsg.org
SUMMARY:Bible Study (07/22) - in person & online
DESCRIPTION:週五晚上7:30\n信徒組實體聚會，討論書籍《Growth Has No Boundaries: The Christian’s Secret to a Deeper Spiritual Life》 \n福音組hybrid聚會，討論書籍《游子吟-永恒在召唤》 \n歡迎加入我們！ \n“我們不致消滅，是出於耶和華諸般的慈愛，是因他的憐憫不至斷絕。每早晨這都是新的，你的誠實極其廣大。我心裡說：「耶和華是我的份，因此我要仰望他。」”（耶利米哀歌‬ ‭3:22-24‬）
URL:https://bcbsg.org/event/bible-study-07-22-in-person-online/
CATEGORIES:Bible Study
END:VEVENT
BEGIN:VEVENT
DTSTART;TZID=America/New_York:20220716T130000
DTEND;TZID=America/New_York:20220716T150000
DTSTAMP:20260424T231444
CREATED:20220608T015856Z
LAST-MODIFIED:20220622T034519Z
UID:27322-1657976400-1657983600@bcbsg.org
SUMMARY:Small Group Night (07/16)
DESCRIPTION:小組活動會在Cradles to Crayons 做義工，請聯絡小組長參加分組活動
URL:https://bcbsg.org/event/small-group-night-07-08/
CATEGORIES:Bible Study
END:VEVENT
BEGIN:VEVENT
DTSTART;TZID=America/New_York:20220708T193000
DTEND;TZID=America/New_York:20220708T223000
DTSTAMP:20260424T231444
CREATED:20220615T040050Z
LAST-MODIFIED:20220622T034544Z
UID:27348-1657308600-1657319400@bcbsg.org
SUMMARY:Bible Study (07/08) - in person & online
DESCRIPTION:週五晚上7:30\n信徒組實體聚會，討論書籍《Growth Has No Boundaries: The Christian’s Secret to a Deeper Spiritual Life》 \n福音組hybrid聚會，討論書籍《游子吟-永恒在召唤》 \n歡迎加入我們！ \n“我們不致消滅，是出於耶和華諸般的慈愛，是因他的憐憫不至斷絕。每早晨這都是新的，你的誠實極其廣大。我心裡說：「耶和華是我的份，因此我要仰望他。」”（耶利米哀歌‬ ‭3:22-24‬）
URL:https://bcbsg.org/event/bible-study-07-15-in-person-online/
CATEGORIES:Bible Study
END:VEVENT
BEGIN:VEVENT
DTSTART;TZID=America/New_York:20220703T140000
DTEND;TZID=America/New_York:20220703T170000
DTSTAMP:20260424T231444
CREATED:20220608T020419Z
LAST-MODIFIED:20220608T020447Z
UID:27329-1656856800-1656867600@bcbsg.org
SUMMARY:Monthly Prayer Meeting (07/03)
DESCRIPTION:Jenny will lead this prayer meeting
URL:https://bcbsg.org/event/monthly-prayer-meeting-07-03/
CATEGORIES:Monthly Prayer Meeting
END:VEVENT
BEGIN:VEVENT
DTSTART;TZID=America/New_York:20220701T193000
DTEND;TZID=America/New_York:20220701T223000
DTSTAMP:20260424T231444
CREATED:20220615T035936Z
LAST-MODIFIED:20220615T035936Z
UID:27346-1656703800-1656714600@bcbsg.org
SUMMARY:Bible Study (07/01) - in person & online
DESCRIPTION:週五晚上7:30\n信徒組實體聚會，討論書籍《Growth Has No Boundaries: The Christian’s Secret to a Deeper Spiritual Life》 \n福音組hybrid聚會，討論書籍《游子吟-永恒在召唤》 \n歡迎加入我們！ \n“我們不致消滅，是出於耶和華諸般的慈愛，是因他的憐憫不至斷絕。每早晨這都是新的，你的誠實極其廣大。我心裡說：「耶和華是我的份，因此我要仰望他。」”（耶利米哀歌‬ ‭3:22-24‬）
URL:https://bcbsg.org/event/bible-study-07-01-in-person-online/
CATEGORIES:Bible Study
END:VEVENT
BEGIN:VEVENT
DTSTART;TZID=America/New_York:20220624T193000
DTEND;TZID=America/New_York:20220624T223000
DTSTAMP:20260424T231444
CREATED:20220615T035807Z
LAST-MODIFIED:20220615T035807Z
UID:27344-1656099000-1656109800@bcbsg.org
SUMMARY:Bible Study (06/24) - in person & online
DESCRIPTION:週五晚上7:30\n信徒組實體聚會，討論書籍《Growth Has No Boundaries: The Christian’s Secret to a Deeper Spiritual Life》 \n福音組hybrid聚會，討論書籍《游子吟-永恒在召唤》 \n歡迎加入我們！ \n“我們不致消滅，是出於耶和華諸般的慈愛，是因他的憐憫不至斷絕。每早晨這都是新的，你的誠實極其廣大。我心裡說：「耶和華是我的份，因此我要仰望他。」”（耶利米哀歌‬ ‭3:22-24‬）
URL:https://bcbsg.org/event/bible-study-06-24-in-person-online/
CATEGORIES:Bible Study
END:VEVENT
BEGIN:VEVENT
DTSTART;TZID=America/New_York:20220617T193000
DTEND;TZID=America/New_York:20220617T223000
DTSTAMP:20260424T231444
CREATED:20220615T035340Z
LAST-MODIFIED:20220615T035451Z
UID:27340-1655494200-1655505000@bcbsg.org
SUMMARY:Bible Study (06/17) - in person & online
DESCRIPTION:週五晚上7:30\n信徒組實體聚會，討論書籍《Growth Has No Boundaries: The Christian’s Secret to a Deeper Spiritual Life》 \n福音組hybrid聚會，討論書籍《游子吟-永恒在召唤》 \n歡迎加入我們！ \n“我們不致消滅，是出於耶和華諸般的慈愛，是因他的憐憫不至斷絕。每早晨這都是新的，你的誠實極其廣大。我心裡說：「耶和華是我的份，因此我要仰望他。」”（耶利米哀歌‬ ‭3:22-24‬）
URL:https://bcbsg.org/event/bible-study-06-17-in-person-online/
CATEGORIES:Bible Study
END:VEVENT
BEGIN:VEVENT
DTSTART;TZID=America/New_York:20220610T193000
DTEND;TZID=America/New_York:20220610T220000
DTSTAMP:20260424T231444
CREATED:20220608T014820Z
LAST-MODIFIED:20220608T020915Z
UID:27320-1654889400-1654898400@bcbsg.org
SUMMARY:Small Group Night (06/10)
DESCRIPTION:本晚小組活動，請聯絡小組長參加分組活動
URL:https://bcbsg.org/event/small-group-night-06-11/
CATEGORIES:Bible Study
END:VEVENT
BEGIN:VEVENT
DTSTART;TZID=America/New_York:20220605T140000
DTEND;TZID=America/New_York:20220605T170000
DTSTAMP:20260424T231444
CREATED:20220608T020234Z
LAST-MODIFIED:20220608T020234Z
UID:27327-1654437600-1654448400@bcbsg.org
SUMMARY:Monthly Prayer Meeting (06/05)
DESCRIPTION:Yongfei will lead this prayer meeting
URL:https://bcbsg.org/event/monthly-prayer-meeting-06-05/
CATEGORIES:Monthly Prayer Meeting
END:VEVENT
BEGIN:VEVENT
DTSTART;TZID=America/New_York:20220603T193000
DTEND;TZID=America/New_York:20220603T223000
DTSTAMP:20260424T231444
CREATED:20220418T012447Z
LAST-MODIFIED:20220418T012831Z
UID:27315-1654284600-1654295400@bcbsg.org
SUMMARY:Bible Study (6/3) - in person & online
DESCRIPTION:週五晚上7:30\n查考使徒行傳15:30-41 \n信徒組實體聚會，福音組hybrid聚會。 \n歡迎加入我們！ \n“我們不致消滅，是出於耶和華諸般的慈愛，是因他的憐憫不至斷絕。每早晨這都是新的，你的誠實極其廣大。我心裡說：「耶和華是我的份，因此我要仰望他。」”（耶利米哀歌‬ ‭3:22-24‬）
URL:https://bcbsg.org/event/bible-study-6-3-in-person-online/
END:VEVENT
BEGIN:VEVENT
DTSTART;TZID=America/New_York:20220527T193000
DTEND;TZID=America/New_York:20220527T213000
DTSTAMP:20260424T231444
CREATED:20220102T195411Z
LAST-MODIFIED:20220418T012341Z
UID:27234-1653679800-1653687000@bcbsg.org
SUMMARY:Bible Study (5/27) - in person & online
DESCRIPTION:週五晚上7:30\n查考使徒行傳15:22-29 \n信徒組實體聚會，福音組hybrid聚會。 \n歡迎加入我們！ \n“我們不致消滅，是出於耶和華諸般的慈愛，是因他的憐憫不至斷絕。每早晨這都是新的，你的誠實極其廣大。我心裡說：「耶和華是我的份，因此我要仰望他。」”（耶利米哀歌‬ ‭3:22-24‬）
URL:https://bcbsg.org/event/bible-study-5-27-in-person-online/
CATEGORIES:Bible Study
END:VEVENT
BEGIN:VEVENT
DTSTART;TZID=America/New_York:20220520T193000
DTEND;TZID=America/New_York:20220520T213000
DTSTAMP:20260424T231444
CREATED:20220102T195315Z
LAST-MODIFIED:20220418T012304Z
UID:27232-1653075000-1653082200@bcbsg.org
SUMMARY:Bible Study (5/20) - in person & online
DESCRIPTION:週五晚上7:30\n查考使徒行傳15:13-21 \n信徒組實體聚會，福音組hybrid聚會。 \n歡迎加入我們！ \n“我們不致消滅，是出於耶和華諸般的慈愛，是因他的憐憫不至斷絕。每早晨這都是新的，你的誠實極其廣大。我心裡說：「耶和華是我的份，因此我要仰望他。」”（耶利米哀歌‬ ‭3:22-24‬）
URL:https://bcbsg.org/event/bible-study-5-20-in-person-online/
CATEGORIES:Bible Study
END:VEVENT
BEGIN:VEVENT
DTSTART;TZID=America/New_York:20220519T190000
DTEND;TZID=America/New_York:20220519T213000
DTSTAMP:20260424T231444
CREATED:20220102T202628Z
LAST-MODIFIED:20220102T202628Z
UID:27272-1652986800-1652995800@bcbsg.org
SUMMARY:Bible Prestudy (5/19) - online
DESCRIPTION:預查使徒行傳15:30-41\nYongfei將會帶領本次預查
URL:https://bcbsg.org/event/bible-prestudy-5-19-online/
CATEGORIES:Prestudy
END:VEVENT
BEGIN:VEVENT
DTSTART;TZID=America/New_York:20220513T193000
DTEND;TZID=America/New_York:20220513T213000
DTSTAMP:20260424T231444
CREATED:20220102T193356Z
LAST-MODIFIED:20220102T193356Z
UID:27205-1652470200-1652477400@bcbsg.org
SUMMARY:Small Group Night (5/13)
DESCRIPTION:本晚小組活動，請聯絡小組長參加分組活動
URL:https://bcbsg.org/event/small-group-night-5-13/
CATEGORIES:Bible Study
END:VEVENT
BEGIN:VEVENT
DTSTART;TZID=America/New_York:20220506T193000
DTEND;TZID=America/New_York:20220506T213000
DTSTAMP:20260424T231444
CREATED:20220102T195211Z
LAST-MODIFIED:20220418T012233Z
UID:27230-1651865400-1651872600@bcbsg.org
SUMMARY:Bible Study (5/6) - in person & online
DESCRIPTION:週五晚上7:30\n查考使徒行傳15:1-12 \n信徒組實體聚會，福音組hybrid聚會。 \n歡迎加入我們！ \n“我們不致消滅，是出於耶和華諸般的慈愛，是因他的憐憫不至斷絕。每早晨這都是新的，你的誠實極其廣大。我心裡說：「耶和華是我的份，因此我要仰望他。」”（耶利米哀歌‬ ‭3:22-24‬）
URL:https://bcbsg.org/event/bible-study-5-6-in-person-online/
CATEGORIES:Bible Study
END:VEVENT
BEGIN:VEVENT
DTSTART;TZID=America/New_York:20220505T190000
DTEND;TZID=America/New_York:20220505T213000
DTSTAMP:20260424T231444
CREATED:20220102T202525Z
LAST-MODIFIED:20220102T202525Z
UID:27270-1651777200-1651786200@bcbsg.org
SUMMARY:Bible Prestudy (5/5) - online
DESCRIPTION:預查使徒行傳15: 22-29\nTony將會帶領本次預查
URL:https://bcbsg.org/event/bible-prestudy-5-5-online/
CATEGORIES:Prestudy
END:VEVENT
BEGIN:VEVENT
DTSTART;TZID=America/New_York:20220501T133000
DTEND;TZID=America/New_York:20220501T173000
DTSTAMP:20260424T231444
CREATED:20220102T200136Z
LAST-MODIFIED:20220909T000004Z
UID:27242-1651411800-1651426200@bcbsg.org
SUMMARY:Monthly Prayer Meeting (5/1) - online
DESCRIPTION:Han-Ting will lead this prayer meeting
URL:https://bcbsg.org/event/monthly-prayer-meeting-5-1-online/
CATEGORIES:Monthly Prayer Meeting
END:VEVENT
BEGIN:VEVENT
DTSTART;TZID=America/New_York:20220429T193000
DTEND;TZID=America/New_York:20220429T213000
DTSTAMP:20260424T231444
CREATED:20220102T195106Z
LAST-MODIFIED:20220418T012149Z
UID:27228-1651260600-1651267800@bcbsg.org
SUMMARY:Bible Study (4/29) - in person & online
DESCRIPTION:週五晚上7:30\n查考使徒行傳14:19-28 \n信徒組實體聚會，福音組hybrid聚會。 \n歡迎加入我們！ \n“我們不致消滅，是出於耶和華諸般的慈愛，是因他的憐憫不至斷絕。每早晨這都是新的，你的誠實極其廣大。我心裡說：「耶和華是我的份，因此我要仰望他。」”（耶利米哀歌‬ ‭3:22-24‬）
URL:https://bcbsg.org/event/bible-study-4-29-in-person-online/
CATEGORIES:Bible Study
END:VEVENT
BEGIN:VEVENT
DTSTART;TZID=America/New_York:20220428T190000
DTEND;TZID=America/New_York:20220428T213000
DTSTAMP:20260424T231444
CREATED:20220102T202433Z
LAST-MODIFIED:20220102T202433Z
UID:27268-1651172400-1651181400@bcbsg.org
SUMMARY:Bible Prestudy (4/28) - online
DESCRIPTION:預查使徒行傳15:13-21\nShuai將會帶領本次預查
URL:https://bcbsg.org/event/bible-prestudy-4-28-online/
CATEGORIES:Prestudy
END:VEVENT
BEGIN:VEVENT
DTSTART;TZID=America/New_York:20220422T193000
DTEND;TZID=America/New_York:20220422T213000
DTSTAMP:20260424T231444
CREATED:20220102T194956Z
LAST-MODIFIED:20220418T012050Z
UID:27226-1650655800-1650663000@bcbsg.org
SUMMARY:Bible Study (4/22) - in person & online
DESCRIPTION:週五晚上7:30\n查考使徒行傳14:8-18 \n信徒組實體聚會，福音組hybrid聚會。 \n歡迎加入我們！ \n“我們不致消滅，是出於耶和華諸般的慈愛，是因他的憐憫不至斷絕。每早晨這都是新的，你的誠實極其廣大。我心裡說：「耶和華是我的份，因此我要仰望他。」”（耶利米哀歌‬ ‭3:22-24‬）
URL:https://bcbsg.org/event/bible-study-4-22-in-person-online/
CATEGORIES:Bible Study
END:VEVENT
BEGIN:VEVENT
DTSTART;TZID=America/New_York:20220421T190000
DTEND;TZID=America/New_York:20220421T213000
DTSTAMP:20260424T231444
CREATED:20220102T202315Z
LAST-MODIFIED:20220102T202332Z
UID:27265-1650567600-1650576600@bcbsg.org
SUMMARY:Bible Prestudy (4/21) - online
DESCRIPTION:預查使徒行傳15:1-12\nJenny將會帶領本次預查
URL:https://bcbsg.org/event/bible-prestudy-4-29-online/
CATEGORIES:Prestudy
END:VEVENT
BEGIN:VEVENT
DTSTART;TZID=America/New_York:20220415T194000
DTEND;TZID=America/New_York:20220415T213000
DTSTAMP:20260424T231444
CREATED:20220102T193724Z
LAST-MODIFIED:20220404T151932Z
UID:27207-1650051600-1650058200@bcbsg.org
SUMMARY:復活節特別活動 (4/15)
DESCRIPTION:週五晚上7:30\n我們將舉行復活節特別活動 \n歡迎加入我們！ \n“我們不致消滅，是出於耶和華諸般的慈愛，是因他的憐憫不至斷絕。每早晨這都是新的，你的誠實極其廣大。我心裡說：「耶和華是我的份，因此我要仰望他。」”（耶利米哀歌‬ ‭3:22-24‬）
URL:https://bcbsg.org/event/%e5%be%a9%e6%b4%bb%e7%af%80%e7%89%b9%e5%88%a5%e6%b4%bb%e5%8b%95-4-15-online/
CATEGORIES:Bible Study
ATTACH;FMTTYPE=image/png:https://bcbsg.org/wp-content/uploads/2022/04/2022-Easter.png
END:VEVENT
BEGIN:VEVENT
DTSTART;TZID=America/New_York:20220408T193000
DTEND;TZID=America/New_York:20220408T213000
DTSTAMP:20260424T231444
CREATED:20220102T194857Z
LAST-MODIFIED:20220102T194857Z
UID:27224-1649446200-1649453400@bcbsg.org
SUMMARY:Bible Study (4/8) - in person & online
DESCRIPTION:週五晚上7:30\n查考使徒行傳14:8-18 \n信徒組實體聚會，福音組hybrid聚會。 \n歡迎加入我們！ \n“我們不致消滅，是出於耶和華諸般的慈愛，是因他的憐憫不至斷絕。每早晨這都是新的，你的誠實極其廣大。我心裡說：「耶和華是我的份，因此我要仰望他。」”（耶利米哀歌‬ ‭3:22-24‬）
URL:https://bcbsg.org/event/bible-study-4-8-in-person-online/
CATEGORIES:Bible Study
END:VEVENT
BEGIN:VEVENT
DTSTART;TZID=America/New_York:20220407T190000
DTEND;TZID=America/New_York:20220407T213000
DTSTAMP:20260424T231444
CREATED:20220102T201420Z
LAST-MODIFIED:20220102T201501Z
UID:27263-1649358000-1649367000@bcbsg.org
SUMMARY:Bible Prestudy (4/7) - online
DESCRIPTION:預查使徒行傳14:19-28\nMike將會帶領本次預查
URL:https://bcbsg.org/event/bible-prestudy-4-7-online/
CATEGORIES:Prestudy
END:VEVENT
BEGIN:VEVENT
DTSTART;TZID=America/New_York:20220403T133000
DTEND;TZID=America/New_York:20220403T170000
DTSTAMP:20260424T231444
CREATED:20220102T200038Z
LAST-MODIFIED:20220102T200038Z
UID:27240-1648992600-1649005200@bcbsg.org
SUMMARY:Monthly Prayer Meeting (4/3) - online
DESCRIPTION:Emily will lead this prayer meeting
URL:https://bcbsg.org/event/monthly-prayer-meeting-4-3-online/
CATEGORIES:Monthly Prayer Meeting
END:VEVENT
BEGIN:VEVENT
DTSTART;TZID=America/New_York:20220401T193000
DTEND;TZID=America/New_York:20220401T213000
DTSTAMP:20260424T231444
CREATED:20220102T194749Z
LAST-MODIFIED:20220102T194749Z
UID:27222-1648841400-1648848600@bcbsg.org
SUMMARY:Bible Study (4/1) - in person & online
DESCRIPTION:週五晚上7:30\n查考使徒行傳14:1-7 \n信徒組實體聚會，福音組hybrid聚會。 \n歡迎加入我們！ \n“我們不致消滅，是出於耶和華諸般的慈愛，是因他的憐憫不至斷絕。每早晨這都是新的，你的誠實極其廣大。我心裡說：「耶和華是我的份，因此我要仰望他。」”（耶利米哀歌‬ ‭3:22-24‬）
URL:https://bcbsg.org/event/bible-study-4-1-in-person-online/
CATEGORIES:Bible Study
END:VEVENT
BEGIN:VEVENT
DTSTART;TZID=America/New_York:20220331T190000
DTEND;TZID=America/New_York:20220331T220000
DTSTAMP:20260424T231444
CREATED:20220102T201314Z
LAST-MODIFIED:20220909T000040Z
UID:27261-1648753200-1648764000@bcbsg.org
SUMMARY:Bible Prestudy (3/31) - online
DESCRIPTION:預查使徒行傳14:8-18\nHan-Ting將會帶領本次預查
URL:https://bcbsg.org/event/bible-prestudy-3-31-online/
CATEGORIES:Prestudy
END:VEVENT
BEGIN:VEVENT
DTSTART;TZID=America/New_York:20220325T193000
DTEND;TZID=America/New_York:20220325T213000
DTSTAMP:20260424T231444
CREATED:20220102T193244Z
LAST-MODIFIED:20220102T193244Z
UID:27203-1648236600-1648243800@bcbsg.org
SUMMARY:Small Group Night (3/25)
DESCRIPTION:本晚小組活動，請聯絡小組長參加分組活動
URL:https://bcbsg.org/event/small-group-night-3-25/
CATEGORIES:Bible Study
END:VEVENT
END:VCALENDAR