BEGIN:VCALENDAR
VERSION:2.0
PRODID:-//波士頓華人查經班 - ECPv5.16.4.1//NONSGML v1.0//EN
CALSCALE:GREGORIAN
METHOD:PUBLISH
X-WR-CALNAME:波士頓華人查經班
X-ORIGINAL-URL:https://bcbsg.org
X-WR-CALDESC:Events for 波士頓華人查經班
REFRESH-INTERVAL;VALUE=DURATION:PT1H
X-Robots-Tag:noindex
X-PUBLISHED-TTL:PT1H
BEGIN:VTIMEZONE
TZID:America/New_York
BEGIN:DAYLIGHT
TZOFFSETFROM:-0500
TZOFFSETTO:-0400
TZNAME:EDT
DTSTART:20210314T070000
END:DAYLIGHT
BEGIN:STANDARD
TZOFFSETFROM:-0400
TZOFFSETTO:-0500
TZNAME:EST
DTSTART:20211107T060000
END:STANDARD
BEGIN:DAYLIGHT
TZOFFSETFROM:-0500
TZOFFSETTO:-0400
TZNAME:EDT
DTSTART:20220313T070000
END:DAYLIGHT
BEGIN:STANDARD
TZOFFSETFROM:-0400
TZOFFSETTO:-0500
TZNAME:EST
DTSTART:20221106T060000
END:STANDARD
END:VTIMEZONE
BEGIN:VEVENT
DTSTART;TZID=America/New_York:20220109T133000
DTEND;TZID=America/New_York:20220109T170000
DTSTAMP:20260425T074806
CREATED:20210915T034859Z
LAST-MODIFIED:20220102T200239Z
UID:27132-1641735000-1641747600@bcbsg.org
SUMMARY:Monthly Prayer Meeting (1/9) - online
DESCRIPTION:Yongfei will lead this prayer meeting
URL:https://bcbsg.org/event/monthly-prayer-meeting-2022-1-09/
CATEGORIES:Monthly Prayer Meeting
END:VEVENT
BEGIN:VEVENT
DTSTART;TZID=America/New_York:20220107T193000
DTEND;TZID=America/New_York:20220107T213000
DTSTAMP:20260425T074806
CREATED:20220101T051211Z
LAST-MODIFIED:20220102T191838Z
UID:27176-1641583800-1641591000@bcbsg.org
SUMMARY:Bible Study (1/7) - in person & online
DESCRIPTION:週五晚上7:30\n查考使徒行傳11:19-26 \n信徒組實體聚會，福音組hybrid聚會。 \n歡迎加入我們！ \n“我們不致消滅，是出於耶和華諸般的慈愛，是因他的憐憫不至斷絕。每早晨這都是新的，你的誠實極其廣大。我心裡說：「耶和華是我的份，因此我要仰望他。」”（耶利米哀歌‬ ‭3:22-24‬）
URL:https://bcbsg.org/event/bible-study-1-7-in-person-online/
CATEGORIES:Bible Study
END:VEVENT
BEGIN:VEVENT
DTSTART;TZID=America/New_York:20220106T190000
DTEND;TZID=America/New_York:20220106T210000
DTSTAMP:20260425T074806
CREATED:20220101T050723Z
LAST-MODIFIED:20220102T190929Z
UID:27174-1641495600-1641502800@bcbsg.org
SUMMARY:Bible Prestudy (1/6) - online
DESCRIPTION:預查使徒行傳11:27-12:5\nMike將會帶領本次預查
URL:https://bcbsg.org/event/bible-prestudy-1-6-online/
CATEGORIES:Prestudy
END:VEVENT
BEGIN:VEVENT
DTSTART;TZID=America/New_York:20211231T193000
DTEND;TZID=America/New_York:20211231T220000
DTSTAMP:20260425T074806
CREATED:20211225T032026Z
LAST-MODIFIED:20211225T032522Z
UID:27166-1640979000-1640988000@bcbsg.org
SUMMARY:Winter Recess (12/31)
DESCRIPTION:Winter Recess. No Bible study this week. \nHappy New Year!
URL:https://bcbsg.org/event/winter-recess-12-31/
CATEGORIES:Bible Study
END:VEVENT
BEGIN:VEVENT
DTSTART;TZID=America/New_York:20211224T190000
DTEND;TZID=America/New_York:20211224T213000
DTSTAMP:20260425T074806
CREATED:20211015T033048Z
LAST-MODIFIED:20211218T182430Z
UID:27102-1640372400-1640381400@bcbsg.org
SUMMARY:聖誕節特別活動 (12/24)
DESCRIPTION:週五晚上7:00\n我們將舉行聖誕節特別活動 \n歡迎加入我們！ \n“我們不致消滅，是出於耶和華諸般的慈愛；是因他的憐憫不致斷絕。每早晨，這都是新的；你的誠實極其廣大！我心裏說：耶和華是我的分，因此，我要仰望他。” (‭耶利米哀歌‬ ‭3:22-24‬)
URL:https://bcbsg.org/event/%e8%81%96%e8%aa%95%e7%af%80%e7%89%b9%e5%88%a5%e6%b4%bb%e5%8b%95-12-24-online/
CATEGORIES:Bible Study
END:VEVENT
BEGIN:VEVENT
DTSTART;TZID=America/New_York:20211217T193000
DTEND;TZID=America/New_York:20211217T213000
DTSTAMP:20260425T074806
CREATED:20210915T032331Z
LAST-MODIFIED:20211029T152600Z
UID:27096-1639769400-1639776600@bcbsg.org
SUMMARY:Bible Study (12/17) - in person & online
DESCRIPTION:週五晚上7:30\n查考使徒行傳11:1-18 \n信徒組恢復實體聚會，福音組將維持線上聚會。 \n歡迎加入我們！ \n“我們不致消滅， 是出於耶和華諸般的慈愛； 是因他的憐憫不致斷絕。 每早晨，這都是新的； 你的誠實極其廣大！ 我心裏說：耶和華是我的分， 因此，我要仰望他。” (‭耶利米哀歌‬ ‭3:22-24‬)
URL:https://bcbsg.org/event/bible-study-12-17-person-online/
CATEGORIES:Bible Study
END:VEVENT
BEGIN:VEVENT
DTSTART;TZID=America/New_York:20211210T193000
DTEND;TZID=America/New_York:20211210T213000
DTSTAMP:20260425T074806
CREATED:20210915T032222Z
LAST-MODIFIED:20211029T152932Z
UID:27094-1639164600-1639171800@bcbsg.org
SUMMARY:Bible Study (12/10) - in person & online
DESCRIPTION:週五晚上7:30\n查考使徒行傳10:44-48 \n信徒組恢復實體聚會，福音組將維持線上聚會。 \n歡迎加入我們！ \n“我們不致消滅， 是出於耶和華諸般的慈愛； 是因他的憐憫不致斷絕。 每早晨，這都是新的； 你的誠實極其廣大！ 我心裏說：耶和華是我的分， 因此，我要仰望他。” (‭耶利米哀歌‬ ‭3:22-24‬)
URL:https://bcbsg.org/event/bible-study-12-10-person-online/
CATEGORIES:Bible Study
END:VEVENT
BEGIN:VEVENT
DTSTART;TZID=America/New_York:20211209T190000
DTEND;TZID=America/New_York:20211209T210000
DTSTAMP:20260425T074806
CREATED:20210915T034412Z
LAST-MODIFIED:20210915T034412Z
UID:27124-1639076400-1639083600@bcbsg.org
SUMMARY:Bible Prestudy (12/9) - online
DESCRIPTION:預查使徒行傳11:1-18\nYue 將會帶領本次預查
URL:https://bcbsg.org/event/bible-prestudy-12-9-online/
CATEGORIES:Bible Study
END:VEVENT
BEGIN:VEVENT
DTSTART;TZID=America/New_York:20211205T133000
DTEND;TZID=America/New_York:20211205T170000
DTSTAMP:20260425T074806
CREATED:20210915T034740Z
LAST-MODIFIED:20210915T034740Z
UID:27130-1638711000-1638723600@bcbsg.org
SUMMARY:Monthly Prayer Meeting (2021/12/05)
DESCRIPTION:Han-Ting will lead this prayer meeting
URL:https://bcbsg.org/event/monthly-prayer-meeting-2021-12-05/
CATEGORIES:Monthly Prayer Meeting
END:VEVENT
BEGIN:VEVENT
DTSTART;TZID=America/New_York:20211203T193000
DTEND;TZID=America/New_York:20211203T213000
DTSTAMP:20260425T074806
CREATED:20210915T032121Z
LAST-MODIFIED:20211029T152954Z
UID:27092-1638559800-1638567000@bcbsg.org
SUMMARY:Bible Study (12/03) - in person & online
DESCRIPTION:週五晚上7:30\n查考使徒行傳10:34-43 \n信徒組恢復實體聚會，福音組將維持線上聚會。 \n歡迎加入我們！ \n“我們不致消滅， 是出於耶和華諸般的慈愛； 是因他的憐憫不致斷絕。 每早晨，這都是新的； 你的誠實極其廣大！ 我心裏說：耶和華是我的分， 因此，我要仰望他。” (‭耶利米哀歌‬ ‭3:22-24‬)
URL:https://bcbsg.org/event/bible-study-12-03-person-online/
CATEGORIES:Bible Study
END:VEVENT
BEGIN:VEVENT
DTSTART;TZID=America/New_York:20211202T190000
DTEND;TZID=America/New_York:20211202T210000
DTSTAMP:20260425T074806
CREATED:20210915T034306Z
LAST-MODIFIED:20210915T034306Z
UID:27122-1638471600-1638478800@bcbsg.org
SUMMARY:Bible Prestudy (12/2) - online
DESCRIPTION:預查使徒行傳10:44-48\nAlex 將會帶領本次預查
URL:https://bcbsg.org/event/bible-prestudy-12-2-online/
CATEGORIES:Prestudy
END:VEVENT
BEGIN:VEVENT
DTSTART;TZID=America/New_York:20211126T193000
DTEND;TZID=America/New_York:20211126T213000
DTSTAMP:20260425T074806
CREATED:20210915T032824Z
LAST-MODIFIED:20210915T032824Z
UID:27100-1637955000-1637962200@bcbsg.org
SUMMARY:Thanksgiving Small Group Night (11/26) - online
DESCRIPTION:週五晚上7:30\n我們將以視訊方式進行感恩節小組活動 \n歡迎加入我們！ \n “我們不致消滅， 是出於耶和華諸般的慈愛； 是因他的憐憫不致斷絕。 每早晨，這都是新的； 你的誠實極其廣大！ 我心裏說：耶和華是我的分， 因此，我要仰望他。”\n‭‭耶利米哀歌‬ ‭3:22-24‬
URL:https://bcbsg.org/event/thanksgiving-small-group-night-11-26-online/
CATEGORIES:Bible Study
END:VEVENT
BEGIN:VEVENT
DTSTART;TZID=America/New_York:20211119T193000
DTEND;TZID=America/New_York:20211119T213000
DTSTAMP:20260425T074806
CREATED:20210915T032002Z
LAST-MODIFIED:20211029T153019Z
UID:27090-1637350200-1637357400@bcbsg.org
SUMMARY:Bible Study (11/19) - in person & online
DESCRIPTION:週五晚上7:30\n查考使徒行傳10:21-33 \n信徒組恢復實體聚會，福音組將維持線上聚會。 \n歡迎加入我們！ \n“我們不致消滅， 是出於耶和華諸般的慈愛； 是因他的憐憫不致斷絕。 每早晨，這都是新的； 你的誠實極其廣大！ 我心裏說：耶和華是我的分， 因此，我要仰望他。” (‭耶利米哀歌‬ ‭3:22-24‬)
URL:https://bcbsg.org/event/bible-study-11-19-person-online/
CATEGORIES:Bible Study
END:VEVENT
BEGIN:VEVENT
DTSTART;TZID=America/New_York:20211118T190000
DTEND;TZID=America/New_York:20211118T210000
DTSTAMP:20260425T074806
CREATED:20210915T034156Z
LAST-MODIFIED:20210915T034156Z
UID:27120-1637262000-1637269200@bcbsg.org
SUMMARY:Bible Prestudy (11/18) - online
DESCRIPTION:預查使徒行傳10:34-43\nMengjia 將會帶領本次預查
URL:https://bcbsg.org/event/bible-prestudy-11-18-online/
CATEGORIES:Prestudy
END:VEVENT
BEGIN:VEVENT
DTSTART;TZID=America/New_York:20211112T193000
DTEND;TZID=America/New_York:20211112T213000
DTSTAMP:20260425T074806
CREATED:20210915T031852Z
LAST-MODIFIED:20211029T152902Z
UID:27088-1636745400-1636752600@bcbsg.org
SUMMARY:Bible Study (11/12) - in person & online
DESCRIPTION:週五晚上7:30\n查考使徒行傳10:9-20 \n信徒組恢復實體聚會，福音組將維持線上聚會。 \n歡迎加入我們！ \n“我們不致消滅， 是出於耶和華諸般的慈愛； 是因他的憐憫不致斷絕。 每早晨，這都是新的； 你的誠實極其廣大！ 我心裏說：耶和華是我的分， 因此，我要仰望他。” (‭耶利米哀歌‬ ‭3:22-24‬)
URL:https://bcbsg.org/event/bible-study-11-12-person-online/
CATEGORIES:Bible Study
END:VEVENT
BEGIN:VEVENT
DTSTART;TZID=America/New_York:20211107T133000
DTEND;TZID=America/New_York:20211107T170000
DTSTAMP:20260425T074806
CREATED:20210915T034642Z
LAST-MODIFIED:20210915T034642Z
UID:27128-1636291800-1636304400@bcbsg.org
SUMMARY:Monthly Prayer Meeting (2021/11/07)
DESCRIPTION:Emily will lead this prayer meeting
URL:https://bcbsg.org/event/monthly-prayer-meeting-2021-11-07/
CATEGORIES:Monthly Prayer Meeting
END:VEVENT
BEGIN:VEVENT
DTSTART;TZID=America/New_York:20211105T193000
DTEND;TZID=America/New_York:20211105T213000
DTSTAMP:20260425T074806
CREATED:20210915T031752Z
LAST-MODIFIED:20211029T152757Z
UID:27086-1636140600-1636147800@bcbsg.org
SUMMARY:Bible Study (11/05) - in person & online
DESCRIPTION:週五晚上7:30\n查考使徒行傳10:1-8 \n信徒組恢復實體聚會，福音組將維持線上聚會。 \n歡迎加入我們！ \n“我們不致消滅， 是出於耶和華諸般的慈愛； 是因他的憐憫不致斷絕。 每早晨，這都是新的； 你的誠實極其廣大！ 我心裏說：耶和華是我的分， 因此，我要仰望他。” (‭耶利米哀歌‬ ‭3:22-24‬)
URL:https://bcbsg.org/event/bible-study-11-05-person-online/
CATEGORIES:Bible Study
END:VEVENT
BEGIN:VEVENT
DTSTART;TZID=America/New_York:20211104T190000
DTEND;TZID=America/New_York:20211104T210000
DTSTAMP:20260425T074806
CREATED:20210915T033948Z
LAST-MODIFIED:20210915T033948Z
UID:27116-1636052400-1636059600@bcbsg.org
SUMMARY:Bible Prestudy (11/4) - online
DESCRIPTION:預查使徒行傳10:9-20\nYongfei 將會帶領本次預查
URL:https://bcbsg.org/event/bible-prestudy-11-4-online/
CATEGORIES:Prestudy
END:VEVENT
BEGIN:VEVENT
DTSTART;TZID=America/New_York:20211029T193000
DTEND;TZID=America/New_York:20211029T213000
DTSTAMP:20260425T074806
CREATED:20210915T031517Z
LAST-MODIFIED:20211029T153904Z
UID:27082-1635535800-1635543000@bcbsg.org
SUMMARY:Bible Study (10/29) - in person & online
DESCRIPTION:週五晚上7:30\n查考使徒行傳9:32-43 \n信徒組恢復實體聚會，福音組將維持線上聚會。 \n歡迎加入我們！ \n“我們不致消滅， 是出於耶和華諸般的慈愛； 是因他的憐憫不致斷絕。 每早晨，這都是新的； 你的誠實極其廣大！ 我心裏說：耶和華是我的分， 因此，我要仰望他。” (‭耶利米哀歌‬ ‭3:22-24‬)
URL:https://bcbsg.org/event/bible-study-10-29-person-online/
CATEGORIES:Bible Study
END:VEVENT
BEGIN:VEVENT
DTSTART;TZID=America/New_York:20211028T190000
DTEND;TZID=America/New_York:20211028T210000
DTSTAMP:20260425T074806
CREATED:20210915T033840Z
LAST-MODIFIED:20210915T033840Z
UID:27114-1635447600-1635454800@bcbsg.org
SUMMARY:Bible Prestudy (10/28) - online
DESCRIPTION:預查使徒行傳10:1-8\nTony 將會帶領本次預查
URL:https://bcbsg.org/event/bible-prestudy-10-28-online/
CATEGORIES:Prestudy
END:VEVENT
BEGIN:VEVENT
DTSTART;TZID=America/New_York:20211022T193000
DTEND;TZID=America/New_York:20211022T213000
DTSTAMP:20260425T074806
CREATED:20210915T032512Z
LAST-MODIFIED:20210915T032512Z
UID:27098-1634931000-1634938200@bcbsg.org
SUMMARY:Small Group Night (10/22)-online
DESCRIPTION:週五晚上7:30\n我們將以視訊方式進行小組活動 \n歡迎加入我們！ \n “我們不致消滅， 是出於耶和華諸般的慈愛； 是因他的憐憫不致斷絕。 每早晨，這都是新的； 你的誠實極其廣大！ 我心裏說：耶和華是我的分， 因此，我要仰望他。”\n‭‭耶利米哀歌‬ ‭3:22-24‬
URL:https://bcbsg.org/event/small-group-night-10-22-online/
CATEGORIES:Bible Study
END:VEVENT
BEGIN:VEVENT
DTSTART;TZID=America/New_York:20211015T193000
DTEND;TZID=America/New_York:20211015T213000
DTSTAMP:20260425T074806
CREATED:20210915T031356Z
LAST-MODIFIED:20210915T031558Z
UID:27080-1634326200-1634333400@bcbsg.org
SUMMARY:Bible Study (10/15) - in person & online
DESCRIPTION:週五晚上7:30\n查考使徒行傳9:26-31 \n信徒組恢復實體聚會，福音組將維持線上聚會。 \n歡迎加入我們！ \n “我們不致消滅，是出於耶和華諸般的慈愛；是因他的憐憫不致斷絕。每早晨，這都是新的； 你的誠實極其廣大！我心裏說：耶和華是我的分，因此，我要仰望他。”\n‭‭耶利米哀歌‬ ‭3:22-24‬
URL:https://bcbsg.org/event/bible-study-10-15-person-online/
CATEGORIES:Bible Study
END:VEVENT
BEGIN:VEVENT
DTSTART;TZID=America/New_York:20211014T190000
DTEND;TZID=America/New_York:20211014T210000
DTSTAMP:20260425T074806
CREATED:20210915T033729Z
LAST-MODIFIED:20210915T033729Z
UID:27112-1634238000-1634245200@bcbsg.org
SUMMARY:Bible Prestudy (10/14) - online
DESCRIPTION:預查使徒行傳9:32-43\nShuai 將會帶領本次預查
URL:https://bcbsg.org/event/bible-prestudy-10-14-online/
CATEGORIES:Prestudy
END:VEVENT
BEGIN:VEVENT
DTSTART;TZID=America/New_York:20211008T193000
DTEND;TZID=America/New_York:20211008T213000
DTSTAMP:20260425T074806
CREATED:20210915T031251Z
LAST-MODIFIED:20210915T031622Z
UID:27078-1633721400-1633728600@bcbsg.org
SUMMARY:Bible Study (10/08) - in person & online
DESCRIPTION:週五晚上7:30\n查考使徒行傳9:19b-25 \n信徒組恢復實體聚會，福音組將維持線上聚會。 \n歡迎加入我們！ \n “我們不致消滅，是出於耶和華諸般的慈愛；是因他的憐憫不致斷絕。每早晨，這都是新的； 你的誠實極其廣大！我心裏說：耶和華是我的分，因此，我要仰望他。”\n‭‭耶利米哀歌‬ ‭3:22-24‬
URL:https://bcbsg.org/event/bible-study-10-08-person-online/
CATEGORIES:Bible Study
END:VEVENT
BEGIN:VEVENT
DTSTART;TZID=America/New_York:20211007T190000
DTEND;TZID=America/New_York:20211007T210000
DTSTAMP:20260425T074806
CREATED:20210915T033630Z
LAST-MODIFIED:20210915T033630Z
UID:27110-1633633200-1633640400@bcbsg.org
SUMMARY:Bible Prestudy (10/7) - online
DESCRIPTION:預查使徒行傳9:26-31\nJenny 將會帶領本次預查
URL:https://bcbsg.org/event/bible-prestudy-10-7-online/
CATEGORIES:Prestudy
END:VEVENT
BEGIN:VEVENT
DTSTART;TZID=America/New_York:20211003T133000
DTEND;TZID=America/New_York:20211003T170000
DTSTAMP:20260425T074806
CREATED:20210915T034547Z
LAST-MODIFIED:20210915T034547Z
UID:27126-1633267800-1633280400@bcbsg.org
SUMMARY:Monthly Prayer Meeting (2021/10/03)
DESCRIPTION:Mengjia will lead this prayer meeting
URL:https://bcbsg.org/event/monthly-prayer-meeting-2021-10-03/
CATEGORIES:Monthly Prayer Meeting
END:VEVENT
BEGIN:VEVENT
DTSTART;TZID=America/New_York:20211001T193000
DTEND;TZID=America/New_York:20211001T213000
DTSTAMP:20260425T074806
CREATED:20210915T024550Z
LAST-MODIFIED:20210915T024550Z
UID:27071-1633116600-1633123800@bcbsg.org
SUMMARY:Bible Study (10/01) - in person & online
DESCRIPTION:週五晚上7:30\n查考使徒行傳9:10-19a \n信徒組恢復實體聚會，福音組將維持線上聚會。 \n歡迎加入我們！ \n “我們不致消滅，是出於耶和華諸般的慈愛；是因他的憐憫不致斷絕。每早晨，這都是新的； 你的誠實極其廣大！我心裏說：耶和華是我的分，因此，我要仰望他。”\n‭‭耶利米哀歌‬ ‭3:22-24‬
URL:https://bcbsg.org/event/bible-study-10-01-person-online/
CATEGORIES:Bible Study
END:VEVENT
BEGIN:VEVENT
DTSTART;TZID=America/New_York:20210930T190000
DTEND;TZID=America/New_York:20210930T210000
DTSTAMP:20260425T074806
CREATED:20210915T033520Z
LAST-MODIFIED:20210915T033520Z
UID:27108-1633028400-1633035600@bcbsg.org
SUMMARY:Bible Prestudy (9/30) - online
DESCRIPTION:預查使徒行傳9:19b-25\nMike 將會帶領本次預查
URL:https://bcbsg.org/event/bible-prestudy-9-30-online/
CATEGORIES:Prestudy
END:VEVENT
BEGIN:VEVENT
DTSTART;TZID=America/New_York:20210924T193000
DTEND;TZID=America/New_York:20210924T213000
DTSTAMP:20260425T074806
CREATED:20210915T024140Z
LAST-MODIFIED:20210915T024140Z
UID:27069-1632511800-1632519000@bcbsg.org
SUMMARY:Bible Study (9/24) - in person & online
DESCRIPTION:週五晚上7:30\n查考使徒行傳9:1-9 \n信徒組恢復實體聚會，福音組將維持線上聚會。 \n歡迎加入我們！ \n “我們不致消滅，是出於耶和華諸般的慈愛；是因他的憐憫不致斷絕。每早晨，這都是新的； 你的誠實極其廣大！我心裏說：耶和華是我的分，因此，我要仰望他。”\n‭‭耶利米哀歌‬ ‭3:22-24‬
URL:https://bcbsg.org/event/bible-study-9-24-person-online/
CATEGORIES:Bible Study
END:VEVENT
BEGIN:VEVENT
DTSTART;TZID=America/New_York:20210923T190000
DTEND;TZID=America/New_York:20210923T210000
DTSTAMP:20260425T074806
CREATED:20210915T033403Z
LAST-MODIFIED:20210915T033403Z
UID:27106-1632423600-1632430800@bcbsg.org
SUMMARY:Bible Prestudy (9/23) - online
DESCRIPTION:預查使徒行傳9:10-19a\nHan-Ting 將會帶領本次預查
URL:https://bcbsg.org/event/bible-prestudy-9-23-online/
CATEGORIES:Prestudy
END:VEVENT
END:VCALENDAR