BEGIN:VCALENDAR
VERSION:2.0
PRODID:-//波士頓華人查經班 - ECPv5.16.4.1//NONSGML v1.0//EN
CALSCALE:GREGORIAN
METHOD:PUBLISH
X-ORIGINAL-URL:https://bcbsg.org
X-WR-CALDESC:Events for 波士頓華人查經班
REFRESH-INTERVAL;VALUE=DURATION:PT1H
X-Robots-Tag:noindex
X-PUBLISHED-TTL:PT1H
BEGIN:VTIMEZONE
TZID:America/New_York
BEGIN:DAYLIGHT
TZOFFSETFROM:-0500
TZOFFSETTO:-0400
TZNAME:EDT
DTSTART:20210314T070000
END:DAYLIGHT
BEGIN:STANDARD
TZOFFSETFROM:-0400
TZOFFSETTO:-0500
TZNAME:EST
DTSTART:20211107T060000
END:STANDARD
END:VTIMEZONE
BEGIN:VEVENT
DTSTART;TZID=America/New_York:20211022T193000
DTEND;TZID=America/New_York:20211022T213000
DTSTAMP:20260425T110507
CREATED:20210915T032512Z
LAST-MODIFIED:20210915T032512Z
UID:27098-1634931000-1634938200@bcbsg.org
SUMMARY:Small Group Night (10/22)-online
DESCRIPTION:週五晚上7:30\n我們將以視訊方式進行小組活動 \n歡迎加入我們！ \n “我們不致消滅， 是出於耶和華諸般的慈愛； 是因他的憐憫不致斷絕。 每早晨，這都是新的； 你的誠實極其廣大！ 我心裏說：耶和華是我的分， 因此，我要仰望他。”\n‭‭耶利米哀歌‬ ‭3:22-24‬
URL:https://bcbsg.org/event/small-group-night-10-22-online/
CATEGORIES:Bible Study
END:VEVENT
BEGIN:VEVENT
DTSTART;TZID=America/New_York:20211015T193000
DTEND;TZID=America/New_York:20211015T213000
DTSTAMP:20260425T110507
CREATED:20210915T031356Z
LAST-MODIFIED:20210915T031558Z
UID:27080-1634326200-1634333400@bcbsg.org
SUMMARY:Bible Study (10/15) - in person & online
DESCRIPTION:週五晚上7:30\n查考使徒行傳9:26-31 \n信徒組恢復實體聚會，福音組將維持線上聚會。 \n歡迎加入我們！ \n “我們不致消滅，是出於耶和華諸般的慈愛；是因他的憐憫不致斷絕。每早晨，這都是新的； 你的誠實極其廣大！我心裏說：耶和華是我的分，因此，我要仰望他。”\n‭‭耶利米哀歌‬ ‭3:22-24‬
URL:https://bcbsg.org/event/bible-study-10-15-person-online/
CATEGORIES:Bible Study
END:VEVENT
BEGIN:VEVENT
DTSTART;TZID=America/New_York:20211014T190000
DTEND;TZID=America/New_York:20211014T210000
DTSTAMP:20260425T110507
CREATED:20210915T033729Z
LAST-MODIFIED:20210915T033729Z
UID:27112-1634238000-1634245200@bcbsg.org
SUMMARY:Bible Prestudy (10/14) - online
DESCRIPTION:預查使徒行傳9:32-43\nShuai 將會帶領本次預查
URL:https://bcbsg.org/event/bible-prestudy-10-14-online/
CATEGORIES:Prestudy
END:VEVENT
BEGIN:VEVENT
DTSTART;TZID=America/New_York:20211008T193000
DTEND;TZID=America/New_York:20211008T213000
DTSTAMP:20260425T110507
CREATED:20210915T031251Z
LAST-MODIFIED:20210915T031622Z
UID:27078-1633721400-1633728600@bcbsg.org
SUMMARY:Bible Study (10/08) - in person & online
DESCRIPTION:週五晚上7:30\n查考使徒行傳9:19b-25 \n信徒組恢復實體聚會，福音組將維持線上聚會。 \n歡迎加入我們！ \n “我們不致消滅，是出於耶和華諸般的慈愛；是因他的憐憫不致斷絕。每早晨，這都是新的； 你的誠實極其廣大！我心裏說：耶和華是我的分，因此，我要仰望他。”\n‭‭耶利米哀歌‬ ‭3:22-24‬
URL:https://bcbsg.org/event/bible-study-10-08-person-online/
CATEGORIES:Bible Study
END:VEVENT
BEGIN:VEVENT
DTSTART;TZID=America/New_York:20211007T190000
DTEND;TZID=America/New_York:20211007T210000
DTSTAMP:20260425T110507
CREATED:20210915T033630Z
LAST-MODIFIED:20210915T033630Z
UID:27110-1633633200-1633640400@bcbsg.org
SUMMARY:Bible Prestudy (10/7) - online
DESCRIPTION:預查使徒行傳9:26-31\nJenny 將會帶領本次預查
URL:https://bcbsg.org/event/bible-prestudy-10-7-online/
CATEGORIES:Prestudy
END:VEVENT
BEGIN:VEVENT
DTSTART;TZID=America/New_York:20211003T133000
DTEND;TZID=America/New_York:20211003T170000
DTSTAMP:20260425T110507
CREATED:20210915T034547Z
LAST-MODIFIED:20210915T034547Z
UID:27126-1633267800-1633280400@bcbsg.org
SUMMARY:Monthly Prayer Meeting (2021/10/03)
DESCRIPTION:Mengjia will lead this prayer meeting
URL:https://bcbsg.org/event/monthly-prayer-meeting-2021-10-03/
CATEGORIES:Monthly Prayer Meeting
END:VEVENT
BEGIN:VEVENT
DTSTART;TZID=America/New_York:20211001T193000
DTEND;TZID=America/New_York:20211001T213000
DTSTAMP:20260425T110507
CREATED:20210915T024550Z
LAST-MODIFIED:20210915T024550Z
UID:27071-1633116600-1633123800@bcbsg.org
SUMMARY:Bible Study (10/01) - in person & online
DESCRIPTION:週五晚上7:30\n查考使徒行傳9:10-19a \n信徒組恢復實體聚會，福音組將維持線上聚會。 \n歡迎加入我們！ \n “我們不致消滅，是出於耶和華諸般的慈愛；是因他的憐憫不致斷絕。每早晨，這都是新的； 你的誠實極其廣大！我心裏說：耶和華是我的分，因此，我要仰望他。”\n‭‭耶利米哀歌‬ ‭3:22-24‬
URL:https://bcbsg.org/event/bible-study-10-01-person-online/
CATEGORIES:Bible Study
END:VEVENT
BEGIN:VEVENT
DTSTART;TZID=America/New_York:20210930T190000
DTEND;TZID=America/New_York:20210930T210000
DTSTAMP:20260425T110507
CREATED:20210915T033520Z
LAST-MODIFIED:20210915T033520Z
UID:27108-1633028400-1633035600@bcbsg.org
SUMMARY:Bible Prestudy (9/30) - online
DESCRIPTION:預查使徒行傳9:19b-25\nMike 將會帶領本次預查
URL:https://bcbsg.org/event/bible-prestudy-9-30-online/
CATEGORIES:Prestudy
END:VEVENT
BEGIN:VEVENT
DTSTART;TZID=America/New_York:20210924T193000
DTEND;TZID=America/New_York:20210924T213000
DTSTAMP:20260425T110507
CREATED:20210915T024140Z
LAST-MODIFIED:20210915T024140Z
UID:27069-1632511800-1632519000@bcbsg.org
SUMMARY:Bible Study (9/24) - in person & online
DESCRIPTION:週五晚上7:30\n查考使徒行傳9:1-9 \n信徒組恢復實體聚會，福音組將維持線上聚會。 \n歡迎加入我們！ \n “我們不致消滅，是出於耶和華諸般的慈愛；是因他的憐憫不致斷絕。每早晨，這都是新的； 你的誠實極其廣大！我心裏說：耶和華是我的分，因此，我要仰望他。”\n‭‭耶利米哀歌‬ ‭3:22-24‬
URL:https://bcbsg.org/event/bible-study-9-24-person-online/
CATEGORIES:Bible Study
END:VEVENT
BEGIN:VEVENT
DTSTART;TZID=America/New_York:20210923T190000
DTEND;TZID=America/New_York:20210923T210000
DTSTAMP:20260425T110507
CREATED:20210915T033403Z
LAST-MODIFIED:20210915T033403Z
UID:27106-1632423600-1632430800@bcbsg.org
SUMMARY:Bible Prestudy (9/23) - online
DESCRIPTION:預查使徒行傳9:10-19a\nHan-Ting 將會帶領本次預查
URL:https://bcbsg.org/event/bible-prestudy-9-23-online/
CATEGORIES:Prestudy
END:VEVENT
BEGIN:VEVENT
DTSTART;TZID=America/New_York:20210917T100000
DTEND;TZID=America/New_York:20210917T120000
DTSTAMP:20260425T110507
CREATED:20210821T173837Z
LAST-MODIFIED:20210915T025440Z
UID:27039-1631872800-1631880000@bcbsg.org
SUMMARY:迎新活動 Welcoming Party （09/17）
DESCRIPTION:我們將於本週六舉辦迎新活動\, 歡迎大家屆時參加！
URL:https://bcbsg.org/event/%e8%bf%8e%e6%96%b0%e6%b4%bb%e5%8b%95-welcoming-party-%ef%bc%8809-17%ef%bc%89/
CATEGORIES:Bible Study
END:VEVENT
BEGIN:VEVENT
DTSTART;TZID=America/New_York:20210916T070000
DTEND;TZID=America/New_York:20210916T210000
DTSTAMP:20260425T110507
CREATED:20210915T033235Z
LAST-MODIFIED:20210915T033235Z
UID:27104-1631775600-1631826000@bcbsg.org
SUMMARY:Bible Prestudy (9/16) - online
DESCRIPTION:預查使徒行傳9:1-9\nYue 將會帶領本次預查
URL:https://bcbsg.org/event/bible-prestudy-9-16-online/
CATEGORIES:Prestudy
END:VEVENT
BEGIN:VEVENT
DTSTART;TZID=America/New_York:20210911T190000
DTEND;TZID=America/New_York:20210911T210000
DTSTAMP:20260425T110507
CREATED:20210915T034050Z
LAST-MODIFIED:20210915T034050Z
UID:27118-1631386800-1631394000@bcbsg.org
SUMMARY:Bible Prestudy (11/11) - online
DESCRIPTION:預查使徒行傳10:21-33\nEmily 將會帶領本次預查
URL:https://bcbsg.org/event/bible-prestudy-11-11-online/
CATEGORIES:Prestudy
END:VEVENT
BEGIN:VEVENT
DTSTART;TZID=America/New_York:20210910T193000
DTEND;TZID=America/New_York:20210910T213000
DTSTAMP:20260425T110507
CREATED:20210821T172448Z
LAST-MODIFIED:20210821T172721Z
UID:27027-1631302200-1631309400@bcbsg.org
SUMMARY:Bible Study (9/10) - in person & online
DESCRIPTION:週五晚上7:30\n信徒組恢復實體聚會，討論書籍“Confession\, The Road To Forgiveness. By Andrew Murray” \n福音組將維持線上聚會，複習使徒行傳第五～八章。 \n歡迎加入我們！ \n “我們不致消滅，是出於耶和華諸般的慈愛；是因他的憐憫不致斷絕。每早晨，這都是新的； 你的誠實極其廣大！我心裏說：耶和華是我的分，因此，我要仰望他。”\n‭‭耶利米哀歌‬ ‭3:22-24‬
URL:https://bcbsg.org/event/bible-study-9-10-person-online/
CATEGORIES:Bible Study
END:VEVENT
BEGIN:VEVENT
DTSTART;TZID=America/New_York:20210904T133000
DTEND;TZID=America/New_York:20210904T170000
DTSTAMP:20260425T110507
CREATED:20210821T173428Z
LAST-MODIFIED:20210821T173428Z
UID:27037-1630762200-1630774800@bcbsg.org
SUMMARY:Co-worker retreat (2021/09/04)
DESCRIPTION:2021 Co-worker retreat. Details will be coming out soon.
URL:https://bcbsg.org/event/co-worker-retreat-2021-09-04/
CATEGORIES:Monthly Prayer Meeting
END:VEVENT
BEGIN:VEVENT
DTSTART;TZID=America/New_York:20210903T193000
DTEND;TZID=America/New_York:20210903T213000
DTSTAMP:20260425T110507
CREATED:20210821T172350Z
LAST-MODIFIED:20210821T172637Z
UID:27025-1630697400-1630704600@bcbsg.org
SUMMARY:Bible Study (9/3) - in person & online
DESCRIPTION:週五晚上7:30\n信徒組恢復實體聚會，討論書籍“Confession\, The Road To Forgiveness. By Andrew Murray” \n福音組將維持線上聚會，複習使徒行傳第一～四章。 \n歡迎加入我們！ \n “我們不致消滅，是出於耶和華諸般的慈愛；是因他的憐憫不致斷絕。每早晨，這都是新的； 你的誠實極其廣大！我心裏說：耶和華是我的分，因此，我要仰望他。”\n‭‭耶利米哀歌‬ ‭3:22-24‬
URL:https://bcbsg.org/event/bible-study-9-3-person-online/
CATEGORIES:Bible Study
END:VEVENT
BEGIN:VEVENT
DTSTART;TZID=America/New_York:20210827T193000
DTEND;TZID=America/New_York:20210827T213000
DTSTAMP:20260425T110507
CREATED:20210821T172233Z
LAST-MODIFIED:20210821T174743Z
UID:27023-1630092600-1630099800@bcbsg.org
SUMMARY:Bible Study (8/27) - in person & online
DESCRIPTION:週五晚上7:30\n信徒組恢復實體聚會，討論書籍“Confession\, The Road To Forgiveness. By Andrew Murray” \n福音組維持線上聚會，本週將邀請莊祖鯤牧師來為大家進行短講以及問題與解答。 \n歡迎加入我們！ \n “我們不致消滅，是出於耶和華諸般的慈愛；是因他的憐憫不致斷絕。每早晨，這都是新的； 你的誠實極其廣大！我心裏說：耶和華是我的分，因此，我要仰望他。”\n‭‭耶利米哀歌‬ ‭3:22-24‬
URL:https://bcbsg.org/event/bible-study-8-27-person-online/
CATEGORIES:Bible Study
END:VEVENT
BEGIN:VEVENT
DTSTART;TZID=America/New_York:20210820T193000
DTEND;TZID=America/New_York:20210820T213000
DTSTAMP:20260425T110507
CREATED:20210821T172149Z
LAST-MODIFIED:20210821T172149Z
UID:27021-1629487800-1629495000@bcbsg.org
SUMMARY:Bible Study (8/20) - in person & online
DESCRIPTION:週五晚上7:30\n信徒組恢復實體聚會，討論書籍“Confession\, The Road To Forgiveness. By Andrew Murray” \n福音組將維持線上聚會，討論夏季主題「神的創造」。 \n歡迎加入我們！ \n “我們不致消滅，是出於耶和華諸般的慈愛；是因他的憐憫不致斷絕。每早晨，這都是新的； 你的誠實極其廣大！我心裏說：耶和華是我的分，因此，我要仰望他。”\n‭‭耶利米哀歌‬ ‭3:22-24‬
URL:https://bcbsg.org/event/bible-study-8-20-person-online/
CATEGORIES:Bible Study
END:VEVENT
BEGIN:VEVENT
DTSTART;TZID=America/New_York:20210813T193000
DTEND;TZID=America/New_York:20210813T213000
DTSTAMP:20260425T110507
CREATED:20210821T172056Z
LAST-MODIFIED:20210821T172056Z
UID:27019-1628883000-1628890200@bcbsg.org
SUMMARY:Bible Study (8/13) - in person & online
DESCRIPTION:週五晚上7:30\n信徒組恢復實體聚會，討論書籍“Confession\, The Road To Forgiveness. By Andrew Murray” \n福音組將維持線上聚會，討論夏季主題「神的創造」。 \n歡迎加入我們！ \n “我們不致消滅，是出於耶和華諸般的慈愛；是因他的憐憫不致斷絕。每早晨，這都是新的； 你的誠實極其廣大！我心裏說：耶和華是我的分，因此，我要仰望他。”\n‭‭耶利米哀歌‬ ‭3:22-24‬
URL:https://bcbsg.org/event/bible-study-8-13-person-online/
CATEGORIES:Bible Study
END:VEVENT
BEGIN:VEVENT
DTSTART;TZID=America/New_York:20210808T133000
DTEND;TZID=America/New_York:20210808T170000
DTSTAMP:20260425T110507
CREATED:20210821T173123Z
LAST-MODIFIED:20210821T173123Z
UID:27035-1628429400-1628442000@bcbsg.org
SUMMARY:Monthly Prayer Meeting (2021/08/08)
DESCRIPTION:Jenny will lead this prayer meeting
URL:https://bcbsg.org/event/monthly-prayer-meeting-2021-08-08/
CATEGORIES:Monthly Prayer Meeting
END:VEVENT
BEGIN:VEVENT
DTSTART;TZID=America/New_York:20210806T193000
DTEND;TZID=America/New_York:20210806T213000
DTSTAMP:20260425T110507
CREATED:20210821T174405Z
LAST-MODIFIED:20210821T174405Z
UID:27046-1628278200-1628285400@bcbsg.org
SUMMARY:Small Group Night (8/6)-online
DESCRIPTION:週五晚上7:30\n我們將以視訊方式進行小組活動 \n歡迎加入我們！ \n “我們不致消滅， 是出於耶和華諸般的慈愛； 是因他的憐憫不致斷絕。 每早晨，這都是新的； 你的誠實極其廣大！ 我心裏說：耶和華是我的分， 因此，我要仰望他。”\n‭‭耶利米哀歌‬ ‭3:22-24‬
URL:https://bcbsg.org/event/small-group-night-8-6-online/
CATEGORIES:Bible Study
END:VEVENT
BEGIN:VEVENT
DTSTART;TZID=America/New_York:20210730T193000
DTEND;TZID=America/New_York:20210730T213000
DTSTAMP:20260425T110507
CREATED:20210821T171959Z
LAST-MODIFIED:20210821T171959Z
UID:27017-1627673400-1627680600@bcbsg.org
SUMMARY:Bible Study (7/30) - in person & online
DESCRIPTION:週五晚上7:30\n信徒組恢復實體聚會，討論書籍“Confession\, The Road To Forgiveness. By Andrew Murray” \n福音組將維持線上聚會，討論夏季主題「神的創造」。 \n歡迎加入我們！ \n “我們不致消滅，是出於耶和華諸般的慈愛；是因他的憐憫不致斷絕。每早晨，這都是新的； 你的誠實極其廣大！我心裏說：耶和華是我的分，因此，我要仰望他。”\n‭‭耶利米哀歌‬ ‭3:22-24‬
URL:https://bcbsg.org/event/bible-study-7-30-person-online/
CATEGORIES:Bible Study
END:VEVENT
BEGIN:VEVENT
DTSTART;TZID=America/New_York:20210723T193000
DTEND;TZID=America/New_York:20210723T213000
DTSTAMP:20260425T110507
CREATED:20210821T171801Z
LAST-MODIFIED:20210821T171801Z
UID:27015-1627068600-1627075800@bcbsg.org
SUMMARY:Bible Study (7/23) - in person & online
DESCRIPTION:週五晚上7:30\n信徒組恢復實體聚會，討論書籍“Confession\, The Road To Forgiveness. By Andrew Murray” \n福音組將維持線上聚會，討論夏季主題「神的創造」。 \n歡迎加入我們！ \n “我們不致消滅，是出於耶和華諸般的慈愛；是因他的憐憫不致斷絕。每早晨，這都是新的； 你的誠實極其廣大！我心裏說：耶和華是我的分，因此，我要仰望他。”\n‭‭耶利米哀歌‬ ‭3:22-24‬
URL:https://bcbsg.org/event/bible-study-7-23-person-online/
CATEGORIES:Bible Study
END:VEVENT
BEGIN:VEVENT
DTSTART;TZID=America/New_York:20210716T193000
DTEND;TZID=America/New_York:20210716T213000
DTSTAMP:20260425T110507
CREATED:20210821T171709Z
LAST-MODIFIED:20210821T171709Z
UID:27013-1626463800-1626471000@bcbsg.org
SUMMARY:Bible Study (7/16) - in person & online
DESCRIPTION:週五晚上7:30\n信徒組恢復實體聚會，討論書籍“Confession\, The Road To Forgiveness. By Andrew Murray” \n福音組將維持線上聚會，討論夏季主題「神的創造」。 \n歡迎加入我們！ \n “我們不致消滅，是出於耶和華諸般的慈愛；是因他的憐憫不致斷絕。每早晨，這都是新的； 你的誠實極其廣大！我心裏說：耶和華是我的分，因此，我要仰望他。”\n‭‭耶利米哀歌‬ ‭3:22-24‬
URL:https://bcbsg.org/event/bible-study-7-16-person-online/
CATEGORIES:Bible Study
END:VEVENT
BEGIN:VEVENT
DTSTART;TZID=America/New_York:20210709T193000
DTEND;TZID=America/New_York:20210709T213000
DTSTAMP:20260425T110507
CREATED:20210821T174257Z
LAST-MODIFIED:20210821T174257Z
UID:27044-1625859000-1625866200@bcbsg.org
SUMMARY:Small Group Night (7/9)-online
DESCRIPTION:週五晚上7:30\n我們將以視訊方式進行小組活動 \n歡迎加入我們！ \n “我們不致消滅， 是出於耶和華諸般的慈愛； 是因他的憐憫不致斷絕。 每早晨，這都是新的； 你的誠實極其廣大！ 我心裏說：耶和華是我的分， 因此，我要仰望他。”\n‭‭耶利米哀歌‬ ‭3:22-24‬
URL:https://bcbsg.org/event/small-group-night-7-9-online/
CATEGORIES:Bible Study
END:VEVENT
BEGIN:VEVENT
DTSTART;TZID=America/New_York:20210704T133000
DTEND;TZID=America/New_York:20210704T170000
DTSTAMP:20260425T110507
CREATED:20210821T173016Z
LAST-MODIFIED:20210821T173016Z
UID:27033-1625405400-1625418000@bcbsg.org
SUMMARY:Monthly Prayer Meeting (2021/07/04)
DESCRIPTION:Yongfei will lead this prayer meeting
URL:https://bcbsg.org/event/monthly-prayer-meeting-2021-07-04/
CATEGORIES:Monthly Prayer Meeting
END:VEVENT
BEGIN:VEVENT
DTSTART;TZID=America/New_York:20210702T193000
DTEND;TZID=America/New_York:20210702T213000
DTSTAMP:20260425T110507
CREATED:20210821T171604Z
LAST-MODIFIED:20210821T171604Z
UID:27011-1625254200-1625261400@bcbsg.org
SUMMARY:Bible Study (7/2) - in person & online
DESCRIPTION:週五晚上7:30\n信徒組恢復實體聚會，討論書籍“Confession\, The Road To Forgiveness. By Andrew Murray” \n福音組將維持線上聚會，討論夏季主題「神的創造」。 \n歡迎加入我們！ \n “我們不致消滅，是出於耶和華諸般的慈愛；是因他的憐憫不致斷絕。每早晨，這都是新的； 你的誠實極其廣大！我心裏說：耶和華是我的分，因此，我要仰望他。”\n‭‭耶利米哀歌‬ ‭3:22-24‬
URL:https://bcbsg.org/event/bible-study-7-2-person-online/
CATEGORIES:Bible Study
END:VEVENT
BEGIN:VEVENT
DTSTART;TZID=America/New_York:20210625T193000
DTEND;TZID=America/New_York:20210625T213000
DTSTAMP:20260425T110507
CREATED:20210821T171504Z
LAST-MODIFIED:20210821T171504Z
UID:27009-1624649400-1624656600@bcbsg.org
SUMMARY:Bible Study (6/25) - in person & online
DESCRIPTION:週五晚上7:30\n信徒組恢復實體聚會，討論書籍“Confession\, The Road To Forgiveness. By Andrew Murray” \n福音組將維持線上聚會，討論夏季主題「神的創造」。 \n歡迎加入我們！ \n “我們不致消滅，是出於耶和華諸般的慈愛；是因他的憐憫不致斷絕。每早晨，這都是新的； 你的誠實極其廣大！我心裏說：耶和華是我的分，因此，我要仰望他。”\n‭‭耶利米哀歌‬ ‭3:22-24‬
URL:https://bcbsg.org/event/bible-study-6-25-person-online/
CATEGORIES:Bible Study
END:VEVENT
BEGIN:VEVENT
DTSTART;TZID=America/New_York:20210625T193000
DTEND;TZID=America/New_York:20210625T213000
DTSTAMP:20260425T110507
CREATED:20210622T151719Z
LAST-MODIFIED:20210622T151719Z
UID:26999-1624649400-1624656600@bcbsg.org
SUMMARY:6/25/21 Summer Special Program
DESCRIPTION:週五晚上7:30\n我們將邀請莊祖鯤牧師進行夏季短講，主題為「天何言哉」。 \n\n歡迎加入我們！ \n “我們不致消滅，是出於耶和華諸般的慈愛；是因他的憐憫不致斷絕。每早晨，這都是新的； 你的誠實極其廣大！我心裏說：耶和華是我的分，因此，我要仰望他。”\n‭‭耶利米哀歌‬ ‭3:22-24‬
URL:https://bcbsg.org/event/6-25-21-summer-special-program/
CATEGORIES:Bible Study
END:VEVENT
BEGIN:VEVENT
DTSTART;TZID=America/New_York:20210618T193000
DTEND;TZID=America/New_York:20210618T213000
DTSTAMP:20260425T110507
CREATED:20210821T171340Z
LAST-MODIFIED:20210821T171340Z
UID:27007-1624044600-1624051800@bcbsg.org
SUMMARY:Bible Study (6/18) - in person & online
DESCRIPTION:週五晚上7:30\n信徒組恢復實體聚會，討論書籍“Confession\, The Road To Forgiveness. By Andrew Murray” \n福音組將維持線上聚會，討論夏季主題「神的創造」。 \n歡迎加入我們！ \n “我們不致消滅，是出於耶和華諸般的慈愛；是因他的憐憫不致斷絕。每早晨，這都是新的； 你的誠實極其廣大！我心裏說：耶和華是我的分，因此，我要仰望他。”\n‭‭耶利米哀歌‬ ‭3:22-24‬
URL:https://bcbsg.org/event/bible-study-6-18-person-online/
CATEGORIES:Bible Study
END:VEVENT
END:VCALENDAR