BEGIN:VCALENDAR
VERSION:2.0
PRODID:-//波士頓華人查經班 - ECPv5.16.4.1//NONSGML v1.0//EN
CALSCALE:GREGORIAN
METHOD:PUBLISH
X-ORIGINAL-URL:https://bcbsg.org
X-WR-CALDESC:Events for 波士頓華人查經班
REFRESH-INTERVAL;VALUE=DURATION:PT1H
X-Robots-Tag:noindex
X-PUBLISHED-TTL:PT1H
BEGIN:VTIMEZONE
TZID:America/New_York
BEGIN:DAYLIGHT
TZOFFSETFROM:-0500
TZOFFSETTO:-0400
TZNAME:EDT
DTSTART:20210314T070000
END:DAYLIGHT
BEGIN:STANDARD
TZOFFSETFROM:-0400
TZOFFSETTO:-0500
TZNAME:EST
DTSTART:20211107T060000
END:STANDARD
END:VTIMEZONE
BEGIN:VEVENT
DTSTART;TZID=America/New_York:20210430T193000
DTEND;TZID=America/New_York:20210430T220000
DTSTAMP:20260425T175950
CREATED:20210106T201429Z
LAST-MODIFIED:20210416T015633Z
UID:26916-1619811000-1619820000@bcbsg.org
SUMMARY:Bible Study (4/30) - in person & online
DESCRIPTION:週五晚上7:30\n我們將查考學習使徒行傳8:18-25 \n信徒組恢復實體聚會，福音組將維持線上聚會。 \n歡迎加入我們！ \n “我們不致消滅，是出於耶和華諸般的慈愛；是因他的憐憫不致斷絕。每早晨，這都是新的； 你的誠實極其廣大！我心裏說：耶和華是我的分，因此，我要仰望他。”\n‭‭耶利米哀歌‬ ‭3:22-24‬
URL:https://bcbsg.org/event/bible-study-4-30-online/
CATEGORIES:Bible Study
END:VEVENT
BEGIN:VEVENT
DTSTART;TZID=America/New_York:20210423T193000
DTEND;TZID=America/New_York:20210423T220000
DTSTAMP:20260425T175950
CREATED:20210106T201209Z
LAST-MODIFIED:20210416T015656Z
UID:26914-1619206200-1619215200@bcbsg.org
SUMMARY:Bible Study (4/23) - in person & online
DESCRIPTION:週五晚上7:30\n我們將查考學習使徒行傳8:9-17 \n信徒組恢復實體聚會，福音組將維持線上聚會。 \n歡迎加入我們！ \n “我們不致消滅，是出於耶和華諸般的慈愛；是因他的憐憫不致斷絕。每早晨，這都是新的； 你的誠實極其廣大！我心裏說：耶和華是我的分，因此，我要仰望他。”\n‭‭耶利米哀歌‬ ‭3:22-24‬
URL:https://bcbsg.org/event/bible-study-4-23-online/
CATEGORIES:Bible Study
END:VEVENT
BEGIN:VEVENT
DTSTART;TZID=America/New_York:20210422T190000
DTEND;TZID=America/New_York:20210422T213000
DTSTAMP:20260425T175950
CREATED:20210106T205322Z
LAST-MODIFIED:20210106T205322Z
UID:26948-1619118000-1619127000@bcbsg.org
SUMMARY:Bible Prestudy (4/22) - online
DESCRIPTION:預查使徒行傳8:18-25\nYongfei 將會帶領本次預查
URL:https://bcbsg.org/event/bible-prestudy-4-22-online/
CATEGORIES:Prestudy
END:VEVENT
BEGIN:VEVENT
DTSTART;TZID=America/New_York:20210416T193000
DTEND;TZID=America/New_York:20210416T220000
DTSTAMP:20260425T175950
CREATED:20210106T201035Z
LAST-MODIFIED:20210416T015722Z
UID:26912-1618601400-1618610400@bcbsg.org
SUMMARY:Bible Study (4/16) - in person & online
DESCRIPTION:週五晚上7:30\n我們將查考學習使徒行傳8:1-8 \n信徒組恢復實體聚會，福音組將維持線上聚會。 \n歡迎加入我們！ \n “我們不致消滅，是出於耶和華諸般的慈愛；是因他的憐憫不致斷絕。每早晨，這都是新的； 你的誠實極其廣大！我心裏說：耶和華是我的分，因此，我要仰望他。”\n‭‭耶利米哀歌‬ ‭3:22-24‬
URL:https://bcbsg.org/event/bible-study-4-16-online/
CATEGORIES:Bible Study
END:VEVENT
BEGIN:VEVENT
DTSTART;TZID=America/New_York:20210415T190000
DTEND;TZID=America/New_York:20210415T213000
DTSTAMP:20260425T175950
CREATED:20210106T205203Z
LAST-MODIFIED:20210106T205203Z
UID:26946-1618513200-1618522200@bcbsg.org
SUMMARY:Bible Prestudy (4/15) - online
DESCRIPTION:預查使徒行傳8:9-17\nTony 將會帶領本次預查
URL:https://bcbsg.org/event/bible-prestudy-4-15-online/
CATEGORIES:Prestudy
END:VEVENT
BEGIN:VEVENT
DTSTART;TZID=America/New_York:20210409T193000
DTEND;TZID=America/New_York:20210409T220000
DTSTAMP:20260425T175950
CREATED:20210106T200857Z
LAST-MODIFIED:20210106T200857Z
UID:26910-1617996600-1618005600@bcbsg.org
SUMMARY:Bible Study (4/9) - online
DESCRIPTION:週五晚上7:30\n我們將以線上方式聚會查考學習使徒行傳7:54-60 \n歡迎加入我們！ \n “我們不致消滅，是出於耶和華諸般的慈愛；是因他的憐憫不致斷絕。每早晨，這都是新的； 你的誠實極其廣大！我心裏說：耶和華是我的分，因此，我要仰望他。”\n‭‭耶利米哀歌‬ ‭3:22-24‬  \nImportant Coronavirus Update for BCBSG \nLetter from the Head of BCBSG: \n\nDear all\, \nIn response to the latest developments in the coronavirus outbreak\, after prayer and discussions\, the core co-worker team has decided to postpone our regular gatherings at the Church of Nazarene and move to an online model starting the week of March 15\, 2020. \nWith such move\, we hope to reduce the risk of an infected person among us leading to a quarantine for everyone. Each small group will now conduct the singspiration and Bible study (review of the book of Acts) online\, with its own pace and collaboration tools. \nThe core co-worker team will keep monitoring the situation and re-evaluate when to resume the regular meeting. \nWhile the challenges of the virus are many and great\, none of them are unforeseen by God. Let’s all pray that God lead and protect us through this turbulent time. \nBlessings\,\nTony
URL:https://bcbsg.org/event/bible-study-4-9-online/
CATEGORIES:Bible Study
END:VEVENT
BEGIN:VEVENT
DTSTART;TZID=America/New_York:20210408T190000
DTEND;TZID=America/New_York:20210408T213000
DTSTAMP:20260425T175950
CREATED:20210106T205030Z
LAST-MODIFIED:20210106T205030Z
UID:26944-1617908400-1617917400@bcbsg.org
SUMMARY:Bible Prestudy (4/8) - online
DESCRIPTION:預查使徒行傳8:1-8\nShuai 將會帶領本次預查
URL:https://bcbsg.org/event/bible-prestudy-4-8-online/
CATEGORIES:Prestudy
END:VEVENT
BEGIN:VEVENT
DTSTART;TZID=America/New_York:20210404T133000
DTEND;TZID=America/New_York:20210404T170000
DTSTAMP:20260425T175950
CREATED:20210106T194043Z
LAST-MODIFIED:20210106T194043Z
UID:26888-1617543000-1617555600@bcbsg.org
SUMMARY:Monthly Prayer Meeting (2021/04/04)
DESCRIPTION:Mengjia will lead this prayer meeting
URL:https://bcbsg.org/event/monthly-prayer-meeting-2021-04-04/
CATEGORIES:Monthly Prayer Meeting
END:VEVENT
BEGIN:VEVENT
DTSTART;TZID=America/New_York:20210402T193000
DTEND;TZID=America/New_York:20210402T213000
DTSTAMP:20260425T175950
CREATED:20210106T205940Z
LAST-MODIFIED:20210106T210119Z
UID:26954-1617391800-1617399000@bcbsg.org
SUMMARY:復活節特別活動 (4/2) - online
DESCRIPTION:週五晚上7:30\n本週我們將以視訊方式舉辦復活節特別活動 \n歡迎加入我們！ \n “我們不致消滅，是出於耶和華諸般的慈愛；是因他的憐憫不致斷絕。每早晨，這都是新的；你的誠實極其廣大！我心裏說：耶和華是我的分，因此，我要仰望他。”\n‭‭耶利米哀歌‬ ‭3:22-24‬
URL:https://bcbsg.org/event/%e5%be%a9%e6%b4%bb%e7%af%80%e7%89%b9%e5%88%a5%e6%b4%bb%e5%8b%95-4-2-online/
CATEGORIES:Bible Study
END:VEVENT
BEGIN:VEVENT
DTSTART;TZID=America/New_York:20210326T193000
DTEND;TZID=America/New_York:20210326T220000
DTSTAMP:20260425T175950
CREATED:20210106T200538Z
LAST-MODIFIED:20210106T200538Z
UID:26908-1616787000-1616796000@bcbsg.org
SUMMARY:Bible Study (3/26) - online
DESCRIPTION:週五晚上7:30\n我們將以線上方式聚會查考學習使徒行傳7:51-53 \n歡迎加入我們！ \n “我們不致消滅，是出於耶和華諸般的慈愛；是因他的憐憫不致斷絕。每早晨，這都是新的； 你的誠實極其廣大！我心裏說：耶和華是我的分，因此，我要仰望他。”\n‭‭耶利米哀歌‬ ‭3:22-24‬  \nImportant Coronavirus Update for BCBSG \nLetter from the Head of BCBSG: \n\nDear all\, \nIn response to the latest developments in the coronavirus outbreak\, after prayer and discussions\, the core co-worker team has decided to postpone our regular gatherings at the Church of Nazarene and move to an online model starting the week of March 15\, 2020. \nWith such move\, we hope to reduce the risk of an infected person among us leading to a quarantine for everyone. Each small group will now conduct the singspiration and Bible study (review of the book of Acts) online\, with its own pace and collaboration tools. \nThe core co-worker team will keep monitoring the situation and re-evaluate when to resume the regular meeting. \nWhile the challenges of the virus are many and great\, none of them are unforeseen by God. Let’s all pray that God lead and protect us through this turbulent time. \nBlessings\,\nTony
URL:https://bcbsg.org/event/bible-study-3-26-online/
CATEGORIES:Bible Study
END:VEVENT
BEGIN:VEVENT
DTSTART;TZID=America/New_York:20210325T190000
DTEND;TZID=America/New_York:20210325T213000
DTSTAMP:20260425T175950
CREATED:20210106T204856Z
LAST-MODIFIED:20210106T204856Z
UID:26942-1616698800-1616707800@bcbsg.org
SUMMARY:Bible Prestudy (3/25) - online
DESCRIPTION:預查使徒行傳7:54-60\nJenny 將會帶領本次預查
URL:https://bcbsg.org/event/bible-prestudy-3-25-online/
CATEGORIES:Prestudy
END:VEVENT
BEGIN:VEVENT
DTSTART;TZID=America/New_York:20210319T193000
DTEND;TZID=America/New_York:20210319T220000
DTSTAMP:20260425T175950
CREATED:20210106T200313Z
LAST-MODIFIED:20210106T200313Z
UID:26906-1616182200-1616191200@bcbsg.org
SUMMARY:Bible Study (3/19) - online
DESCRIPTION:週五晚上7:30\n我們將以線上方式聚會查考學習使徒行傳7:42b-50 \n歡迎加入我們！ \n “我們不致消滅，是出於耶和華諸般的慈愛；是因他的憐憫不致斷絕。每早晨，這都是新的； 你的誠實極其廣大！我心裏說：耶和華是我的分，因此，我要仰望他。”\n‭‭耶利米哀歌‬ ‭3:22-24‬  \nImportant Coronavirus Update for BCBSG \nLetter from the Head of BCBSG: \n\nDear all\, \nIn response to the latest developments in the coronavirus outbreak\, after prayer and discussions\, the core co-worker team has decided to postpone our regular gatherings at the Church of Nazarene and move to an online model starting the week of March 15\, 2020. \nWith such move\, we hope to reduce the risk of an infected person among us leading to a quarantine for everyone. Each small group will now conduct the singspiration and Bible study (review of the book of Acts) online\, with its own pace and collaboration tools. \nThe core co-worker team will keep monitoring the situation and re-evaluate when to resume the regular meeting. \nWhile the challenges of the virus are many and great\, none of them are unforeseen by God. Let’s all pray that God lead and protect us through this turbulent time. \nBlessings\,\nTony
URL:https://bcbsg.org/event/bible-study-3-19-online/
CATEGORIES:Bible Study
END:VEVENT
BEGIN:VEVENT
DTSTART;TZID=America/New_York:20210318T190000
DTEND;TZID=America/New_York:20210318T213000
DTSTAMP:20260425T175950
CREATED:20210106T204739Z
LAST-MODIFIED:20210106T204739Z
UID:26940-1616094000-1616103000@bcbsg.org
SUMMARY:Bible Prestudy (3/18) - online
DESCRIPTION:預查使徒行傳7:51-53\nYue 將會帶領本次預查
URL:https://bcbsg.org/event/bible-prestudy-3-18-online/
CATEGORIES:Prestudy
END:VEVENT
BEGIN:VEVENT
DTSTART;TZID=America/New_York:20210312T193000
DTEND;TZID=America/New_York:20210312T220000
DTSTAMP:20260425T175950
CREATED:20210106T210518Z
LAST-MODIFIED:20210106T210518Z
UID:26961-1615577400-1615586400@bcbsg.org
SUMMARY:小組活動 (3/12) - online
DESCRIPTION:本週小組活動，請聯絡小組長參加分組活動
URL:https://bcbsg.org/event/%e5%b0%8f%e7%b5%84%e6%b4%bb%e5%8b%95-3-12-online/
CATEGORIES:Bible Study
END:VEVENT
BEGIN:VEVENT
DTSTART;TZID=America/New_York:20210307T133000
DTEND;TZID=America/New_York:20210307T170000
DTSTAMP:20260425T175950
CREATED:20210106T193921Z
LAST-MODIFIED:20210106T194408Z
UID:26886-1615123800-1615136400@bcbsg.org
SUMMARY:Monthly Prayer Meeting (2021/03/07)
DESCRIPTION:Jenny will lead this prayer meeting
URL:https://bcbsg.org/event/monthly-prayer-meeting-2021-03-07/
CATEGORIES:Monthly Prayer Meeting
END:VEVENT
BEGIN:VEVENT
DTSTART;TZID=America/New_York:20210305T193000
DTEND;TZID=America/New_York:20210305T220000
DTSTAMP:20260425T175950
CREATED:20210106T195944Z
LAST-MODIFIED:20210106T195944Z
UID:26904-1614972600-1614981600@bcbsg.org
SUMMARY:Bible Study (3/5) - online
DESCRIPTION:週五晚上7:30\n我們將以線上方式聚會查考學習使徒行傳7:35-42a \n歡迎加入我們！ \n “我們不致消滅， 是出於耶和華諸般的慈愛； 是因他的憐憫不致斷絕。 每早晨，這都是新的； 你的誠實極其廣大！ 我心裏說：耶和華是我的分， 因此，我要仰望他。”\n‭‭耶利米哀歌‬ ‭3:22-24‬  \nImportant Coronavirus Update for BCBSG \nLetter from the Head of BCBSG: \n\nDear all\, \nIn response to the latest developments in the coronavirus outbreak\, after prayer and discussions\, the core co-worker team has decided to postpone our regular gatherings at the Church of Nazarene and move to an online model starting the week of March 15\, 2020. \nWith such move\, we hope to reduce the risk of an infected person among us leading to a quarantine for everyone. Each small group will now conduct the singspiration and Bible study (review of the book of Acts) online\, with its own pace and collaboration tools. \nThe core co-worker team will keep monitoring the situation and re-evaluate when to resume the regular meeting. \nWhile the challenges of the virus are many and great\, none of them are unforeseen by God. Let’s all pray that God lead and protect us through this turbulent time. \nBlessings\,\nTony
URL:https://bcbsg.org/event/bible-study-3-5-online/
CATEGORIES:Bible Study
END:VEVENT
BEGIN:VEVENT
DTSTART;TZID=America/New_York:20210304T070000
DTEND;TZID=America/New_York:20210304T213000
DTSTAMP:20260425T175950
CREATED:20210106T204527Z
LAST-MODIFIED:20210106T204527Z
UID:26938-1614841200-1614893400@bcbsg.org
SUMMARY:Bible Prestudy (3/4) - online
DESCRIPTION:預查使徒行傳7:42b-50\nHan-Ting 將會帶領本次預查
URL:https://bcbsg.org/event/bible-prestudy-3-4-online/
CATEGORIES:Prestudy
END:VEVENT
BEGIN:VEVENT
DTSTART;TZID=America/New_York:20210226T193000
DTEND;TZID=America/New_York:20210226T220000
DTSTAMP:20260425T175950
CREATED:20210106T195726Z
LAST-MODIFIED:20210106T195726Z
UID:26902-1614367800-1614376800@bcbsg.org
SUMMARY:Bible Study (2/26) - online
DESCRIPTION:週五晚上7:30\n我們將以線上方式聚會查考學習使徒行傳7:17-34 \n歡迎加入我們！ \n “我們不致消滅， 是出於耶和華諸般的慈愛； 是因他的憐憫不致斷絕。 每早晨，這都是新的； 你的誠實極其廣大！ 我心裏說：耶和華是我的分， 因此，我要仰望他。”\n‭‭耶利米哀歌‬ ‭3:22-24‬  \nImportant Coronavirus Update for BCBSG \nLetter from the Head of BCBSG: \n\nDear all\, \nIn response to the latest developments in the coronavirus outbreak\, after prayer and discussions\, the core co-worker team has decided to postpone our regular gatherings at the Church of Nazarene and move to an online model starting the week of March 15\, 2020. \nWith such move\, we hope to reduce the risk of an infected person among us leading to a quarantine for everyone. Each small group will now conduct the singspiration and Bible study (review of the book of Acts) online\, with its own pace and collaboration tools. \nThe core co-worker team will keep monitoring the situation and re-evaluate when to resume the regular meeting. \nWhile the challenges of the virus are many and great\, none of them are unforeseen by God. Let’s all pray that God lead and protect us through this turbulent time. \nBlessings\,\nTony
URL:https://bcbsg.org/event/bible-study-2-26-online/
CATEGORIES:Bible Study
END:VEVENT
BEGIN:VEVENT
DTSTART;TZID=America/New_York:20210225T190000
DTEND;TZID=America/New_York:20210225T213000
DTSTAMP:20260425T175950
CREATED:20210106T204322Z
LAST-MODIFIED:20210106T204322Z
UID:26936-1614279600-1614288600@bcbsg.org
SUMMARY:Bible Prestudy (2/25) - online
DESCRIPTION:預查使徒行傳7:35-42a\nMike 將會帶領本次預查
URL:https://bcbsg.org/event/bible-prestudy-2-25-online/
CATEGORIES:Prestudy
END:VEVENT
BEGIN:VEVENT
DTSTART;TZID=America/New_York:20210219T193000
DTEND;TZID=America/New_York:20210219T220000
DTSTAMP:20260425T175950
CREATED:20210106T195610Z
LAST-MODIFIED:20210106T195610Z
UID:26900-1613763000-1613772000@bcbsg.org
SUMMARY:Bible Study (2/19) - online
DESCRIPTION:週五晚上7:30\n我們將以線上方式聚會查考學習使徒行傳7:9-16 \n歡迎加入我們！ \n “我們不致消滅， 是出於耶和華諸般的慈愛； 是因他的憐憫不致斷絕。 每早晨，這都是新的； 你的誠實極其廣大！ 我心裏說：耶和華是我的分， 因此，我要仰望他。”\n‭‭耶利米哀歌‬ ‭3:22-24‬  \nImportant Coronavirus Update for BCBSG \nLetter from the Head of BCBSG: \n\nDear all\, \nIn response to the latest developments in the coronavirus outbreak\, after prayer and discussions\, the core co-worker team has decided to postpone our regular gatherings at the Church of Nazarene and move to an online model starting the week of March 15\, 2020. \nWith such move\, we hope to reduce the risk of an infected person among us leading to a quarantine for everyone. Each small group will now conduct the singspiration and Bible study (review of the book of Acts) online\, with its own pace and collaboration tools. \nThe core co-worker team will keep monitoring the situation and re-evaluate when to resume the regular meeting. \nWhile the challenges of the virus are many and great\, none of them are unforeseen by God. Let’s all pray that God lead and protect us through this turbulent time. \nBlessings\,\nTony
URL:https://bcbsg.org/event/bible-study-2-19-online/
CATEGORIES:Bible Study
END:VEVENT
BEGIN:VEVENT
DTSTART;TZID=America/New_York:20210218T190000
DTEND;TZID=America/New_York:20210218T213000
DTSTAMP:20260425T175950
CREATED:20210106T204152Z
LAST-MODIFIED:20210106T204152Z
UID:26934-1613674800-1613683800@bcbsg.org
SUMMARY:Bible Prestudy (2/18) - online
DESCRIPTION:預查使徒行傳7:17-34\nMengjia 將會帶領本次預查
URL:https://bcbsg.org/event/bible-prestudy-2-18-online/
CATEGORIES:Prestudy
END:VEVENT
BEGIN:VEVENT
DTSTART;TZID=America/New_York:20210212T193000
DTEND;TZID=America/New_York:20210212T220000
DTSTAMP:20260425T175950
CREATED:20210106T210423Z
LAST-MODIFIED:20210106T210423Z
UID:26959-1613158200-1613167200@bcbsg.org
SUMMARY:小組活動 (2/12) - online
DESCRIPTION:本週小組活動，請聯絡小組長參加分組活動
URL:https://bcbsg.org/event/%e5%b0%8f%e7%b5%84%e6%b4%bb%e5%8b%95-2-12-online/
CATEGORIES:Bible Study
END:VEVENT
BEGIN:VEVENT
DTSTART;TZID=America/New_York:20210207T133000
DTEND;TZID=America/New_York:20210207T170000
DTSTAMP:20260425T175950
CREATED:20210106T193819Z
LAST-MODIFIED:20210106T193819Z
UID:26884-1612704600-1612717200@bcbsg.org
SUMMARY:Monthly Prayer Meeting (2021/02/07)
DESCRIPTION:Yongfei will lead this prayer meeting
URL:https://bcbsg.org/event/monthly-prayer-meeting-2021-02-07/
CATEGORIES:Monthly Prayer Meeting
END:VEVENT
BEGIN:VEVENT
DTSTART;TZID=America/New_York:20210205T193000
DTEND;TZID=America/New_York:20210205T220000
DTSTAMP:20260425T175950
CREATED:20210106T195223Z
LAST-MODIFIED:20210106T195223Z
UID:26898-1612553400-1612562400@bcbsg.org
SUMMARY:Bible Study (2/5) - online
DESCRIPTION:週五晚上7:30\n我們將以線上方式聚會查考學習使徒行傳7:1-8 \n歡迎加入我們！ \n “我們不致消滅， 是出於耶和華諸般的慈愛； 是因他的憐憫不致斷絕。 每早晨，這都是新的； 你的誠實極其廣大！ 我心裏說：耶和華是我的分， 因此，我要仰望他。”\n‭‭耶利米哀歌‬ ‭3:22-24‬  \nImportant Coronavirus Update for BCBSG \nLetter from the Head of BCBSG: \n\nDear all\, \nIn response to the latest developments in the coronavirus outbreak\, after prayer and discussions\, the core co-worker team has decided to postpone our regular gatherings at the Church of Nazarene and move to an online model starting the week of March 15\, 2020. \nWith such move\, we hope to reduce the risk of an infected person among us leading to a quarantine for everyone. Each small group will now conduct the singspiration and Bible study (review of the book of Acts) online\, with its own pace and collaboration tools. \nThe core co-worker team will keep monitoring the situation and re-evaluate when to resume the regular meeting. \nWhile the challenges of the virus are many and great\, none of them are unforeseen by God. Let’s all pray that God lead and protect us through this turbulent time. \nBlessings\,\nTony
URL:https://bcbsg.org/event/bible-study-2-5-online/
CATEGORIES:Bible Study
END:VEVENT
BEGIN:VEVENT
DTSTART;TZID=America/New_York:20210204T190000
DTEND;TZID=America/New_York:20210204T210000
DTSTAMP:20260425T175950
CREATED:20210106T204015Z
LAST-MODIFIED:20210106T204015Z
UID:26932-1612465200-1612472400@bcbsg.org
SUMMARY:Bible Prestudy (2/4) - online
DESCRIPTION:預查使徒行傳7:9-16\nEmily 將會帶領本次預查
URL:https://bcbsg.org/event/bible-prestudy-2-4-online/
CATEGORIES:Prestudy
END:VEVENT
BEGIN:VEVENT
DTSTART;TZID=America/New_York:20210129T193000
DTEND;TZID=America/New_York:20210129T220000
DTSTAMP:20260425T175950
CREATED:20210106T195051Z
LAST-MODIFIED:20210106T195051Z
UID:26896-1611948600-1611957600@bcbsg.org
SUMMARY:Bible Study (1/29) - online
DESCRIPTION:週五晚上7:30\n我們將以線上方式聚會查考學習使徒行傳6:8-15 \n歡迎加入我們！ \n “我們不致消滅， 是出於耶和華諸般的慈愛； 是因他的憐憫不致斷絕。 每早晨，這都是新的； 你的誠實極其廣大！ 我心裏說：耶和華是我的分， 因此，我要仰望他。”\n‭‭耶利米哀歌‬ ‭3:22-24‬  \nImportant Coronavirus Update for BCBSG \nLetter from the Head of BCBSG: \n\nDear all\, \nIn response to the latest developments in the coronavirus outbreak\, after prayer and discussions\, the core co-worker team has decided to postpone our regular gatherings at the Church of Nazarene and move to an online model starting the week of March 15\, 2020. \nWith such move\, we hope to reduce the risk of an infected person among us leading to a quarantine for everyone. Each small group will now conduct the singspiration and Bible study (review of the book of Acts) online\, with its own pace and collaboration tools. \nThe core co-worker team will keep monitoring the situation and re-evaluate when to resume the regular meeting. \nWhile the challenges of the virus are many and great\, none of them are unforeseen by God. Let’s all pray that God lead and protect us through this turbulent time. \nBlessings\,\nTony
URL:https://bcbsg.org/event/bible-study-1-29-online/
CATEGORIES:Bible Study
END:VEVENT
BEGIN:VEVENT
DTSTART;TZID=America/New_York:20210128T190000
DTEND;TZID=America/New_York:20210128T210000
DTSTAMP:20260425T175950
CREATED:20210106T202549Z
LAST-MODIFIED:20210106T202549Z
UID:26929-1611860400-1611867600@bcbsg.org
SUMMARY:Bible Prestudy (1/28) - online
DESCRIPTION:預查使徒行傳7:1-8\nYongfei 將會帶領本次預查
URL:https://bcbsg.org/event/bible-prestudy-1-28-online/
CATEGORIES:Prestudy
END:VEVENT
BEGIN:VEVENT
DTSTART;TZID=America/New_York:20210122T193000
DTEND;TZID=America/New_York:20210122T220000
DTSTAMP:20260425T175950
CREATED:20210106T194908Z
LAST-MODIFIED:20210106T194908Z
UID:26894-1611343800-1611352800@bcbsg.org
SUMMARY:Bible Study (1/22) - online
DESCRIPTION:週五晚上7:30\n我們將以線上方式聚會查考學習使徒行傳6:1-7 \n歡迎加入我們！ \n “我們不致消滅， 是出於耶和華諸般的慈愛； 是因他的憐憫不致斷絕。 每早晨，這都是新的； 你的誠實極其廣大！ 我心裏說：耶和華是我的分， 因此，我要仰望他。”\n‭‭耶利米哀歌‬ ‭3:22-24‬  \nImportant Coronavirus Update for BCBSG \nLetter from the Head of BCBSG: \n\nDear all\, \nIn response to the latest developments in the coronavirus outbreak\, after prayer and discussions\, the core co-worker team has decided to postpone our regular gatherings at the Church of Nazarene and move to an online model starting the week of March 15\, 2020. \nWith such move\, we hope to reduce the risk of an infected person among us leading to a quarantine for everyone. Each small group will now conduct the singspiration and Bible study (review of the book of Acts) online\, with its own pace and collaboration tools. \nThe core co-worker team will keep monitoring the situation and re-evaluate when to resume the regular meeting. \nWhile the challenges of the virus are many and great\, none of them are unforeseen by God. Let’s all pray that God lead and protect us through this turbulent time. \nBlessings\,\nTony
URL:https://bcbsg.org/event/bible-study-1-22-online/
CATEGORIES:Bible Study
END:VEVENT
BEGIN:VEVENT
DTSTART;TZID=America/New_York:20210121T190000
DTEND;TZID=America/New_York:20210121T210000
DTSTAMP:20260425T175950
CREATED:20210106T202337Z
LAST-MODIFIED:20210106T202337Z
UID:26927-1611255600-1611262800@bcbsg.org
SUMMARY:Bible Prestudy (1/21) - online
DESCRIPTION:預查使徒行傳6:8-15\nTony 將會帶領本次預查
URL:https://bcbsg.org/event/bible-prestudy-1-21-online/
CATEGORIES:Prestudy
END:VEVENT
BEGIN:VEVENT
DTSTART;TZID=America/New_York:20210115T193000
DTEND;TZID=America/New_York:20210115T220000
DTSTAMP:20260425T175950
CREATED:20210106T194639Z
LAST-MODIFIED:20210106T194639Z
UID:26892-1610739000-1610748000@bcbsg.org
SUMMARY:Bible Study (01/15) - online
DESCRIPTION:週五晚上7:30\n我們將以線上方式聚會查考學習使徒行傳5:33-42 \n歡迎加入我們！ \n “我們不致消滅， 是出於耶和華諸般的慈愛； 是因他的憐憫不致斷絕。 每早晨，這都是新的； 你的誠實極其廣大！ 我心裏說：耶和華是我的分， 因此，我要仰望他。”\n‭‭耶利米哀歌‬ ‭3:22-24‬  \nImportant Coronavirus Update for BCBSG \nLetter from the Head of BCBSG: \n\nDear all\, \nIn response to the latest developments in the coronavirus outbreak\, after prayer and discussions\, the core co-worker team has decided to postpone our regular gatherings at the Church of Nazarene and move to an online model starting the week of March 15\, 2020. \nWith such move\, we hope to reduce the risk of an infected person among us leading to a quarantine for everyone. Each small group will now conduct the singspiration and Bible study (review of the book of Acts) online\, with its own pace and collaboration tools. \nThe core co-worker team will keep monitoring the situation and re-evaluate when to resume the regular meeting. \nWhile the challenges of the virus are many and great\, none of them are unforeseen by God. Let’s all pray that God lead and protect us through this turbulent time. \nBlessings\,\nTony
URL:https://bcbsg.org/event/bible-study-01-15-online/
CATEGORIES:Bible Study
END:VEVENT
END:VCALENDAR