BEGIN:VCALENDAR
VERSION:2.0
PRODID:-//波士頓華人查經班 - ECPv5.16.4.1//NONSGML v1.0//EN
CALSCALE:GREGORIAN
METHOD:PUBLISH
X-WR-CALNAME:波士頓華人查經班
X-ORIGINAL-URL:https://bcbsg.org
X-WR-CALDESC:Events for 波士頓華人查經班
REFRESH-INTERVAL;VALUE=DURATION:PT1H
X-Robots-Tag:noindex
X-PUBLISHED-TTL:PT1H
BEGIN:VTIMEZONE
TZID:America/New_York
BEGIN:DAYLIGHT
TZOFFSETFROM:-0500
TZOFFSETTO:-0400
TZNAME:EDT
DTSTART:20240310T070000
END:DAYLIGHT
BEGIN:STANDARD
TZOFFSETFROM:-0400
TZOFFSETTO:-0500
TZNAME:EST
DTSTART:20241103T060000
END:STANDARD
BEGIN:DAYLIGHT
TZOFFSETFROM:-0500
TZOFFSETTO:-0400
TZNAME:EDT
DTSTART:20250309T070000
END:DAYLIGHT
BEGIN:STANDARD
TZOFFSETFROM:-0400
TZOFFSETTO:-0500
TZNAME:EST
DTSTART:20251102T060000
END:STANDARD
END:VTIMEZONE
BEGIN:VEVENT
DTSTART;TZID=America/New_York:20250221T193000
DTEND;TZID=America/New_York:20250221T223000
DTSTAMP:20260423T213420
CREATED:20250131T023352Z
LAST-MODIFIED:20250131T023352Z
UID:27868-1740166200-1740177000@bcbsg.org
SUMMARY:Bible Study - in person & online
DESCRIPTION:週五晚上7:30\n學習希伯來書4:14 \n信徒組實體聚會，福音組hybrid聚會。 \n歡迎加入我們！ \n“我們不致消滅，是出於耶和華諸般的慈愛，是因他的憐憫不至斷絕。每早晨這都是新的，你的誠實極其廣大。我心裡說：「耶和華是我的份，因此我要仰望他。」”（耶利米哀歌‬ ‭3:22-24‬）
URL:https://bcbsg.org/event/bible-study-in-person-online-17/
CATEGORIES:Bible Study
END:VEVENT
BEGIN:VEVENT
DTSTART;TZID=America/New_York:20250214T193000
DTEND;TZID=America/New_York:20250214T223000
DTSTAMP:20260423T213420
CREATED:20250131T023303Z
LAST-MODIFIED:20250131T023303Z
UID:27866-1739561400-1739572200@bcbsg.org
SUMMARY:Bible Study - in person & online
DESCRIPTION:週五晚上7:30\n學習希伯來書4:12-13 \n信徒組實體聚會，福音組hybrid聚會。 \n歡迎加入我們！ \n“我們不致消滅，是出於耶和華諸般的慈愛，是因他的憐憫不至斷絕。每早晨這都是新的，你的誠實極其廣大。我心裡說：「耶和華是我的份，因此我要仰望他。」”（耶利米哀歌‬ ‭3:22-24‬）
URL:https://bcbsg.org/event/bible-study-in-person-online-16/
CATEGORIES:Bible Study
END:VEVENT
BEGIN:VEVENT
DTSTART;TZID=America/New_York:20250207T193000
DTEND;TZID=America/New_York:20250207T223000
DTSTAMP:20260423T213420
CREATED:20250131T023204Z
LAST-MODIFIED:20250131T023204Z
UID:27864-1738956600-1738967400@bcbsg.org
SUMMARY:Bible Study - in person & online
DESCRIPTION:週五晚上7:30\n學習希伯來書4:10-11 \n信徒組實體聚會，福音組hybrid聚會。 \n歡迎加入我們！ \n“我們不致消滅，是出於耶和華諸般的慈愛，是因他的憐憫不至斷絕。每早晨這都是新的，你的誠實極其廣大。我心裡說：「耶和華是我的份，因此我要仰望他。」”（耶利米哀歌‬ ‭3:22-24‬）
URL:https://bcbsg.org/event/bible-study-in-person-online-15/
CATEGORIES:Bible Study
END:VEVENT
BEGIN:VEVENT
DTSTART;TZID=America/New_York:20250131T193000
DTEND;TZID=America/New_York:20250131T223000
DTSTAMP:20260423T213420
CREATED:20250103T010137Z
LAST-MODIFIED:20250131T022404Z
UID:27850-1738351800-1738362600@bcbsg.org
SUMMARY:Small Group Night
DESCRIPTION:本晚無聚會。請聯絡小組長參加小組活動。
URL:https://bcbsg.org/event/small-group-night-11/
CATEGORIES:Bible Study
END:VEVENT
BEGIN:VEVENT
DTSTART;TZID=America/New_York:20250124T193000
DTEND;TZID=America/New_York:20250124T223000
DTSTAMP:20260423T213420
CREATED:20250103T010039Z
LAST-MODIFIED:20250103T010039Z
UID:27848-1737747000-1737757800@bcbsg.org
SUMMARY:Bible Study - in person & online
DESCRIPTION:週五晚上7:30\n學習希伯來書4:6-9 \n信徒組實體聚會，福音組hybrid聚會。 \n歡迎加入我們！ \n“我們不致消滅，是出於耶和華諸般的慈愛，是因他的憐憫不至斷絕。每早晨這都是新的，你的誠實極其廣大。我心裡說：「耶和華是我的份，因此我要仰望他。」”（耶利米哀歌‬ ‭3:22-24‬）
URL:https://bcbsg.org/event/bible-study-in-person-online-14/
CATEGORIES:Bible Study
END:VEVENT
BEGIN:VEVENT
DTSTART;TZID=America/New_York:20250117T193000
DTEND;TZID=America/New_York:20250117T223000
DTSTAMP:20260423T213420
CREATED:20250103T005939Z
LAST-MODIFIED:20250103T005939Z
UID:27846-1737142200-1737153000@bcbsg.org
SUMMARY:Bible Study - in person & online
DESCRIPTION:週五晚上7:30\n學習希伯來書4:2-5 \n信徒組實體聚會，福音組hybrid聚會。 \n歡迎加入我們！ \n“我們不致消滅，是出於耶和華諸般的慈愛，是因他的憐憫不至斷絕。每早晨這都是新的，你的誠實極其廣大。我心裡說：「耶和華是我的份，因此我要仰望他。」”（耶利米哀歌‬ ‭3:22-24‬）
URL:https://bcbsg.org/event/bible-study-in-person-online-13/
CATEGORIES:Bible Study
END:VEVENT
BEGIN:VEVENT
DTSTART;TZID=America/New_York:20250110T193000
DTEND;TZID=America/New_York:20250110T223000
DTSTAMP:20260423T213420
CREATED:20250103T005822Z
LAST-MODIFIED:20250103T005822Z
UID:27844-1736537400-1736548200@bcbsg.org
SUMMARY:Bible Study - in person & online
DESCRIPTION:週五晚上7:30\n學習希伯來書4:1 \n信徒組實體聚會，福音組hybrid聚會。 \n歡迎加入我們！ \n“我們不致消滅，是出於耶和華諸般的慈愛，是因他的憐憫不至斷絕。每早晨這都是新的，你的誠實極其廣大。我心裡說：「耶和華是我的份，因此我要仰望他。」”（耶利米哀歌‬ ‭3:22-24‬）
URL:https://bcbsg.org/event/bible-study-in-person-online-12/
CATEGORIES:Bible Study
END:VEVENT
BEGIN:VEVENT
DTSTART;TZID=America/New_York:20250105T133000
DTEND;TZID=America/New_York:20250105T173000
DTSTAMP:20260423T213420
CREATED:20241103T034130Z
LAST-MODIFIED:20241103T034130Z
UID:27821-1736083800-1736098200@bcbsg.org
SUMMARY:Monthly Prayer Meeting
DESCRIPTION:Jenny will lead this prayer meeting
URL:https://bcbsg.org/event/monthly-prayer-meeting-11/
CATEGORIES:Monthly Prayer Meeting
END:VEVENT
BEGIN:VEVENT
DTSTART;TZID=America/New_York:20250103T193000
DTEND;TZID=America/New_York:20250103T223000
DTSTAMP:20260423T213420
CREATED:20241206T011307Z
LAST-MODIFIED:20241206T011307Z
UID:27837-1735932600-1735943400@bcbsg.org
SUMMARY:Bible Study - in person & online
DESCRIPTION:週五晚上7:30\n學習希伯來書3:15-19 \n信徒組實體聚會，福音組hybrid聚會。 \n歡迎加入我們！ \n“我們不致消滅，是出於耶和華諸般的慈愛，是因他的憐憫不至斷絕。每早晨這都是新的，你的誠實極其廣大。我心裡說：「耶和華是我的份，因此我要仰望他。」”（耶利米哀歌‬ ‭3:22-24‬）
URL:https://bcbsg.org/event/bible-study-in-person-online-11/
CATEGORIES:Bible Study
END:VEVENT
BEGIN:VEVENT
DTSTART;TZID=America/New_York:20241227T193000
DTEND;TZID=America/New_York:20241227T223000
DTSTAMP:20260423T213420
CREATED:20241206T010919Z
LAST-MODIFIED:20241206T010919Z
UID:27833-1735327800-1735338600@bcbsg.org
SUMMARY:Winter Recess
DESCRIPTION:Winter Recess. No Bible study this week.\nHappy New Year!
URL:https://bcbsg.org/event/winter-recess-2/
CATEGORIES:Bible Study
END:VEVENT
BEGIN:VEVENT
DTSTART;TZID=America/New_York:20241220T193000
DTEND;TZID=America/New_York:20241220T223000
DTSTAMP:20260423T213420
CREATED:20241206T011132Z
LAST-MODIFIED:20241212T061822Z
UID:27835-1734723000-1734733800@bcbsg.org
SUMMARY:Christmas Program
DESCRIPTION:週五晚上7:30\n我們將舉行聖誕節特別活動 \n歡迎加入我們！ \n“我們不致消滅，是出於耶和華諸般的慈愛；是因他的憐憫不致斷絕。每早晨，這都是新的；你的誠實極其廣大！我心裏說：耶和華是我的分，因此，我要仰望他。” (‭耶利米哀歌‬ ‭3:22-24‬)
URL:https://bcbsg.org/event/christmas-program/
CATEGORIES:Bible Study
ATTACH;FMTTYPE=image/png:https://bcbsg.org/wp-content/uploads/2024/12/2024-Christmas.png
END:VEVENT
BEGIN:VEVENT
DTSTART;TZID=America/New_York:20241213T193000
DTEND;TZID=America/New_York:20241213T223000
DTSTAMP:20260423T213420
CREATED:20241206T010626Z
LAST-MODIFIED:20241206T010701Z
UID:27830-1734118200-1734129000@bcbsg.org
SUMMARY:Bible Study - in person & online
DESCRIPTION:週五晚上7:30\n學習希伯來書3:12-14 \n信徒組實體聚會，福音組hybrid聚會。 \n歡迎加入我們！ \n“我們不致消滅，是出於耶和華諸般的慈愛，是因他的憐憫不至斷絕。每早晨這都是新的，你的誠實極其廣大。我心裡說：「耶和華是我的份，因此我要仰望他。」”（耶利米哀歌‬ ‭3:22-24‬）
URL:https://bcbsg.org/event/bible-study-in-person-online-10/
CATEGORIES:Bible Study
END:VEVENT
BEGIN:VEVENT
DTSTART;TZID=America/New_York:20241206T193000
DTEND;TZID=America/New_York:20241206T223000
DTSTAMP:20260423T213420
CREATED:20241201T034902Z
LAST-MODIFIED:20241201T034902Z
UID:27827-1733513400-1733524200@bcbsg.org
SUMMARY:Bible Study - in person & online
DESCRIPTION:週五晚上7:30\n學習希伯來書3:7-11 (2) \n信徒組實體聚會，福音組hybrid聚會。 \n歡迎加入我們！ \n“我們不致消滅，是出於耶和華諸般的慈愛，是因他的憐憫不至斷絕。每早晨這都是新的，你的誠實極其廣大。我心裡說：「耶和華是我的份，因此我要仰望他。」”（耶利米哀歌‬ ‭3:22-24‬）
URL:https://bcbsg.org/event/bible-study-in-person-online-9/
CATEGORIES:Bible Study
END:VEVENT
BEGIN:VEVENT
DTSTART;TZID=America/New_York:20241201T133000
DTEND;TZID=America/New_York:20241201T173000
DTSTAMP:20260423T213420
CREATED:20241103T033948Z
LAST-MODIFIED:20241103T034018Z
UID:27819-1733059800-1733074200@bcbsg.org
SUMMARY:Monthly Prayer Meeting
DESCRIPTION:Shuai will lead this prayer meeting
URL:https://bcbsg.org/event/monthly-prayer-meeting-10/
CATEGORIES:Monthly Prayer Meeting
END:VEVENT
BEGIN:VEVENT
DTSTART;TZID=America/New_York:20241129T193000
DTEND;TZID=America/New_York:20241129T223000
DTSTAMP:20260423T213420
CREATED:20241103T033550Z
LAST-MODIFIED:20241103T033550Z
UID:27816-1732908600-1732919400@bcbsg.org
SUMMARY:Small Group Night
DESCRIPTION:本晚無聚會。請聯絡小組長參加小組活動。
URL:https://bcbsg.org/event/small-group-night-10/
CATEGORIES:Bible Study
END:VEVENT
BEGIN:VEVENT
DTSTART;TZID=America/New_York:20241122T193000
DTEND;TZID=America/New_York:20241122T223000
DTSTAMP:20260423T213420
CREATED:20241103T033305Z
LAST-MODIFIED:20241201T034905Z
UID:27814-1732303800-1732314600@bcbsg.org
SUMMARY:Bible Study - in person & online
DESCRIPTION:週五晚上7:30\n學習希伯來書3:7-11 (1) \n信徒組實體聚會，福音組hybrid聚會。 \n歡迎加入我們！ \n“我們不致消滅，是出於耶和華諸般的慈愛，是因他的憐憫不至斷絕。每早晨這都是新的，你的誠實極其廣大。我心裡說：「耶和華是我的份，因此我要仰望他。」”（耶利米哀歌‬ ‭3:22-24‬）
URL:https://bcbsg.org/event/bible-study-in-person-online-8/
CATEGORIES:Bible Study
END:VEVENT
BEGIN:VEVENT
DTSTART;TZID=America/New_York:20241115T193000
DTEND;TZID=America/New_York:20241115T223000
DTSTAMP:20260423T213420
CREATED:20241103T033132Z
LAST-MODIFIED:20241103T033132Z
UID:27812-1731699000-1731709800@bcbsg.org
SUMMARY:Bible Study - in person & online
DESCRIPTION:週五晚上7:30\n學習希伯來書3:2-6 \n信徒組實體聚會，福音組hybrid聚會。 \n歡迎加入我們！ \n“我們不致消滅，是出於耶和華諸般的慈愛，是因他的憐憫不至斷絕。每早晨這都是新的，你的誠實極其廣大。我心裡說：「耶和華是我的份，因此我要仰望他。」”（耶利米哀歌‬ ‭3:22-24‬）
URL:https://bcbsg.org/event/bible-study-in-person-online-7/
CATEGORIES:Bible Study
END:VEVENT
BEGIN:VEVENT
DTSTART;TZID=America/New_York:20241108T193000
DTEND;TZID=America/New_York:20241108T223000
DTSTAMP:20260423T213420
CREATED:20241103T032653Z
LAST-MODIFIED:20241103T032741Z
UID:27806-1731094200-1731105000@bcbsg.org
SUMMARY:Bible Study - in person & online
DESCRIPTION:週五晚上7:30\n學習希伯來書3:1 \n信徒組實體聚會，福音組hybrid聚會。 \n歡迎加入我們！ \n“我們不致消滅，是出於耶和華諸般的慈愛，是因他的憐憫不至斷絕。每早晨這都是新的，你的誠實極其廣大。我心裡說：「耶和華是我的份，因此我要仰望他。」”（耶利米哀歌‬ ‭3:22-24‬）
URL:https://bcbsg.org/event/bible-study-in-person-online-6/
CATEGORIES:Bible Study
END:VEVENT
BEGIN:VEVENT
DTSTART;TZID=America/New_York:20241103T133000
DTEND;TZID=America/New_York:20241103T173000
DTSTAMP:20260423T213420
CREATED:20241103T033801Z
LAST-MODIFIED:20241103T033846Z
UID:27671-1730640600-1730655000@bcbsg.org
SUMMARY:Monthly Prayer Meeting
DESCRIPTION:Han-Ting will lead this prayer meetingock; width: 0px; overflow: hidden; line-height: 0;” class=”mce_SELRES_start”>
URL:https://bcbsg.org/event/monthly-prayer-meeting-9/
CATEGORIES:Monthly Prayer Meeting
END:VEVENT
BEGIN:VEVENT
DTSTART;TZID=America/New_York:20241101T193000
DTEND;TZID=America/New_York:20241101T223000
DTSTAMP:20260423T213420
CREATED:20241027T022741Z
LAST-MODIFIED:20241027T022741Z
UID:27804-1730489400-1730500200@bcbsg.org
SUMMARY:Small Group Night
DESCRIPTION:本晚無聚會。請聯絡小組長參加小組活動。
URL:https://bcbsg.org/event/small-group-night-9/
CATEGORIES:Bible Study
END:VEVENT
BEGIN:VEVENT
DTSTART;TZID=America/New_York:20241025T193000
DTEND;TZID=America/New_York:20241025T223000
DTSTAMP:20260423T213421
CREATED:20241011T002329Z
LAST-MODIFIED:20241103T032931Z
UID:27802-1729884600-1729895400@bcbsg.org
SUMMARY:Bible Study - in person & online
DESCRIPTION:週五晚上7:30\n學習希伯來書2:17-18 \n信徒組實體聚會，福音組hybrid聚會。 \n歡迎加入我們！ \n“我們不致消滅，是出於耶和華諸般的慈愛，是因他的憐憫不至斷絕。每早晨這都是新的，你的誠實極其廣大。我心裡說：「耶和華是我的份，因此我要仰望他。」”（耶利米哀歌‬ ‭3:22-24‬）
URL:https://bcbsg.org/event/bible-study-in-person-online-5/
CATEGORIES:Bible Study
END:VEVENT
BEGIN:VEVENT
DTSTART;TZID=America/New_York:20241019T090000
DTEND;TZID=America/New_York:20241019T170000
DTSTAMP:20260423T213421
CREATED:20241011T002149Z
LAST-MODIFIED:20241011T002149Z
UID:27800-1729328400-1729357200@bcbsg.org
SUMMARY:Foliage trip
DESCRIPTION:請聯絡小組長參加團契賞楓活動。ock; width: 0px; overflow: hidden; line-height: 0;” class=”mce_SELRES_start”>
URL:https://bcbsg.org/event/foliage-trip/
CATEGORIES:Bible Study
END:VEVENT
BEGIN:VEVENT
DTSTART;TZID=America/New_York:20241011T193000
DTEND;TZID=America/New_York:20241011T223000
DTSTAMP:20260423T213421
CREATED:20241004T212409Z
LAST-MODIFIED:20241103T032847Z
UID:27796-1728675000-1728685800@bcbsg.org
SUMMARY:Bible Study - in person & online
DESCRIPTION:週五晚上7:30\n學習希伯來書2:14-16 \n信徒組實體聚會，福音組hybrid聚會。 \n歡迎加入我們！ \n“我們不致消滅，是出於耶和華諸般的慈愛，是因他的憐憫不至斷絕。每早晨這都是新的，你的誠實極其廣大。我心裡說：「耶和華是我的份，因此我要仰望他。」”（耶利米哀歌‬ ‭3:22-24‬）
URL:https://bcbsg.org/event/bible-study-in-person-online-4/
CATEGORIES:Bible Study
END:VEVENT
BEGIN:VEVENT
DTSTART;TZID=America/New_York:20241004T193000
DTEND;TZID=America/New_York:20241004T223000
DTSTAMP:20260423T213421
CREATED:20240927T210858Z
LAST-MODIFIED:20241103T032956Z
UID:27792-1728070200-1728081000@bcbsg.org
SUMMARY:Bible Study - in person & online
DESCRIPTION:週五晚上7:30\n學習希伯來書2:11-13 \n信徒組實體聚會，福音組hybrid聚會。 \n歡迎加入我們！ \n“我們不致消滅，是出於耶和華諸般的慈愛，是因他的憐憫不至斷絕。每早晨這都是新的，你的誠實極其廣大。我心裡說：「耶和華是我的份，因此我要仰望他。」”（耶利米哀歌‬ ‭3:22-24‬）
URL:https://bcbsg.org/event/bible-study-in-person-online-3/
CATEGORIES:Bible Study
END:VEVENT
BEGIN:VEVENT
DTSTART;TZID=America/New_York:20240927T193000
DTEND;TZID=America/New_York:20240927T223000
DTSTAMP:20260423T213421
CREATED:20240922T165241Z
LAST-MODIFIED:20240922T165241Z
UID:27790-1727465400-1727476200@bcbsg.org
SUMMARY:Bible Study - in person & online
DESCRIPTION:週五晚上7:30\n復習希伯來書1-2:10 \n信徒組實體聚會，福音組hybrid聚會。 \n歡迎加入我們！ \n“我們不致消滅，是出於耶和華諸般的慈愛，是因他的憐憫不至斷絕。每早晨這都是新的，你的誠實極其廣大。我心裡說：「耶和華是我的份，因此我要仰望他。」”（耶利米哀歌‬ ‭3:22-24‬）
URL:https://bcbsg.org/event/bible-study-in-person-online-2/
CATEGORIES:Bible Study
END:VEVENT
BEGIN:VEVENT
DTSTART;TZID=America/New_York:20240920T193000
DTEND;TZID=America/New_York:20240920T223000
DTSTAMP:20260423T213421
CREATED:20240606T014108Z
LAST-MODIFIED:20240606T014108Z
UID:27768-1726860600-1726871400@bcbsg.org
SUMMARY:Bible Study - in person & online
DESCRIPTION:週五晚上7:30\n復習希伯來書1-2:10 \n信徒組實體聚會，福音組hybrid聚會。 \n歡迎加入我們！ \n“我們不致消滅，是出於耶和華諸般的慈愛，是因他的憐憫不至斷絕。每早晨這都是新的，你的誠實極其廣大。我心裡說：「耶和華是我的份，因此我要仰望他。」”（耶利米哀歌‬ ‭3:22-24‬）
URL:https://bcbsg.org/event/bible-study-in-person-online/
CATEGORIES:Bible Study
END:VEVENT
BEGIN:VEVENT
DTSTART;TZID=America/New_York:20240914T080000
DTEND;TZID=America/New_York:20240914T170000
DTSTAMP:20260423T213421
CREATED:20240606T013843Z
LAST-MODIFIED:20240908T054846Z
UID:27766-1726300800-1726333200@bcbsg.org
SUMMARY:迎新活動 Welcoming Party
DESCRIPTION:我們將於本週六舉辦迎新活動\, 歡迎大家屆時參加！
URL:https://bcbsg.org/event/%e8%bf%8e%e6%96%b0%e6%b4%bb%e5%8b%95-welcoming-party/
CATEGORIES:Bible Study
ATTACH;FMTTYPE=image/jpeg:https://bcbsg.org/wp-content/uploads/2024/09/2024-welcoming-party-scaled.jpg
END:VEVENT
BEGIN:VEVENT
DTSTART;TZID=America/New_York:20240906T193000
DTEND;TZID=America/New_York:20240906T223000
DTSTAMP:20260423T213421
CREATED:20240605T161002Z
LAST-MODIFIED:20240605T161002Z
UID:27742-1725651000-1725661800@bcbsg.org
SUMMARY:Summer Book Study - in person & online
DESCRIPTION:週五晚上7:30\n信徒組實體聚會，討論重松謙(Ken Shigematsu)的《不忙碌的門徒》(God in my everything: how an ancient rhythm helps busy people enjoy God) \n福音組hybrid聚會，討論學習福音視頻 \n歡迎加入我們！ \n“我們不致消滅，是出於耶和華諸般的慈愛，是因他的憐憫不至斷絕。每早晨這都是新的，你的誠實極其廣大。我心裡說：「耶和華是我的份，因此我要仰望他。」”（耶利米哀歌‬ ‭3:22-24‬）
URL:https://bcbsg.org/event/summer-book-study-in-person-online-8/
CATEGORIES:Bible Study
END:VEVENT
BEGIN:VEVENT
DTSTART;TZID=America/New_York:20240901T140000
DTEND;TZID=America/New_York:20240901T173000
DTSTAMP:20260423T213421
CREATED:20240606T013105Z
LAST-MODIFIED:20240606T013105Z
UID:27753-1725199200-1725211800@bcbsg.org
SUMMARY:Monthly Prayer Meeting
DESCRIPTION:Jenny will lead this prayer meetingock; width: 0px; overflow: hidden; line-height: 0;” class=”mce_SELRES_start”>
URL:https://bcbsg.org/event/monthly-prayer-meeting-8/
CATEGORIES:Monthly Prayer Meeting
END:VEVENT
BEGIN:VEVENT
DTSTART;TZID=America/New_York:20240830T193000
DTEND;TZID=America/New_York:20240830T223000
DTSTAMP:20260423T213421
CREATED:20240605T160928Z
LAST-MODIFIED:20240605T160928Z
UID:27740-1725046200-1725057000@bcbsg.org
SUMMARY:Summer Book Study - in person & online
DESCRIPTION:週五晚上7:30\n信徒組實體聚會，討論重松謙(Ken Shigematsu)的《不忙碌的門徒》(God in my everything: how an ancient rhythm helps busy people enjoy God) \n福音組hybrid聚會，討論學習福音視頻 \n歡迎加入我們！ \n“我們不致消滅，是出於耶和華諸般的慈愛，是因他的憐憫不至斷絕。每早晨這都是新的，你的誠實極其廣大。我心裡說：「耶和華是我的份，因此我要仰望他。」”（耶利米哀歌‬ ‭3:22-24‬）
URL:https://bcbsg.org/event/summer-book-study-in-person-online-7/
CATEGORIES:Bible Study
END:VEVENT
END:VCALENDAR